BEGIN:VCALENDAR
VERSION:2.0
PRODID:-//PRLS Support Site - ECPv6.15.17.1//NONSGML v1.0//EN
CALSCALE:GREGORIAN
METHOD:PUBLISH
X-WR-CALNAME:PRLS Support Site
X-ORIGINAL-URL:https://support.prl.ab.ca
X-WR-CALDESC:Events for PRLS Support Site
REFRESH-INTERVAL;VALUE=DURATION:PT1H
X-Robots-Tag:noindex
X-PUBLISHED-TTL:PT1H
BEGIN:VTIMEZONE
TZID:America/Edmonton
BEGIN:DAYLIGHT
TZOFFSETFROM:-0700
TZOFFSETTO:-0600
TZNAME:MDT
DTSTART:20250309T090000
END:DAYLIGHT
BEGIN:STANDARD
TZOFFSETFROM:-0600
TZOFFSETTO:-0700
TZNAME:MST
DTSTART:20251102T080000
END:STANDARD
BEGIN:DAYLIGHT
TZOFFSETFROM:-0700
TZOFFSETTO:-0600
TZNAME:MDT
DTSTART:20260308T090000
END:DAYLIGHT
BEGIN:STANDARD
TZOFFSETFROM:-0600
TZOFFSETTO:-0700
TZNAME:MST
DTSTART:20261101T080000
END:STANDARD
BEGIN:DAYLIGHT
TZOFFSETFROM:-0700
TZOFFSETTO:-0600
TZNAME:MDT
DTSTART:20270314T090000
END:DAYLIGHT
BEGIN:STANDARD
TZOFFSETFROM:-0600
TZOFFSETTO:-0700
TZNAME:MST
DTSTART:20271107T080000
END:STANDARD
END:VTIMEZONE
BEGIN:VEVENT
DTSTART;VALUE=DATE:20260305
DTEND;VALUE=DATE:20260306
DTSTAMP:20260419T114208
CREATED:20251120T182415Z
LAST-MODIFIED:20251120T182415Z
UID:5774-1772668800-1772755199@support.prl.ab.ca
SUMMARY:World Book Day
DESCRIPTION:
URL:https://support.prl.ab.ca/index.php/event/world-book-day-2/
LOCATION:alberta
CATEGORIES:Notable Dates
END:VEVENT
BEGIN:VEVENT
DTSTART;TZID=America/Edmonton:20260309T100000
DTEND;TZID=America/Edmonton:20260309T120000
DTSTAMP:20260419T114208
CREATED:20251120T190132Z
LAST-MODIFIED:20260219T162044Z
UID:5840-1773050400-1773057600@support.prl.ab.ca
SUMMARY:PLC Meeting (Hybrid)
DESCRIPTION:Registration has closed for this event. If you have registered\, you will receive a calendar invite for the PLC meeting and the training if you have indicated you are attending. If you are attending virtually\, you will need to click on the meeting link in the calendar invite on the day of the meeting. If you are attending in person\, please try to arrive 10-15 minutes before the meeting starts at 10 am.\nA meeting package\, including the agenda and background material for each topic\, will be sent out by email at least one week before the meeting. Please read the package to prepare for the meeting. Bring insights and ideas from you and your staff!\nIf you have any questions\, please reach out to libraryservices@prl.ab.ca. Thank you and we hope to see you in March!
URL:https://support.prl.ab.ca/index.php/event/plc-meeting-4/
LOCATION:alberta
CATEGORIES:Notable Dates,PLC,Professional Development
END:VEVENT
BEGIN:VEVENT
DTSTART;TZID=America/Edmonton:20260309T130000
DTEND;TZID=America/Edmonton:20260309T150000
DTSTAMP:20260419T114208
CREATED:20260106T211958Z
LAST-MODIFIED:20260219T162125Z
UID:5957-1773061200-1773068400@support.prl.ab.ca
SUMMARY:Post PLC Training - New Privacy Legislation (Hybrid)
DESCRIPTION:Registration has closed for this event. If you have registered\, you will receive a calendar invite for the training if you have indicated you are attending. If you are attending virtually\, you will need to click on the meeting link in the calendar invite on the day of the meeting. If you are attending in person\, please try to arrive 10-15 minutes before the meeting starts at 10 am.\nIf you have any questions\, please reach out to libraryservices@prl.ab.ca. Thank you and we hope to see you in March!
URL:https://support.prl.ab.ca/index.php/event/post-plc-training-new-privacy-legislation-hybrid/
LOCATION:alberta
CATEGORIES:Professional Development
END:VEVENT
BEGIN:VEVENT
DTSTART;TZID=America/Edmonton:20260316T080000
DTEND;TZID=America/Edmonton:20260318T170000
DTSTAMP:20260419T114208
CREATED:20251120T182511Z
LAST-MODIFIED:20251120T182511Z
UID:5776-1773648000-1773853200@support.prl.ab.ca
SUMMARY:Rural Municipalities of Alberta Spring Convention
DESCRIPTION:
URL:https://support.prl.ab.ca/index.php/event/rural-municipalities-of-alberta-spring-convention-2/
LOCATION:alberta
CATEGORIES:Conferences,Event,Notable Dates,PRL Board
END:VEVENT
BEGIN:VEVENT
DTSTART;TZID=America/Edmonton:20260317T080000
DTEND;TZID=America/Edmonton:20260320T170000
DTSTAMP:20260419T114208
CREATED:20251120T182730Z
LAST-MODIFIED:20251216T201227Z
UID:5778-1773734400-1774026000@support.prl.ab.ca
SUMMARY:Canada Reads Debates on CBC
DESCRIPTION:
URL:https://support.prl.ab.ca/index.php/event/canada-reads-debates-on-cbc-2/
LOCATION:alberta
CATEGORIES:Event,Notable Dates
END:VEVENT
BEGIN:VEVENT
DTSTART;VALUE=DATE:20260319
DTEND;VALUE=DATE:20260320
DTSTAMP:20260419T114208
CREATED:20251120T182800Z
LAST-MODIFIED:20251120T182800Z
UID:5780-1773878400-1773964799@support.prl.ab.ca
SUMMARY:International Read to Me Day
DESCRIPTION:
URL:https://support.prl.ab.ca/index.php/event/international-read-to-me-day-2/
LOCATION:alberta
CATEGORIES:Notable Dates
END:VEVENT
BEGIN:VEVENT
DTSTART;VALUE=DATE:20260320
DTEND;VALUE=DATE:20260321
DTSTAMP:20260419T114208
CREATED:20251120T182945Z
LAST-MODIFIED:20251120T182945Z
UID:5782-1773964800-1774051199@support.prl.ab.ca
SUMMARY:World Storytelling Day
DESCRIPTION:
URL:https://support.prl.ab.ca/index.php/event/world-storytelling-day-3/
LOCATION:alberta
CATEGORIES:Notable Dates
END:VEVENT
BEGIN:VEVENT
DTSTART;VALUE=DATE:20260321
DTEND;VALUE=DATE:20260322
DTSTAMP:20260419T114208
CREATED:20251120T183018Z
LAST-MODIFIED:20251120T183018Z
UID:5784-1774051200-1774137599@support.prl.ab.ca
SUMMARY:World Poetry Day
DESCRIPTION:
URL:https://support.prl.ab.ca/index.php/event/world-poetry-day-3/
LOCATION:alberta
CATEGORIES:Notable Dates
END:VEVENT
BEGIN:VEVENT
DTSTART;TZID=America/Edmonton:20260323T100000
DTEND;TZID=America/Edmonton:20260323T150000
DTSTAMP:20260419T114208
CREATED:20260106T212316Z
LAST-MODIFIED:20260218T221524Z
UID:5961-1774260000-1774278000@support.prl.ab.ca
SUMMARY:Indigenous Sharing Circle Gathering (In-Person)
DESCRIPTION:We would like to invite you to register for the first Indigenous Sharing Circle Gathering of the year\, hosted by the wonderful Maria Buffalo and Billy Bruno in Maskwacis. This will be a full day of in-person learning at the Howard Buffalo Memorial Centre in Maskwacis on Monday\, March 23 from 10am – 3pm.\nAs Maria and Billy have been planning for this event\, it has blossomed into an interactive sharing circle of knowledge where topics will be shared that are valuable for any library staff member. This is an excellent opportunity for anyone and everyone working in libraries to learn about Indigenous cultures\, Truth & Reconciliation\, protocol\, ask questions\, and be a part of this important conversation and relationship-building.\nIn addition to a sharing and learning circle\, there will also be a tour of the Museum & Archives in Maskwacis as part of the day. Lunch and snacks will be provided for this full day event.\nThe registration for this event will be capped at 24 people\, on a first come\, first served basis. There will also be a waitlist for this event so if you are unable to attend but have registered\, please let Paige know at pmueller@prl.ab.ca so that someone else can take your spot and benefit from the training. Maria and Billy will be hosting another Sharing Circle Gathering in Maskwacis on October 2\, so if you don’t get a spot in March\, you will have another chance to attend later in the year.\nDue to the limited space in this program\, we ask that no more than two people per library register.\nRegister here: https://parklandab.wufoo.com/forms/zk224xq1gqct4l/\nThe registration deadline will be February 23\, 2026.\nPlease Note: This event will be happening in person only and will not be recorded. To be respectful and create an environment for learning and sharing\, attendees should plan to attend the entire event. 
URL:https://support.prl.ab.ca/index.php/event/indigenous-sharing-circle-gathering-in-person/
LOCATION:Maskwacis Library Service\, Howard Buffalo Memorial Centre 52A AB-611\, Maskwacis\, AB T4J 1R1\, Maskwacis
CATEGORIES:Event
END:VEVENT
BEGIN:VEVENT
DTSTART;TZID=America/Edmonton:20260326T100000
DTEND;TZID=America/Edmonton:20260326T120000
DTSTAMP:20260419T114208
CREATED:20251120T190244Z
LAST-MODIFIED:20260123T201549Z
UID:5843-1774519200-1774526400@support.prl.ab.ca
SUMMARY:Executive Committee Meeting
DESCRIPTION:Parkland Regional Library System Board selects an Executive Committee to conduct business in between board meetings. It is composed of 10 members of the Parkland Board\, and they meet 6 times per year.
URL:https://support.prl.ab.ca/index.php/event/executive-committee-meeting-9/
LOCATION:alberta
CATEGORIES:PRL Board
END:VEVENT
END:VCALENDAR