BEGIN:VCALENDAR
VERSION:2.0
PRODID:-//PRLS Support Site - ECPv6.15.17.1//NONSGML v1.0//EN
CALSCALE:GREGORIAN
METHOD:PUBLISH
X-WR-CALNAME:PRLS Support Site
X-ORIGINAL-URL:https://support.prl.ab.ca
X-WR-CALDESC:Events for PRLS Support Site
REFRESH-INTERVAL;VALUE=DURATION:PT1H
X-Robots-Tag:noindex
X-PUBLISHED-TTL:PT1H
BEGIN:VTIMEZONE
TZID:America/Edmonton
BEGIN:DAYLIGHT
TZOFFSETFROM:-0700
TZOFFSETTO:-0600
TZNAME:MDT
DTSTART:20190310T090000
END:DAYLIGHT
BEGIN:STANDARD
TZOFFSETFROM:-0600
TZOFFSETTO:-0700
TZNAME:MST
DTSTART:20191103T080000
END:STANDARD
BEGIN:DAYLIGHT
TZOFFSETFROM:-0700
TZOFFSETTO:-0600
TZNAME:MDT
DTSTART:20200308T090000
END:DAYLIGHT
BEGIN:STANDARD
TZOFFSETFROM:-0600
TZOFFSETTO:-0700
TZNAME:MST
DTSTART:20201101T080000
END:STANDARD
BEGIN:DAYLIGHT
TZOFFSETFROM:-0700
TZOFFSETTO:-0600
TZNAME:MDT
DTSTART:20210314T090000
END:DAYLIGHT
BEGIN:STANDARD
TZOFFSETFROM:-0600
TZOFFSETTO:-0700
TZNAME:MST
DTSTART:20211107T080000
END:STANDARD
BEGIN:DAYLIGHT
TZOFFSETFROM:-0700
TZOFFSETTO:-0600
TZNAME:MDT
DTSTART:20220313T090000
END:DAYLIGHT
BEGIN:STANDARD
TZOFFSETFROM:-0600
TZOFFSETTO:-0700
TZNAME:MST
DTSTART:20221106T080000
END:STANDARD
END:VTIMEZONE
BEGIN:VEVENT
DTSTART;VALUE=DATE:20210418
DTEND;VALUE=DATE:20210425
DTSTAMP:20260422T060752
CREATED:20191127T180355Z
LAST-MODIFIED:20210203T170059Z
UID:2001-1618704000-1619308799@support.prl.ab.ca
SUMMARY:National Volunteer Week
DESCRIPTION:National Volunteer Week takes place from April 18th to 24th\, 2021
URL:https://support.prl.ab.ca/index.php/event/national-volunteers-week/
CATEGORIES:Notable Dates
END:VEVENT
BEGIN:VEVENT
DTSTART;TZID=America/Edmonton:20210402T083000
DTEND;TZID=America/Edmonton:20210405T163000
DTSTAMP:20260422T060752
CREATED:20210203T155920Z
LAST-MODIFIED:20210203T160116Z
UID:2913-1617352200-1617640200@support.prl.ab.ca
SUMMARY:PRL Headquarters Closed
DESCRIPTION:We will be closed for Easter on Friday\,  April 2 and Monday\, April 5\, 2021.
URL:https://support.prl.ab.ca/index.php/event/prl-headquarters-closed-2/
CATEGORIES:Holiday Closure
END:VEVENT
BEGIN:VEVENT
DTSTART;TZID=America/Edmonton:20201001T080000
DTEND;TZID=America/Edmonton:20201002T170000
DTSTAMP:20260422T060752
CREATED:20200610T154038Z
LAST-MODIFIED:20200811T170449Z
UID:2460-1601539200-1601658000@support.prl.ab.ca
SUMMARY:Stronger Together: Virtual Conference
DESCRIPTION:Unprecedented times call for unprecedented approaches to collaboration and connection. \n\n\n\n\n\n\nA joint effort of The Alberta Library\, Parkland Regional Library System\, Peace Library System and Yellowhead Regional Library\, Stronger Together is a virtual conference that you can attend without leaving your home or office. \nFeaturing 4 keynote speakers\, 24 session options and opportunities to engage and interact\, Stronger Together is designed for libraries and library trustees to connect and learn at a time when meeting in person isn’t possible. \nDate: October 1st & 2nd\, 2020 \nRegistration is now open. Register: https://strongertogether.heysummit.com/ 
URL:https://support.prl.ab.ca/index.php/event/stronger-together-virtual-conference/
CATEGORIES:Conferences
END:VEVENT
BEGIN:VEVENT
DTSTART;VALUE=DATE:20200925
DTEND;VALUE=DATE:20200928
DTSTAMP:20260422T060752
CREATED:20190905T164538Z
LAST-MODIFIED:20191128T164047Z
UID:1767-1600992000-1601251199@support.prl.ab.ca
SUMMARY:Alberta Culture Days
DESCRIPTION:“Alberta Culture Days is an opportunity for Albertans to discover\, experience and celebrate arts and culture through local events and activities across the province” \nResources: \nAlberta Culture Days- Government of Alberta Website \nAlberta Culture Days Website \nAlberta Culture Days Facebook page
URL:https://support.prl.ab.ca/index.php/event/alberta-culture-days/
CATEGORIES:Notable Dates
END:VEVENT
BEGIN:VEVENT
DTSTART;VALUE=DATE:20200901
DTEND;VALUE=DATE:20201001
DTSTAMP:20260422T060752
CREATED:20191127T162918Z
LAST-MODIFIED:20191127T162918Z
UID:1953-1598918400-1601510399@support.prl.ab.ca
SUMMARY:Library Card Sign Up Month
DESCRIPTION:“September is Library Card Sign-up Month\, a time when the American Library Association (ALA) and libraries nationwide join together to remind parents\, caregivers and students that signing up for a library card is the first step towards academic achievement and lifelong learning.” \n\nFrom the ALA Library Card Sign Up Month page\n\n 
URL:https://support.prl.ab.ca/index.php/event/library-card-sign-up-month-2/
CATEGORIES:Event
END:VEVENT
END:VCALENDAR