BEGIN:VCALENDAR
VERSION:2.0
PRODID:-//PRLS Support Site - ECPv6.15.17.1//NONSGML v1.0//EN
CALSCALE:GREGORIAN
METHOD:PUBLISH
X-WR-CALNAME:PRLS Support Site
X-ORIGINAL-URL:https://support.prl.ab.ca
X-WR-CALDESC:Events for PRLS Support Site
REFRESH-INTERVAL;VALUE=DURATION:PT1H
X-Robots-Tag:noindex
X-PUBLISHED-TTL:PT1H
BEGIN:VTIMEZONE
TZID:America/Edmonton
BEGIN:DAYLIGHT
TZOFFSETFROM:-0700
TZOFFSETTO:-0600
TZNAME:MDT
DTSTART:20210314T090000
END:DAYLIGHT
BEGIN:STANDARD
TZOFFSETFROM:-0600
TZOFFSETTO:-0700
TZNAME:MST
DTSTART:20211107T080000
END:STANDARD
BEGIN:DAYLIGHT
TZOFFSETFROM:-0700
TZOFFSETTO:-0600
TZNAME:MDT
DTSTART:20220313T090000
END:DAYLIGHT
BEGIN:STANDARD
TZOFFSETFROM:-0600
TZOFFSETTO:-0700
TZNAME:MST
DTSTART:20221106T080000
END:STANDARD
BEGIN:DAYLIGHT
TZOFFSETFROM:-0700
TZOFFSETTO:-0600
TZNAME:MDT
DTSTART:20230312T090000
END:DAYLIGHT
BEGIN:STANDARD
TZOFFSETFROM:-0600
TZOFFSETTO:-0700
TZNAME:MST
DTSTART:20231105T080000
END:STANDARD
BEGIN:DAYLIGHT
TZOFFSETFROM:-0700
TZOFFSETTO:-0600
TZNAME:MDT
DTSTART:20240310T090000
END:DAYLIGHT
BEGIN:STANDARD
TZOFFSETFROM:-0600
TZOFFSETTO:-0700
TZNAME:MST
DTSTART:20241103T080000
END:STANDARD
END:VTIMEZONE
BEGIN:VEVENT
DTSTART;VALUE=DATE:20231123
DTEND;VALUE=DATE:20231124
DTSTAMP:20260421T050810
CREATED:20230825T192229Z
LAST-MODIFIED:20230825T192229Z
UID:4089-1700697600-1700783999@support.prl.ab.ca
SUMMARY:Alberta Book Day
DESCRIPTION:Alberta Book Day
URL:https://support.prl.ab.ca/index.php/event/alberta-book-day/
END:VEVENT
BEGIN:VEVENT
DTSTART;VALUE=DATE:20231116
DTEND;VALUE=DATE:20231117
DTSTAMP:20260421T050810
CREATED:20230825T192200Z
LAST-MODIFIED:20230825T192200Z
UID:4087-1700092800-1700179199@support.prl.ab.ca
SUMMARY:Parkland Regional Library System Board Meeting
DESCRIPTION:Parkland Regional Library System Board Meeting
URL:https://support.prl.ab.ca/index.php/event/parkland-regional-library-system-board-meeting-2/
END:VEVENT
BEGIN:VEVENT
DTSTART;VALUE=DATE:20231116
DTEND;VALUE=DATE:20231117
DTSTAMP:20260421T050810
CREATED:20230825T192131Z
LAST-MODIFIED:20230825T192131Z
UID:4085-1700092800-1700179199@support.prl.ab.ca
SUMMARY:Louis Riel Day
DESCRIPTION:Louis Riel Day
URL:https://support.prl.ab.ca/index.php/event/louis-riel-day/
END:VEVENT
BEGIN:VEVENT
DTSTART;TZID=America/Edmonton:20231113T190000
DTEND;TZID=America/Edmonton:20231113T220000
DTSTAMP:20260421T050810
CREATED:20230825T185935Z
LAST-MODIFIED:20230825T185935Z
UID:4073-1699902000-1699912800@support.prl.ab.ca
SUMMARY:Giller Prize
DESCRIPTION:Giller Prize
URL:https://support.prl.ab.ca/index.php/event/giller-prize/
END:VEVENT
BEGIN:VEVENT
DTSTART;VALUE=DATE:20231108
DTEND;VALUE=DATE:20231109
DTSTAMP:20260421T050810
CREATED:20230825T191947Z
LAST-MODIFIED:20230825T192034Z
UID:4082-1699401600-1699487999@support.prl.ab.ca
SUMMARY:Indigenous Veterans Day
DESCRIPTION:Indigenous Veterans Day
URL:https://support.prl.ab.ca/index.php/event/indigenous-veterans-day/
END:VEVENT
BEGIN:VEVENT
DTSTART;VALUE=DATE:20231106
DTEND;VALUE=DATE:20231110
DTSTAMP:20260421T050810
CREATED:20230825T190626Z
LAST-MODIFIED:20230825T190626Z
UID:4080-1699228800-1699574399@support.prl.ab.ca
SUMMARY:Rural Municipalities of Alberta Conference
DESCRIPTION:Rural Municipalities of Alberta Conference
URL:https://support.prl.ab.ca/index.php/event/rural-municipalities-of-alberta-conference/
END:VEVENT
BEGIN:VEVENT
DTSTART;VALUE=DATE:20231101
DTEND;VALUE=DATE:20231201
DTSTAMP:20260421T050810
CREATED:20230825T185742Z
LAST-MODIFIED:20230825T185742Z
UID:4071-1698796800-1701388799@support.prl.ab.ca
SUMMARY:Picture Book Month
DESCRIPTION:Picture Book Month
URL:https://support.prl.ab.ca/index.php/event/picture-book-month/
END:VEVENT
BEGIN:VEVENT
DTSTART;VALUE=DATE:20231101
DTEND;VALUE=DATE:20231201
DTSTAMP:20260421T050810
CREATED:20230825T185651Z
LAST-MODIFIED:20230825T185651Z
UID:4069-1698796800-1701388799@support.prl.ab.ca
SUMMARY:NaNoWriMo Month
DESCRIPTION:NaNoWriMo Month
URL:https://support.prl.ab.ca/index.php/event/nanowrimo-month/
END:VEVENT
BEGIN:VEVENT
DTSTART;VALUE=DATE:20231101
DTEND;VALUE=DATE:20231102
DTSTAMP:20260421T050810
CREATED:20230825T190118Z
LAST-MODIFIED:20230825T190229Z
UID:4075-1698796800-1698883199@support.prl.ab.ca
SUMMARY:Governor General’s Literary Awards
DESCRIPTION:Governor General’s Literary Awards
URL:https://support.prl.ab.ca/index.php/event/governor-generals-literary-awards/
END:VEVENT
BEGIN:VEVENT
DTSTART;VALUE=DATE:20231023
DTEND;VALUE=DATE:20231028
DTSTAMP:20260421T050810
CREATED:20230825T185602Z
LAST-MODIFIED:20230825T185602Z
UID:4067-1698019200-1698451199@support.prl.ab.ca
SUMMARY:Media Literacy Week
DESCRIPTION:Media Literacy Week
URL:https://support.prl.ab.ca/index.php/event/media-literacy-week/
END:VEVENT
BEGIN:VEVENT
DTSTART;VALUE=DATE:20231020
DTEND;VALUE=DATE:20231021
DTSTAMP:20260421T050810
CREATED:20230825T185518Z
LAST-MODIFIED:20230825T185518Z
UID:4065-1697760000-1697846399@support.prl.ab.ca
SUMMARY:Canadian Library Workers Day
DESCRIPTION:Canadian Library Workers Day
URL:https://support.prl.ab.ca/index.php/event/canadian-library-workers-day/
END:VEVENT
BEGIN:VEVENT
DTSTART;VALUE=DATE:20231001
DTEND;VALUE=DATE:20231101
DTSTAMP:20260421T050810
CREATED:20230825T185429Z
LAST-MODIFIED:20230825T185429Z
UID:4063-1696118400-1698796799@support.prl.ab.ca
SUMMARY:Teentober
DESCRIPTION:Teentober
URL:https://support.prl.ab.ca/index.php/event/teentober-2/
END:VEVENT
BEGIN:VEVENT
DTSTART;VALUE=DATE:20231001
DTEND;VALUE=DATE:20231101
DTSTAMP:20260421T050810
CREATED:20230825T185344Z
LAST-MODIFIED:20230825T185344Z
UID:4061-1696118400-1698796799@support.prl.ab.ca
SUMMARY:Star Wars Reads Month
DESCRIPTION:Star Wars Reads Month
URL:https://support.prl.ab.ca/index.php/event/star-wars-reads-month/
END:VEVENT
BEGIN:VEVENT
DTSTART;VALUE=DATE:20231001
DTEND;VALUE=DATE:20231101
DTSTAMP:20260421T050810
CREATED:20230825T185249Z
LAST-MODIFIED:20230825T185249Z
UID:4059-1696118400-1698796799@support.prl.ab.ca
SUMMARY:Canadian Library Month
DESCRIPTION:Canadian Library Month
URL:https://support.prl.ab.ca/index.php/event/canadian-library-month-2/
END:VEVENT
BEGIN:VEVENT
DTSTART;VALUE=DATE:20230930
DTEND;VALUE=DATE:20231001
DTSTAMP:20260421T050810
CREATED:20230825T185047Z
LAST-MODIFIED:20230825T185047Z
UID:4057-1696032000-1696118399@support.prl.ab.ca
SUMMARY:Orange Shirt Day
DESCRIPTION:Orange Shirt Day
URL:https://support.prl.ab.ca/index.php/event/orange-shirt-day/
END:VEVENT
BEGIN:VEVENT
DTSTART;VALUE=DATE:20230927
DTEND;VALUE=DATE:20231001
DTSTAMP:20260421T050810
CREATED:20230825T184959Z
LAST-MODIFIED:20230825T184959Z
UID:4055-1695772800-1696118399@support.prl.ab.ca
SUMMARY:National Day for Truth and Reconciliation
DESCRIPTION:National Day for Truth and Reconciliation
URL:https://support.prl.ab.ca/index.php/event/national-day-for-truth-and-reconciliation/
END:VEVENT
BEGIN:VEVENT
DTSTART;VALUE=DATE:20230925
DTEND;VALUE=DATE:20230926
DTSTAMP:20260421T050810
CREATED:20230825T184517Z
LAST-MODIFIED:20230825T184517Z
UID:4053-1695600000-1695686399@support.prl.ab.ca
SUMMARY:PLC Meeting & AUMA Conference
DESCRIPTION:PLC Meeting & AUMA Conference
URL:https://support.prl.ab.ca/index.php/event/plc-meeting-auma-conference/
END:VEVENT
BEGIN:VEVENT
DTSTART;VALUE=DATE:20230915
DTEND;VALUE=DATE:20231016
DTSTAMP:20260421T050810
CREATED:20230825T183921Z
LAST-MODIFIED:20230825T183921Z
UID:4045-1694736000-1697414399@support.prl.ab.ca
SUMMARY:Hispanic Heritage Month
DESCRIPTION:Hispanic Heritage Month
URL:https://support.prl.ab.ca/index.php/event/hispanic-heritage-month/
END:VEVENT
BEGIN:VEVENT
DTSTART;VALUE=DATE:20230914
DTEND;VALUE=DATE:20230915
DTSTAMP:20260421T050810
CREATED:20230825T184259Z
LAST-MODIFIED:20230825T184352Z
UID:4051-1694649600-1694735999@support.prl.ab.ca
SUMMARY:Parkland Regional Library System Board Meeting
DESCRIPTION:Parkland Regional Library System Board Meeting
URL:https://support.prl.ab.ca/index.php/event/parkland-regional-library-system-board-meeting/
END:VEVENT
BEGIN:VEVENT
DTSTART;VALUE=DATE:20230908
DTEND;VALUE=DATE:20230909
DTSTAMP:20260421T050810
CREATED:20230825T184209Z
LAST-MODIFIED:20230825T184209Z
UID:4049-1694131200-1694217599@support.prl.ab.ca
SUMMARY:International Literacy Day
DESCRIPTION:International Literacy Day
URL:https://support.prl.ab.ca/index.php/event/international-literacy-day-2/
END:VEVENT
BEGIN:VEVENT
DTSTART;VALUE=DATE:20230901
DTEND;VALUE=DATE:20231001
DTSTAMP:20260421T050810
CREATED:20230825T184122Z
LAST-MODIFIED:20230825T184122Z
UID:4047-1693526400-1696118399@support.prl.ab.ca
SUMMARY:Alberta Culture Days
DESCRIPTION:Alberta Culture Days
URL:https://support.prl.ab.ca/index.php/event/alberta-culture-days-2/
END:VEVENT
BEGIN:VEVENT
DTSTART;TZID=America/Edmonton:20221117T100000
DTEND;TZID=America/Edmonton:20221117T120000
DTSTAMP:20260421T050810
CREATED:20220217T172742Z
LAST-MODIFIED:20220217T172742Z
UID:3583-1668679200-1668686400@support.prl.ab.ca
SUMMARY:PRLS Board Meeting
DESCRIPTION:Parkland Regional Library System Board Meeting
URL:https://support.prl.ab.ca/index.php/event/prls-board-meeting-7/
CATEGORIES:PRL Board
END:VEVENT
BEGIN:VEVENT
DTSTART;TZID=America/Edmonton:20221111T083000
DTEND;TZID=America/Edmonton:20221111T163000
DTSTAMP:20260421T050810
CREATED:20210203T160501Z
LAST-MODIFIED:20220217T174830Z
UID:2928-1668155400-1668184200@support.prl.ab.ca
SUMMARY:PRLS Headquarters Closed
DESCRIPTION:We will be closed on Friday\, November 11\, 2022 for Remembrance Day.
URL:https://support.prl.ab.ca/index.php/event/prl-headquarters-closed-8/
CATEGORIES:Holiday Closure
END:VEVENT
BEGIN:VEVENT
DTSTART;VALUE=DATE:20221101
DTEND;VALUE=DATE:20221201
DTSTAMP:20260421T050810
CREATED:20190905T165846Z
LAST-MODIFIED:20220217T173450Z
UID:1780-1667260800-1669852799@support.prl.ab.ca
SUMMARY:NaNoWriMo
DESCRIPTION:November is National Novel Writing Month (NaNoWriMo).
URL:https://support.prl.ab.ca/index.php/event/nanowrimo/
CATEGORIES:Notable Dates
END:VEVENT
BEGIN:VEVENT
DTSTART;TZID=America/Edmonton:20221024T100000
DTEND;TZID=America/Edmonton:20221024T120000
DTSTAMP:20260421T050810
CREATED:20220126T202615Z
LAST-MODIFIED:20220915T215710Z
UID:3550-1666605600-1666612800@support.prl.ab.ca
SUMMARY:PLC Meeting
DESCRIPTION:Parkland Libraries Council meeting- Monday\, October 24th. \nA meeting package\, including the agenda and background material for each topic\, will be sent out by email at least one week before the meeting. \nPlease read the package to prepare for the meeting. Bring the insights and ideas from you and your staff! \nTo Register please click here
URL:https://support.prl.ab.ca/index.php/event/plc-meeting-8/
CATEGORIES:PLC
END:VEVENT
BEGIN:VEVENT
DTSTART;TZID=America/Edmonton:20221010T083000
DTEND;TZID=America/Edmonton:20221010T163000
DTSTAMP:20260421T050810
CREATED:20210203T160431Z
LAST-MODIFIED:20220217T174851Z
UID:2926-1665390600-1665419400@support.prl.ab.ca
SUMMARY:PRLS Headquarters Closed
DESCRIPTION:We will be closed on Monday\, October 10\, 2022 for Thanksgiving.
URL:https://support.prl.ab.ca/index.php/event/prl-headquarters-closed-7/
CATEGORIES:Holiday Closure
END:VEVENT
BEGIN:VEVENT
DTSTART;TZID=America/Edmonton:20221006T080000
DTEND;TZID=America/Edmonton:20221007T170000
DTSTAMP:20260421T050810
CREATED:20220809T175605Z
LAST-MODIFIED:20220809T175605Z
UID:3795-1665043200-1665162000@support.prl.ab.ca
SUMMARY:Stronger Together Conference
DESCRIPTION:Stronger Together is a virtual library conference hosted jointly by Parkland Regional Library System\, Peace Library System\, The Alberta Library\, & Yellowhead Regional Library. \nThe conference will take place over two days on October 6 and 7\, 2022\, and feature: \n\nKeynote speakers Hamza Khan\, Cicely Lewis\, Dr. Philip McRae\, and Dr. Debbie Reese\nKnowledge Keepers Roy and Judy Louis\nSponsor panels\, a virtual exhibit\, and a virtual puzzle room\nAnd a wealth of conference sessions on topics like leadership\, accessibility and diversity\, technology\, advocacy\, and more!\n\nStronger Together is once again free to attend\, and we welcome anyone with a passion for libraries to register today. Please share this email with anyone who might be interested! \nAt our conference website\, you can explore all the details of the conference schedule\, find answers to frequently asked questions\, and register to attend. \nJoin us on October 6 and 7\, 2022 as we become Stronger Together.
URL:https://support.prl.ab.ca/index.php/event/stronger-together-conference-2/
LOCATION:Online\, Lacombe\, alberta\, Canada
CATEGORIES:Conferences
END:VEVENT
BEGIN:VEVENT
DTSTART;VALUE=DATE:20221001
DTEND;VALUE=DATE:20221101
DTSTAMP:20260421T050810
CREATED:20190906T152254Z
LAST-MODIFIED:20220217T173430Z
UID:1827-1664582400-1667260799@support.prl.ab.ca
SUMMARY:Canadian Library Month
DESCRIPTION:October is Canadian Library Month. \n 
URL:https://support.prl.ab.ca/index.php/event/canadian-library-month/
CATEGORIES:Notable Dates
END:VEVENT
BEGIN:VEVENT
DTSTART;VALUE=DATE:20221001
DTEND;VALUE=DATE:20221101
DTSTAMP:20260421T050810
CREATED:20190905T165159Z
LAST-MODIFIED:20220217T174914Z
UID:1773-1664582400-1667260799@support.prl.ab.ca
SUMMARY:TeenTober
DESCRIPTION:“TeenTober is a new\, nationwide celebration to celebrate teens\, and promote year round teen services.” This ALA event replaces Teen Read Week and Teen Tech Week. \nTakes place for the month of October. \nResources: \nTeenTober Website \n 
URL:https://support.prl.ab.ca/index.php/event/teentober/
CATEGORIES:Notable Dates
END:VEVENT
BEGIN:VEVENT
DTSTART;TZID=America/Edmonton:20220915T100000
DTEND;TZID=America/Edmonton:20220915T120000
DTSTAMP:20260421T050810
CREATED:20220217T172700Z
LAST-MODIFIED:20220217T172700Z
UID:3581-1663236000-1663243200@support.prl.ab.ca
SUMMARY:PRLS Board Meeting
DESCRIPTION:Parkland Regional Library System Board Meeting
URL:https://support.prl.ab.ca/index.php/event/prls-board-meeting-6/
CATEGORIES:PRL Board
END:VEVENT
END:VCALENDAR