BEGIN:VCALENDAR
VERSION:2.0
PRODID:-//PRLS Support Site - ECPv6.15.17.1//NONSGML v1.0//EN
CALSCALE:GREGORIAN
METHOD:PUBLISH
X-WR-CALNAME:PRLS Support Site
X-ORIGINAL-URL:https://support.prl.ab.ca
X-WR-CALDESC:Events for PRLS Support Site
REFRESH-INTERVAL;VALUE=DURATION:PT1H
X-Robots-Tag:noindex
X-PUBLISHED-TTL:PT1H
BEGIN:VTIMEZONE
TZID:America/Edmonton
BEGIN:DAYLIGHT
TZOFFSETFROM:-0700
TZOFFSETTO:-0600
TZNAME:MDT
DTSTART:20220313T090000
END:DAYLIGHT
BEGIN:STANDARD
TZOFFSETFROM:-0600
TZOFFSETTO:-0700
TZNAME:MST
DTSTART:20221106T080000
END:STANDARD
BEGIN:DAYLIGHT
TZOFFSETFROM:-0700
TZOFFSETTO:-0600
TZNAME:MDT
DTSTART:20230312T090000
END:DAYLIGHT
BEGIN:STANDARD
TZOFFSETFROM:-0600
TZOFFSETTO:-0700
TZNAME:MST
DTSTART:20231105T080000
END:STANDARD
BEGIN:DAYLIGHT
TZOFFSETFROM:-0700
TZOFFSETTO:-0600
TZNAME:MDT
DTSTART:20240310T090000
END:DAYLIGHT
BEGIN:STANDARD
TZOFFSETFROM:-0600
TZOFFSETTO:-0700
TZNAME:MST
DTSTART:20241103T080000
END:STANDARD
BEGIN:DAYLIGHT
TZOFFSETFROM:-0700
TZOFFSETTO:-0600
TZNAME:MDT
DTSTART:20250309T090000
END:DAYLIGHT
BEGIN:STANDARD
TZOFFSETFROM:-0600
TZOFFSETTO:-0700
TZNAME:MST
DTSTART:20251102T080000
END:STANDARD
END:VTIMEZONE
BEGIN:VEVENT
DTSTART;VALUE=DATE:20240320
DTEND;VALUE=DATE:20240321
DTSTAMP:20260420T230610
CREATED:20231207T154505Z
LAST-MODIFIED:20240110T162252Z
UID:4215-1710892800-1710979199@support.prl.ab.ca
SUMMARY:World Storytelling Day
DESCRIPTION:
URL:https://support.prl.ab.ca/index.php/event/world-storytelling-day/
CATEGORIES:Event,Notable Dates
END:VEVENT
BEGIN:VEVENT
DTSTART;VALUE=DATE:20240318
DTEND;VALUE=DATE:20240321
DTSTAMP:20260420T230610
CREATED:20231207T154728Z
LAST-MODIFIED:20240110T162232Z
UID:4217-1710720000-1710979199@support.prl.ab.ca
SUMMARY:Rural Municipalities of Alberta Conference
DESCRIPTION:
URL:https://support.prl.ab.ca/index.php/event/rural-municipalities-of-alberta-conference-2/
CATEGORIES:Conferences,Event,Notable Dates,PRL Board
END:VEVENT
BEGIN:VEVENT
DTSTART;TZID=America/Edmonton:20240304T130000
DTEND;TZID=America/Edmonton:20240304T150000
DTSTAMP:20260420T230610
CREATED:20240201T215855Z
LAST-MODIFIED:20240201T215855Z
UID:4479-1709557200-1709564400@support.prl.ab.ca
SUMMARY:Policy Writing Training
DESCRIPTION:
URL:https://support.prl.ab.ca/index.php/event/policy-writing-training/
LOCATION:Parkland Regional Library\, 4565 46th\, Lacombe\, alberta\, T4L 0K2\, Canada
CATEGORIES:Hybrid,Parkland Workshop
END:VEVENT
BEGIN:VEVENT
DTSTART;VALUE=DATE:20240304
DTEND;VALUE=DATE:20240305
DTSTAMP:20260420T230610
CREATED:20231207T154429Z
LAST-MODIFIED:20240110T162207Z
UID:4213-1709510400-1709596799@support.prl.ab.ca
SUMMARY:PLC Meeting
DESCRIPTION:
URL:https://support.prl.ab.ca/index.php/event/plc-meeting/
CATEGORIES:Event,Notable Dates,PLC
END:VEVENT
BEGIN:VEVENT
DTSTART;VALUE=DATE:20240301
DTEND;VALUE=DATE:20240401
DTSTAMP:20260420T230610
CREATED:20231207T154323Z
LAST-MODIFIED:20240110T162149Z
UID:4211-1709251200-1711929599@support.prl.ab.ca
SUMMARY:Women's History Month
DESCRIPTION:
URL:https://support.prl.ab.ca/index.php/event/womens-history-month/
CATEGORIES:Event,Notable Dates
END:VEVENT
BEGIN:VEVENT
DTSTART;VALUE=DATE:20240228
DTEND;VALUE=DATE:20240229
DTSTAMP:20260420T230610
CREATED:20231207T154139Z
LAST-MODIFIED:20240110T162135Z
UID:4209-1709078400-1709164799@support.prl.ab.ca
SUMMARY:2023 Annual Report and 2024 Survey due to PLSB
DESCRIPTION:
URL:https://support.prl.ab.ca/index.php/event/2023-annual-report-and-2024-survey-due-to-plsb/
CATEGORIES:Deadline,Notable Dates
END:VEVENT
BEGIN:VEVENT
DTSTART;VALUE=DATE:20240223
DTEND;VALUE=DATE:20240224
DTSTAMP:20260420T230610
CREATED:20231207T154038Z
LAST-MODIFIED:20240110T162109Z
UID:4207-1708646400-1708732799@support.prl.ab.ca
SUMMARY:Big Talk from Small Libraries Conference
DESCRIPTION:
URL:https://support.prl.ab.ca/index.php/event/big-talk-from-small-libraries-conference/
CATEGORIES:Conferences,Event,Notable Dates,Professional Development
END:VEVENT
BEGIN:VEVENT
DTSTART;TZID=America/Edmonton:20240222T100000
DTEND;TZID=America/Edmonton:20240222T120000
DTSTAMP:20260420T230610
CREATED:20231207T153946Z
LAST-MODIFIED:20240110T162029Z
UID:4205-1708596000-1708603200@support.prl.ab.ca
SUMMARY:Parkland Regional Library System Board Meeting
DESCRIPTION:
URL:https://support.prl.ab.ca/index.php/event/parkland-regional-library-system-board-meeting-3/
CATEGORIES:Event,Notable Dates,PRL Board
END:VEVENT
BEGIN:VEVENT
DTSTART;VALUE=DATE:20240219
DTEND;VALUE=DATE:20240220
DTSTAMP:20260420T230610
CREATED:20240110T155836Z
LAST-MODIFIED:20240110T155857Z
UID:4306-1708300800-1708387199@support.prl.ab.ca
SUMMARY:Family Day - Parkland Closed
DESCRIPTION:
URL:https://support.prl.ab.ca/index.php/event/family-day-parkland-closed/
END:VEVENT
BEGIN:VEVENT
DTSTART;VALUE=DATE:20240219
DTEND;VALUE=DATE:20240220
DTSTAMP:20260420T230610
CREATED:20231207T153743Z
LAST-MODIFIED:20240110T162001Z
UID:4202-1708300800-1708387199@support.prl.ab.ca
SUMMARY:Louis Riel Day
DESCRIPTION:
URL:https://support.prl.ab.ca/index.php/event/louis-riel-day-2/
CATEGORIES:Event,Notable Dates
END:VEVENT
BEGIN:VEVENT
DTSTART;VALUE=DATE:20240218
DTEND;VALUE=DATE:20240225
DTSTAMP:20260420T230610
CREATED:20231204T155714Z
LAST-MODIFIED:20240110T161945Z
UID:4198-1708214400-1708819199@support.prl.ab.ca
SUMMARY:Freedom to Read Week
DESCRIPTION:
URL:https://support.prl.ab.ca/index.php/event/freedom-to-read-week/
CATEGORIES:Event,Notable Dates
END:VEVENT
BEGIN:VEVENT
DTSTART;VALUE=DATE:20240214
DTEND;VALUE=DATE:20240215
DTSTAMP:20260420T230610
CREATED:20231204T155538Z
LAST-MODIFIED:20240110T161921Z
UID:4192-1707868800-1707955199@support.prl.ab.ca
SUMMARY:Library Lovers Day
DESCRIPTION:
URL:https://support.prl.ab.ca/index.php/event/library-lovers-day/
CATEGORIES:Event,Notable Dates
END:VEVENT
BEGIN:VEVENT
DTSTART;TZID=America/Edmonton:20240212T133000
DTEND;TZID=America/Edmonton:20240212T160000
DTSTAMP:20260420T230610
CREATED:20240201T215128Z
LAST-MODIFIED:20240201T215142Z
UID:4466-1707744600-1707753600@support.prl.ab.ca
SUMMARY:Programming Workshop
DESCRIPTION:
URL:https://support.prl.ab.ca/index.php/event/programming-workshop/
LOCATION:Parkland Regional Library\, 4565 46th\, Lacombe\, alberta\, T4L 0K2\, Canada
CATEGORIES:Parkland Workshop,Webinar
END:VEVENT
BEGIN:VEVENT
DTSTART;TZID=America/Edmonton:20240208T133000
DTEND;TZID=America/Edmonton:20240208T153000
DTSTAMP:20260420T230610
CREATED:20240201T215001Z
LAST-MODIFIED:20240201T215001Z
UID:4464-1707399000-1707406200@support.prl.ab.ca
SUMMARY:Friends of The Library Training
DESCRIPTION:
URL:https://support.prl.ab.ca/index.php/event/friends-of-the-library-training/
CATEGORIES:Event,Parkland Workshop,Webinar
END:VEVENT
BEGIN:VEVENT
DTSTART;VALUE=DATE:20240207
DTEND;VALUE=DATE:20240208
DTSTAMP:20260420T230610
CREATED:20231204T155516Z
LAST-MODIFIED:20240110T161908Z
UID:4190-1707264000-1707350399@support.prl.ab.ca
SUMMARY:World Read Aloud Day
DESCRIPTION:
URL:https://support.prl.ab.ca/index.php/event/world-read-aloud-day/
CATEGORIES:Event,Notable Dates
END:VEVENT
BEGIN:VEVENT
DTSTART;TZID=America/Edmonton:20240205T100000
DTEND;TZID=America/Edmonton:20240205T113000
DTSTAMP:20260420T230610
CREATED:20240201T214902Z
LAST-MODIFIED:20240201T214902Z
UID:4462-1707127200-1707132600@support.prl.ab.ca
SUMMARY:Graphic Novels 101 Training
DESCRIPTION:Are you curious about the differences between graphic novels\, comics\, and manga? Are you seeing an increase in the popularity of your graphic novel collections? Would you like to feel more knowledgeable on how to grow these collections? \nJoin Jessica on February 5\, 2024 from 10-11:30am\, for a virtual training and discussion about all things graphic novels\, comics\, and manga! You will come away with helpful collection development and graphic novel advocacy resources.
URL:https://support.prl.ab.ca/index.php/event/graphic-novels-101-training/
LOCATION:Online\, Lacombe\, alberta\, Canada
CATEGORIES:Parkland Workshop,Webinar
END:VEVENT
BEGIN:VEVENT
DTSTART;VALUE=DATE:20240201
DTEND;VALUE=DATE:20240301
DTSTAMP:20260420T230610
CREATED:20231204T155610Z
LAST-MODIFIED:20240110T161707Z
UID:4194-1706745600-1709251199@support.prl.ab.ca
SUMMARY:Black History Month
DESCRIPTION:
URL:https://support.prl.ab.ca/index.php/event/black-history-month/
CATEGORIES:Event,Notable Dates
END:VEVENT
BEGIN:VEVENT
DTSTART;VALUE=DATE:20240127
DTEND;VALUE=DATE:20240128
DTSTAMP:20260420T230610
CREATED:20231204T155632Z
LAST-MODIFIED:20231204T155632Z
UID:4196-1706313600-1706399999@support.prl.ab.ca
SUMMARY:National Ribbon Skirt Day
DESCRIPTION:
URL:https://support.prl.ab.ca/index.php/event/national-ribbon-skirt-day/
END:VEVENT
BEGIN:VEVENT
DTSTART;VALUE=DATE:20240127
DTEND;VALUE=DATE:20240128
DTSTAMP:20260420T230610
CREATED:20231204T155451Z
LAST-MODIFIED:20240110T161642Z
UID:4188-1706313600-1706399999@support.prl.ab.ca
SUMMARY:Family Literacy Day
DESCRIPTION:
URL:https://support.prl.ab.ca/index.php/event/family-literacy-day-2/
CATEGORIES:Event,Notable Dates
END:VEVENT
BEGIN:VEVENT
DTSTART;VALUE=DATE:20240119
DTEND;VALUE=DATE:20240120
DTSTAMP:20260420T230610
CREATED:20231204T155429Z
LAST-MODIFIED:20240110T161557Z
UID:4186-1705622400-1705708799@support.prl.ab.ca
SUMMARY:Canada Summer Jobs Grant Application Due
DESCRIPTION:
URL:https://support.prl.ab.ca/index.php/event/canada-summer-jobs-application-due/
CATEGORIES:Deadline,Grants,Notable Dates
END:VEVENT
BEGIN:VEVENT
DTSTART;VALUE=DATE:20231226
DTEND;VALUE=DATE:20240103
DTSTAMP:20260420T230610
CREATED:20230825T192332Z
LAST-MODIFIED:20230825T192332Z
UID:4093-1703548800-1704239999@support.prl.ab.ca
SUMMARY:Parkland headquarters office closed
DESCRIPTION:Parkland headquarters office closed
URL:https://support.prl.ab.ca/index.php/event/parkland-headquarters-office-closed/
END:VEVENT
BEGIN:VEVENT
DTSTART;VALUE=DATE:20231201
DTEND;VALUE=DATE:20231202
DTSTAMP:20260420T230610
CREATED:20230825T192300Z
LAST-MODIFIED:20230825T192300Z
UID:4091-1701388800-1701475199@support.prl.ab.ca
SUMMARY:2023 Library Budget due to municipal council for approval
DESCRIPTION:2023 Library Budget due to municipal council for approval
URL:https://support.prl.ab.ca/index.php/event/2023-library-budget-due-to-municipal-council-for-approval/
END:VEVENT
BEGIN:VEVENT
DTSTART;VALUE=DATE:20231126
DTEND;VALUE=DATE:20231127
DTSTAMP:20260420T230610
CREATED:20230825T190534Z
LAST-MODIFIED:20230825T190534Z
UID:4078-1700956800-1701043199@support.prl.ab.ca
SUMMARY:Booker Prize
DESCRIPTION:Booker Prize
URL:https://support.prl.ab.ca/index.php/event/booker-prize/
END:VEVENT
BEGIN:VEVENT
DTSTART;VALUE=DATE:20231123
DTEND;VALUE=DATE:20231124
DTSTAMP:20260420T230610
CREATED:20230825T192229Z
LAST-MODIFIED:20230825T192229Z
UID:4089-1700697600-1700783999@support.prl.ab.ca
SUMMARY:Alberta Book Day
DESCRIPTION:Alberta Book Day
URL:https://support.prl.ab.ca/index.php/event/alberta-book-day/
END:VEVENT
BEGIN:VEVENT
DTSTART;VALUE=DATE:20231116
DTEND;VALUE=DATE:20231117
DTSTAMP:20260420T230610
CREATED:20230825T192200Z
LAST-MODIFIED:20230825T192200Z
UID:4087-1700092800-1700179199@support.prl.ab.ca
SUMMARY:Parkland Regional Library System Board Meeting
DESCRIPTION:Parkland Regional Library System Board Meeting
URL:https://support.prl.ab.ca/index.php/event/parkland-regional-library-system-board-meeting-2/
END:VEVENT
BEGIN:VEVENT
DTSTART;VALUE=DATE:20231116
DTEND;VALUE=DATE:20231117
DTSTAMP:20260420T230610
CREATED:20230825T192131Z
LAST-MODIFIED:20230825T192131Z
UID:4085-1700092800-1700179199@support.prl.ab.ca
SUMMARY:Louis Riel Day
DESCRIPTION:Louis Riel Day
URL:https://support.prl.ab.ca/index.php/event/louis-riel-day/
END:VEVENT
BEGIN:VEVENT
DTSTART;TZID=America/Edmonton:20231113T190000
DTEND;TZID=America/Edmonton:20231113T220000
DTSTAMP:20260420T230610
CREATED:20230825T185935Z
LAST-MODIFIED:20230825T185935Z
UID:4073-1699902000-1699912800@support.prl.ab.ca
SUMMARY:Giller Prize
DESCRIPTION:Giller Prize
URL:https://support.prl.ab.ca/index.php/event/giller-prize/
END:VEVENT
BEGIN:VEVENT
DTSTART;VALUE=DATE:20231108
DTEND;VALUE=DATE:20231109
DTSTAMP:20260420T230610
CREATED:20230825T191947Z
LAST-MODIFIED:20230825T192034Z
UID:4082-1699401600-1699487999@support.prl.ab.ca
SUMMARY:Indigenous Veterans Day
DESCRIPTION:Indigenous Veterans Day
URL:https://support.prl.ab.ca/index.php/event/indigenous-veterans-day/
END:VEVENT
BEGIN:VEVENT
DTSTART;VALUE=DATE:20231106
DTEND;VALUE=DATE:20231110
DTSTAMP:20260420T230610
CREATED:20230825T190626Z
LAST-MODIFIED:20230825T190626Z
UID:4080-1699228800-1699574399@support.prl.ab.ca
SUMMARY:Rural Municipalities of Alberta Conference
DESCRIPTION:Rural Municipalities of Alberta Conference
URL:https://support.prl.ab.ca/index.php/event/rural-municipalities-of-alberta-conference/
END:VEVENT
BEGIN:VEVENT
DTSTART;VALUE=DATE:20231101
DTEND;VALUE=DATE:20231201
DTSTAMP:20260420T230610
CREATED:20230825T185742Z
LAST-MODIFIED:20230825T185742Z
UID:4071-1698796800-1701388799@support.prl.ab.ca
SUMMARY:Picture Book Month
DESCRIPTION:Picture Book Month
URL:https://support.prl.ab.ca/index.php/event/picture-book-month/
END:VEVENT
END:VCALENDAR