BEGIN:VCALENDAR
VERSION:2.0
PRODID:-//PRLS Support Site - ECPv6.15.17.1//NONSGML v1.0//EN
CALSCALE:GREGORIAN
METHOD:PUBLISH
X-WR-CALNAME:PRLS Support Site
X-ORIGINAL-URL:https://support.prl.ab.ca
X-WR-CALDESC:Events for PRLS Support Site
REFRESH-INTERVAL;VALUE=DURATION:PT1H
X-Robots-Tag:noindex
X-PUBLISHED-TTL:PT1H
BEGIN:VTIMEZONE
TZID:America/Edmonton
BEGIN:DAYLIGHT
TZOFFSETFROM:-0700
TZOFFSETTO:-0600
TZNAME:MDT
DTSTART:20230312T090000
END:DAYLIGHT
BEGIN:STANDARD
TZOFFSETFROM:-0600
TZOFFSETTO:-0700
TZNAME:MST
DTSTART:20231105T080000
END:STANDARD
BEGIN:DAYLIGHT
TZOFFSETFROM:-0700
TZOFFSETTO:-0600
TZNAME:MDT
DTSTART:20240310T090000
END:DAYLIGHT
BEGIN:STANDARD
TZOFFSETFROM:-0600
TZOFFSETTO:-0700
TZNAME:MST
DTSTART:20241103T080000
END:STANDARD
BEGIN:DAYLIGHT
TZOFFSETFROM:-0700
TZOFFSETTO:-0600
TZNAME:MDT
DTSTART:20250309T090000
END:DAYLIGHT
BEGIN:STANDARD
TZOFFSETFROM:-0600
TZOFFSETTO:-0700
TZNAME:MST
DTSTART:20251102T080000
END:STANDARD
END:VTIMEZONE
BEGIN:VEVENT
DTSTART;VALUE=DATE:20240615
DTEND;VALUE=DATE:20240616
DTSTAMP:20260420T201926
CREATED:20231207T175606Z
LAST-MODIFIED:20231207T175606Z
UID:4253-1718409600-1718495999@support.prl.ab.ca
SUMMARY:Operating Grant Application and Budget Due to PLSB
DESCRIPTION:
URL:https://support.prl.ab.ca/index.php/event/operating-grant-application-and-budget-due-to-plsb/
CATEGORIES:Deadline,Grants
END:VEVENT
BEGIN:VEVENT
DTSTART;VALUE=DATE:20240605
DTEND;VALUE=DATE:20240606
DTSTAMP:20260420T201926
CREATED:20231207T175356Z
LAST-MODIFIED:20231207T175356Z
UID:4247-1717545600-1717631999@support.prl.ab.ca
SUMMARY:Rocky Mountain Book Award Announced
DESCRIPTION:
URL:https://support.prl.ab.ca/index.php/event/rocky-mountain-book-award-announced/
CATEGORIES:Notable Dates
END:VEVENT
BEGIN:VEVENT
DTSTART;VALUE=DATE:20240605
DTEND;VALUE=DATE:20240606
DTSTAMP:20260420T201926
CREATED:20231207T175310Z
LAST-MODIFIED:20231207T175310Z
UID:4245-1717545600-1717631999@support.prl.ab.ca
SUMMARY:Alberta Literary Awards Announced
DESCRIPTION:
URL:https://support.prl.ab.ca/index.php/event/alberta-literary-awards-announced/
CATEGORIES:Notable Dates
END:VEVENT
BEGIN:VEVENT
DTSTART;VALUE=DATE:20240601
DTEND;VALUE=DATE:20240701
DTSTAMP:20260420T201926
CREATED:20231207T175414Z
LAST-MODIFIED:20231207T175414Z
UID:4249-1717200000-1719791999@support.prl.ab.ca
SUMMARY:Pride Month
DESCRIPTION:
URL:https://support.prl.ab.ca/index.php/event/pride-month/
END:VEVENT
BEGIN:VEVENT
DTSTART;VALUE=DATE:20240601
DTEND;VALUE=DATE:20240701
DTSTAMP:20260420T201926
CREATED:20231207T175049Z
LAST-MODIFIED:20231207T175049Z
UID:4243-1717200000-1719791999@support.prl.ab.ca
SUMMARY:National Indigenous History Month
DESCRIPTION:
URL:https://support.prl.ab.ca/index.php/event/national-indigenous-history-month/
CATEGORIES:Notable Dates
END:VEVENT
BEGIN:VEVENT
DTSTART;VALUE=DATE:20240601
DTEND;VALUE=DATE:20240701
DTSTAMP:20260420T201926
CREATED:20231207T175010Z
LAST-MODIFIED:20240110T163056Z
UID:4241-1717200000-1719791999@support.prl.ab.ca
SUMMARY:Rainbow Book Month
DESCRIPTION:
URL:https://support.prl.ab.ca/index.php/event/rainbow-book-month/
CATEGORIES:Event,Notable Dates
END:VEVENT
BEGIN:VEVENT
DTSTART;TZID=America/Edmonton:20240527T100000
DTEND;TZID=America/Edmonton:20240527T123000
DTSTAMP:20260420T201926
CREATED:20240201T215526Z
LAST-MODIFIED:20240201T215526Z
UID:4472-1716804000-1716813000@support.prl.ab.ca
SUMMARY:Collections Training
DESCRIPTION:
URL:https://support.prl.ab.ca/index.php/event/collections-training-3/
LOCATION:Sedgewick Library\, 5301 51 Ave\, Sedgewick\, Alberta\, T0B 4C0\, Canada
CATEGORIES:Parkland Workshop
END:VEVENT
BEGIN:VEVENT
DTSTART;TZID=America/Edmonton:20240522T130000
DTEND;TZID=America/Edmonton:20240522T153000
DTSTAMP:20260420T201926
CREATED:20240201T215315Z
LAST-MODIFIED:20240201T215315Z
UID:4470-1716382800-1716391800@support.prl.ab.ca
SUMMARY:Collections Training
DESCRIPTION:
URL:https://support.prl.ab.ca/index.php/event/collections-training-2/
LOCATION:Olds and District Municipal Library\, 5217 - 52 Street\, Olds\, Alberta\, T4H 1H7\, Canada
CATEGORIES:Parkland Workshop
END:VEVENT
BEGIN:VEVENT
DTSTART;VALUE=DATE:20240520
DTEND;VALUE=DATE:20240521
DTSTAMP:20260420T201926
CREATED:20240110T160138Z
LAST-MODIFIED:20240110T163042Z
UID:4312-1716163200-1716249599@support.prl.ab.ca
SUMMARY:Victoria Day - Parkland Closed
DESCRIPTION:
URL:https://support.prl.ab.ca/index.php/event/victoria-day-parkland-closed/
CATEGORIES:Event,Holiday Closure,Notable Dates
END:VEVENT
BEGIN:VEVENT
DTSTART;TZID=America/Edmonton:20240516T100000
DTEND;TZID=America/Edmonton:20240516T120000
DTSTAMP:20260420T201926
CREATED:20231207T174516Z
LAST-MODIFIED:20231207T174516Z
UID:4239-1715853600-1715860800@support.prl.ab.ca
SUMMARY:Parkland Regional Library System Board Meeting
DESCRIPTION:
URL:https://support.prl.ab.ca/index.php/event/parkland-regional-library-system-board-meeting-4/
CATEGORIES:PRL Board
END:VEVENT
BEGIN:VEVENT
DTSTART;VALUE=DATE:20240515
DTEND;VALUE=DATE:20240516
DTSTAMP:20260420T201926
CREATED:20231207T174426Z
LAST-MODIFIED:20231207T174426Z
UID:4237-1715731200-1715817599@support.prl.ab.ca
SUMMARY:Marigold System Library Conference
DESCRIPTION:
URL:https://support.prl.ab.ca/index.php/event/marigold-system-library-conference/
CATEGORIES:Conferences
END:VEVENT
BEGIN:VEVENT
DTSTART;TZID=America/Edmonton:20240513T100000
DTEND;TZID=America/Edmonton:20240513T123000
DTSTAMP:20260420T201926
CREATED:20240201T215229Z
LAST-MODIFIED:20240201T215237Z
UID:4468-1715594400-1715603400@support.prl.ab.ca
SUMMARY:Collections Training
DESCRIPTION:
URL:https://support.prl.ab.ca/index.php/event/collections-training/
LOCATION:Parkland Regional Library\, 4565 46th\, Lacombe\, alberta\, T4L 0K2\, Canada
CATEGORIES:Parkland Workshop
END:VEVENT
BEGIN:VEVENT
DTSTART;VALUE=DATE:20240504
DTEND;VALUE=DATE:20240505
DTSTAMP:20260420T201926
CREATED:20231207T161000Z
LAST-MODIFIED:20240110T163018Z
UID:4235-1714780800-1714867199@support.prl.ab.ca
SUMMARY:Free Comic Book Day
DESCRIPTION:
URL:https://support.prl.ab.ca/index.php/event/free-comic-book-day-2/
CATEGORIES:Event,Notable Dates
END:VEVENT
BEGIN:VEVENT
DTSTART;VALUE=DATE:20240501
DTEND;VALUE=DATE:20240601
DTSTAMP:20260420T201926
CREATED:20231207T155805Z
LAST-MODIFIED:20240110T163002Z
UID:4231-1714521600-1717199999@support.prl.ab.ca
SUMMARY:Asian Pacific American Heritage Month
DESCRIPTION:
URL:https://support.prl.ab.ca/index.php/event/asian-pacific-american-heritage-month/
CATEGORIES:Event,Notable Dates
END:VEVENT
BEGIN:VEVENT
DTSTART;VALUE=DATE:20240429
DTEND;VALUE=DATE:20240430
DTSTAMP:20260420T201926
CREATED:20231207T155602Z
LAST-MODIFIED:20240110T162933Z
UID:4229-1714348800-1714435199@support.prl.ab.ca
SUMMARY:Young Readers Choice Award Winners Announced
DESCRIPTION:
URL:https://support.prl.ab.ca/index.php/event/young-readers-choice-award-winners-announced/
CATEGORIES:Event,Notable Dates
END:VEVENT
BEGIN:VEVENT
DTSTART;VALUE=DATE:20240428
DTEND;VALUE=DATE:20240505
DTSTAMP:20260420T201926
CREATED:20231207T155923Z
LAST-MODIFIED:20240110T162917Z
UID:4233-1714262400-1714867199@support.prl.ab.ca
SUMMARY:Canada Children's Book Week
DESCRIPTION:
URL:https://support.prl.ab.ca/index.php/event/canada-childrens-book-week/
CATEGORIES:Notable Dates
END:VEVENT
BEGIN:VEVENT
DTSTART;VALUE=DATE:20240423
DTEND;VALUE=DATE:20240424
DTSTAMP:20260420T201926
CREATED:20231207T155520Z
LAST-MODIFIED:20240110T162848Z
UID:4227-1713830400-1713916799@support.prl.ab.ca
SUMMARY:World/Canada Book Day
DESCRIPTION:
URL:https://support.prl.ab.ca/index.php/event/world-canada-book-day/
CATEGORIES:Event,Notable Dates
END:VEVENT
BEGIN:VEVENT
DTSTART;TZID=America/Edmonton:20240416T173000
DTEND;TZID=America/Edmonton:20240416T193000
DTSTAMP:20260420T201926
CREATED:20240306T213755Z
LAST-MODIFIED:20240322T145131Z
UID:4520-1713288600-1713295800@support.prl.ab.ca
SUMMARY:Board Training
DESCRIPTION:We would like to invite any Library Board members and Library Managers from Parkland member libraries to attend. In this training\, you will learn about the purpose of library boards\, your roles and responsibilities as a Board member\, legal requirements for Boards\, and best practices. Attendees will also receive a PRLS Board Package with additional resources and there will be an opportunity to ask Parkland’s Director\, Ron Sheppard\, and Deputy Director\, Andrea Newland\, questions. \nIf you and/or your Board members plan to attend please RSVP to this email (libraryservices@prl.ab.ca) with the name\, role\, and member library of all those attending by April 11th.
URL:https://support.prl.ab.ca/index.php/event/board-training/
LOCATION:Sedgewick Library\, 5301 51 Ave\, Sedgewick\, Alberta\, T0B 4C0\, Canada
END:VEVENT
BEGIN:VEVENT
DTSTART;VALUE=DATE:20240412
DTEND;VALUE=DATE:20240413
DTSTAMP:20260420T201926
CREATED:20231207T155344Z
LAST-MODIFIED:20240110T162413Z
UID:4225-1712880000-1712966399@support.prl.ab.ca
SUMMARY:Drop Everything and Read Day
DESCRIPTION:
URL:https://support.prl.ab.ca/index.php/event/drop-everything-and-read-day/
CATEGORIES:Event,Notable Dates
END:VEVENT
BEGIN:VEVENT
DTSTART;VALUE=DATE:20240403
DTEND;VALUE=DATE:20240404
DTSTAMP:20260420T201926
CREATED:20231207T155047Z
LAST-MODIFIED:20240110T162402Z
UID:4223-1712102400-1712188799@support.prl.ab.ca
SUMMARY:Library Giving Day
DESCRIPTION:
URL:https://support.prl.ab.ca/index.php/event/library-giving-day/
CATEGORIES:Event,Notable Dates
END:VEVENT
BEGIN:VEVENT
DTSTART;VALUE=DATE:20240401
DTEND;VALUE=DATE:20240501
DTSTAMP:20260420T201926
CREATED:20231207T154947Z
LAST-MODIFIED:20240110T162351Z
UID:4221-1711929600-1714521599@support.prl.ab.ca
SUMMARY:National Poetry Month
DESCRIPTION:
URL:https://support.prl.ab.ca/index.php/event/national-poetry-month/
CATEGORIES:Event,Notable Dates
END:VEVENT
BEGIN:VEVENT
DTSTART;VALUE=DATE:20240401
DTEND;VALUE=DATE:20240402
DTSTAMP:20260420T201926
CREATED:20240110T160009Z
LAST-MODIFIED:20240110T160009Z
UID:4310-1711929600-1712015999@support.prl.ab.ca
SUMMARY:Easter Monday - Parkland Closed
DESCRIPTION:
URL:https://support.prl.ab.ca/index.php/event/easter-monday-parkland-closed/
END:VEVENT
BEGIN:VEVENT
DTSTART;VALUE=DATE:20240329
DTEND;VALUE=DATE:20240330
DTSTAMP:20260420T201926
CREATED:20240110T155948Z
LAST-MODIFIED:20240110T162333Z
UID:4308-1711670400-1711756799@support.prl.ab.ca
SUMMARY:Good Friday - Parkland Closed
DESCRIPTION:
URL:https://support.prl.ab.ca/index.php/event/good-friday-parkland-closed/
CATEGORIES:Event,Holiday Closure,Notable Dates
END:VEVENT
BEGIN:VEVENT
DTSTART;VALUE=DATE:20240321
DTEND;VALUE=DATE:20240322
DTSTAMP:20260420T201926
CREATED:20231207T154837Z
LAST-MODIFIED:20240110T162317Z
UID:4219-1710979200-1711065599@support.prl.ab.ca
SUMMARY:World Poetry Day
DESCRIPTION:
URL:https://support.prl.ab.ca/index.php/event/world-poetry-day/
CATEGORIES:Event,Notable Dates
END:VEVENT
BEGIN:VEVENT
DTSTART;VALUE=DATE:20240320
DTEND;VALUE=DATE:20240321
DTSTAMP:20260420T201926
CREATED:20231207T154505Z
LAST-MODIFIED:20240110T162252Z
UID:4215-1710892800-1710979199@support.prl.ab.ca
SUMMARY:World Storytelling Day
DESCRIPTION:
URL:https://support.prl.ab.ca/index.php/event/world-storytelling-day/
CATEGORIES:Event,Notable Dates
END:VEVENT
BEGIN:VEVENT
DTSTART;VALUE=DATE:20240318
DTEND;VALUE=DATE:20240321
DTSTAMP:20260420T201926
CREATED:20231207T154728Z
LAST-MODIFIED:20240110T162232Z
UID:4217-1710720000-1710979199@support.prl.ab.ca
SUMMARY:Rural Municipalities of Alberta Conference
DESCRIPTION:
URL:https://support.prl.ab.ca/index.php/event/rural-municipalities-of-alberta-conference-2/
CATEGORIES:Conferences,Event,Notable Dates,PRL Board
END:VEVENT
BEGIN:VEVENT
DTSTART;TZID=America/Edmonton:20240304T130000
DTEND;TZID=America/Edmonton:20240304T150000
DTSTAMP:20260420T201926
CREATED:20240201T215855Z
LAST-MODIFIED:20240201T215855Z
UID:4479-1709557200-1709564400@support.prl.ab.ca
SUMMARY:Policy Writing Training
DESCRIPTION:
URL:https://support.prl.ab.ca/index.php/event/policy-writing-training/
LOCATION:Parkland Regional Library\, 4565 46th\, Lacombe\, alberta\, T4L 0K2\, Canada
CATEGORIES:Hybrid,Parkland Workshop
END:VEVENT
BEGIN:VEVENT
DTSTART;VALUE=DATE:20240304
DTEND;VALUE=DATE:20240305
DTSTAMP:20260420T201926
CREATED:20231207T154429Z
LAST-MODIFIED:20240110T162207Z
UID:4213-1709510400-1709596799@support.prl.ab.ca
SUMMARY:PLC Meeting
DESCRIPTION:
URL:https://support.prl.ab.ca/index.php/event/plc-meeting/
CATEGORIES:Event,Notable Dates,PLC
END:VEVENT
BEGIN:VEVENT
DTSTART;VALUE=DATE:20240301
DTEND;VALUE=DATE:20240401
DTSTAMP:20260420T201926
CREATED:20231207T154323Z
LAST-MODIFIED:20240110T162149Z
UID:4211-1709251200-1711929599@support.prl.ab.ca
SUMMARY:Women's History Month
DESCRIPTION:
URL:https://support.prl.ab.ca/index.php/event/womens-history-month/
CATEGORIES:Event,Notable Dates
END:VEVENT
BEGIN:VEVENT
DTSTART;VALUE=DATE:20240228
DTEND;VALUE=DATE:20240229
DTSTAMP:20260420T201926
CREATED:20231207T154139Z
LAST-MODIFIED:20240110T162135Z
UID:4209-1709078400-1709164799@support.prl.ab.ca
SUMMARY:2023 Annual Report and 2024 Survey due to PLSB
DESCRIPTION:
URL:https://support.prl.ab.ca/index.php/event/2023-annual-report-and-2024-survey-due-to-plsb/
CATEGORIES:Deadline,Notable Dates
END:VEVENT
END:VCALENDAR