BEGIN:VCALENDAR
VERSION:2.0
PRODID:-//PRLS Support Site - ECPv6.15.17.1//NONSGML v1.0//EN
CALSCALE:GREGORIAN
METHOD:PUBLISH
X-WR-CALNAME:PRLS Support Site
X-ORIGINAL-URL:https://support.prl.ab.ca
X-WR-CALDESC:Events for PRLS Support Site
REFRESH-INTERVAL;VALUE=DURATION:PT1H
X-Robots-Tag:noindex
X-PUBLISHED-TTL:PT1H
BEGIN:VTIMEZONE
TZID:America/Edmonton
BEGIN:DAYLIGHT
TZOFFSETFROM:-0700
TZOFFSETTO:-0600
TZNAME:MDT
DTSTART:20230312T090000
END:DAYLIGHT
BEGIN:STANDARD
TZOFFSETFROM:-0600
TZOFFSETTO:-0700
TZNAME:MST
DTSTART:20231105T080000
END:STANDARD
BEGIN:DAYLIGHT
TZOFFSETFROM:-0700
TZOFFSETTO:-0600
TZNAME:MDT
DTSTART:20240310T090000
END:DAYLIGHT
BEGIN:STANDARD
TZOFFSETFROM:-0600
TZOFFSETTO:-0700
TZNAME:MST
DTSTART:20241103T080000
END:STANDARD
BEGIN:DAYLIGHT
TZOFFSETFROM:-0700
TZOFFSETTO:-0600
TZNAME:MDT
DTSTART:20250309T090000
END:DAYLIGHT
BEGIN:STANDARD
TZOFFSETFROM:-0600
TZOFFSETTO:-0700
TZNAME:MST
DTSTART:20251102T080000
END:STANDARD
END:VTIMEZONE
BEGIN:VEVENT
DTSTART;VALUE=DATE:20241124
DTEND;VALUE=DATE:20241125
DTSTAMP:20260420T210357
CREATED:20231207T182740Z
LAST-MODIFIED:20231207T182740Z
UID:4287-1732406400-1732492799@support.prl.ab.ca
SUMMARY:Alberta Book Day
DESCRIPTION:
URL:https://support.prl.ab.ca/index.php/event/alberta-book-day-2/
CATEGORIES:Notable Dates
END:VEVENT
BEGIN:VEVENT
DTSTART;TZID=America/Edmonton:20241114T100000
DTEND;TZID=America/Edmonton:20241114T120000
DTSTAMP:20260420T210357
CREATED:20231207T182821Z
LAST-MODIFIED:20231207T182821Z
UID:4289-1731578400-1731585600@support.prl.ab.ca
SUMMARY:Parkland Regional Library System Board Meeting
DESCRIPTION:
URL:https://support.prl.ab.ca/index.php/event/parkland-regional-library-system-board-meeting-6/
CATEGORIES:PRL Board
END:VEVENT
BEGIN:VEVENT
DTSTART;VALUE=DATE:20241111
DTEND;VALUE=DATE:20241112
DTSTAMP:20260420T210357
CREATED:20240110T161116Z
LAST-MODIFIED:20240110T161116Z
UID:4324-1731283200-1731369599@support.prl.ab.ca
SUMMARY:Remembrance Day - Parkland Closed
DESCRIPTION:
URL:https://support.prl.ab.ca/index.php/event/remembrance-day-parkland-closed/
CATEGORIES:Event,Holiday Closure,Notable Dates
END:VEVENT
BEGIN:VEVENT
DTSTART;VALUE=DATE:20241108
DTEND;VALUE=DATE:20241109
DTSTAMP:20260420T210357
CREATED:20231207T182642Z
LAST-MODIFIED:20231207T182642Z
UID:4285-1731024000-1731110399@support.prl.ab.ca
SUMMARY:Indigenous Veterans Day
DESCRIPTION:
URL:https://support.prl.ab.ca/index.php/event/indigenous-veterans-day-2/
CATEGORIES:Notable Dates
END:VEVENT
BEGIN:VEVENT
DTSTART;TZID=America/Edmonton:20241104T100000
DTEND;TZID=America/Edmonton:20241104T120000
DTSTAMP:20260420T210357
CREATED:20240823T153407Z
LAST-MODIFIED:20240823T153407Z
UID:4808-1730714400-1730721600@support.prl.ab.ca
SUMMARY:PLC Meeting
DESCRIPTION:
URL:https://support.prl.ab.ca/index.php/event/plc-meeting-2/
CATEGORIES:Event,Hybrid,Notable Dates,Parkland Workshop,PLC
END:VEVENT
BEGIN:VEVENT
DTSTART;VALUE=DATE:20241104
DTEND;VALUE=DATE:20241108
DTSTAMP:20260420T210357
CREATED:20231207T182602Z
LAST-MODIFIED:20231207T182602Z
UID:4283-1730678400-1731023999@support.prl.ab.ca
SUMMARY:Rural Municipalities of Alberta Conference
DESCRIPTION:
URL:https://support.prl.ab.ca/index.php/event/rural-municipalities-of-alberta-conference-3/
CATEGORIES:Conferences,Event
END:VEVENT
BEGIN:VEVENT
DTSTART;VALUE=DATE:20241101
DTEND;VALUE=DATE:20241201
DTSTAMP:20260420T210357
CREATED:20231207T181839Z
LAST-MODIFIED:20231207T181839Z
UID:4281-1730419200-1733011199@support.prl.ab.ca
SUMMARY:Picture Book Month
DESCRIPTION:
URL:https://support.prl.ab.ca/index.php/event/picture-book-month-2/
CATEGORIES:Notable Dates
END:VEVENT
BEGIN:VEVENT
DTSTART;VALUE=DATE:20241101
DTEND;VALUE=DATE:20241201
DTSTAMP:20260420T210357
CREATED:20231207T181758Z
LAST-MODIFIED:20231207T181758Z
UID:4279-1730419200-1733011199@support.prl.ab.ca
SUMMARY:NaNoWriMo Month
DESCRIPTION:
URL:https://support.prl.ab.ca/index.php/event/nanowrimo-month-2/
CATEGORIES:Notable Dates
END:VEVENT
BEGIN:VEVENT
DTSTART;VALUE=DATE:20241021
DTEND;VALUE=DATE:20241026
DTSTAMP:20260420T210357
CREATED:20231207T181626Z
LAST-MODIFIED:20231207T181626Z
UID:4277-1729468800-1729900799@support.prl.ab.ca
SUMMARY:Media Literacy Week
DESCRIPTION:
URL:https://support.prl.ab.ca/index.php/event/media-literacy-week-2/
CATEGORIES:Notable Dates
END:VEVENT
BEGIN:VEVENT
DTSTART;VALUE=DATE:20241018
DTEND;VALUE=DATE:20241019
DTSTAMP:20260420T210357
CREATED:20231207T181423Z
LAST-MODIFIED:20240110T163211Z
UID:4275-1729209600-1729295999@support.prl.ab.ca
SUMMARY:Canadian Library Workers Day
DESCRIPTION:
URL:https://support.prl.ab.ca/index.php/event/canadian-library-workers-day-2/
CATEGORIES:Event,Notable Dates
END:VEVENT
BEGIN:VEVENT
DTSTART;VALUE=DATE:20241014
DTEND;VALUE=DATE:20241015
DTSTAMP:20260420T210357
CREATED:20240110T160920Z
LAST-MODIFIED:20240110T160920Z
UID:4322-1728864000-1728950399@support.prl.ab.ca
SUMMARY:Thanksgiving - Parkland Closed
DESCRIPTION:
URL:https://support.prl.ab.ca/index.php/event/thanksgiving-parkland-closed/
CATEGORIES:Holiday Closure
END:VEVENT
BEGIN:VEVENT
DTSTART;VALUE=DATE:20241001
DTEND;VALUE=DATE:20241101
DTSTAMP:20260420T210357
CREATED:20231207T181251Z
LAST-MODIFIED:20231207T181251Z
UID:4273-1727740800-1730419199@support.prl.ab.ca
SUMMARY:Teentober
DESCRIPTION:
URL:https://support.prl.ab.ca/index.php/event/teentober-3/
CATEGORIES:Notable Dates
END:VEVENT
BEGIN:VEVENT
DTSTART;VALUE=DATE:20241001
DTEND;VALUE=DATE:20241101
DTSTAMP:20260420T210357
CREATED:20231207T180942Z
LAST-MODIFIED:20231207T180942Z
UID:4271-1727740800-1730419199@support.prl.ab.ca
SUMMARY:Canadian Library Month
DESCRIPTION:
URL:https://support.prl.ab.ca/index.php/event/canadian-library-month-3/
CATEGORIES:Notable Dates
END:VEVENT
BEGIN:VEVENT
DTSTART;VALUE=DATE:20240930
DTEND;VALUE=DATE:20241001
DTSTAMP:20260420T210357
CREATED:20231207T180905Z
LAST-MODIFIED:20231207T180905Z
UID:4269-1727654400-1727740799@support.prl.ab.ca
SUMMARY:National Day for Truth and Reconciliation
DESCRIPTION:
URL:https://support.prl.ab.ca/index.php/event/national-day-for-truth-and-reconciliation-2/
CATEGORIES:Notable Dates
END:VEVENT
BEGIN:VEVENT
DTSTART;VALUE=DATE:20240923
DTEND;VALUE=DATE:20240924
DTSTAMP:20260420T210357
CREATED:20240110T160739Z
LAST-MODIFIED:20240110T160739Z
UID:4320-1727049600-1727135999@support.prl.ab.ca
SUMMARY:Parkland Conference
DESCRIPTION:
URL:https://support.prl.ab.ca/index.php/event/parkland-conference/
LOCATION:Lacome Memorial Centre\, 5214 50 Ave\, Lacombe\, Alberta\, T4L 0B6\, Canada
CATEGORIES:Conferences,Event,Notable Dates,Professional Development
END:VEVENT
BEGIN:VEVENT
DTSTART;VALUE=DATE:20240915
DTEND;VALUE=DATE:20241016
DTSTAMP:20260420T210357
CREATED:20231207T180111Z
LAST-MODIFIED:20231207T180111Z
UID:4261-1726358400-1729036799@support.prl.ab.ca
SUMMARY:Hispanic Heritage Month
DESCRIPTION:
URL:https://support.prl.ab.ca/index.php/event/hispanic-heritage-month-2/
CATEGORIES:Notable Dates
END:VEVENT
BEGIN:VEVENT
DTSTART;TZID=America/Edmonton:20240912T100000
DTEND;TZID=America/Edmonton:20240912T120000
DTSTAMP:20260420T210357
CREATED:20231207T180507Z
LAST-MODIFIED:20231207T180507Z
UID:4267-1726135200-1726142400@support.prl.ab.ca
SUMMARY:Parkland Regional Library System Board Meeting
DESCRIPTION:
URL:https://support.prl.ab.ca/index.php/event/parkland-regional-library-system-board-meeting-5/
CATEGORIES:PRL Board
END:VEVENT
BEGIN:VEVENT
DTSTART;VALUE=DATE:20240908
DTEND;VALUE=DATE:20240909
DTSTAMP:20260420T210357
CREATED:20231207T180421Z
LAST-MODIFIED:20231207T180421Z
UID:4265-1725753600-1725839999@support.prl.ab.ca
SUMMARY:International Literacy Day
DESCRIPTION:
URL:https://support.prl.ab.ca/index.php/event/international-literacy-day-3/
CATEGORIES:Notable Dates
END:VEVENT
BEGIN:VEVENT
DTSTART;VALUE=DATE:20240902
DTEND;VALUE=DATE:20240903
DTSTAMP:20260420T210357
CREATED:20240110T160404Z
LAST-MODIFIED:20240110T160404Z
UID:4318-1725235200-1725321599@support.prl.ab.ca
SUMMARY:Labour Day - Parkland Closed
DESCRIPTION:
URL:https://support.prl.ab.ca/index.php/event/labour-day-parkland-closed/
CATEGORIES:Holiday Closure
END:VEVENT
BEGIN:VEVENT
DTSTART;VALUE=DATE:20240901
DTEND;VALUE=DATE:20241001
DTSTAMP:20260420T210357
CREATED:20231207T180219Z
LAST-MODIFIED:20231207T180219Z
UID:4263-1725148800-1727740799@support.prl.ab.ca
SUMMARY:Alberta Culture Days
DESCRIPTION:
URL:https://support.prl.ab.ca/index.php/event/alberta-culture-days-3/
CATEGORIES:Notable Dates
END:VEVENT
BEGIN:VEVENT
DTSTART;VALUE=DATE:20240816
DTEND;VALUE=DATE:20240819
DTSTAMP:20260420T210357
CREATED:20231207T175842Z
LAST-MODIFIED:20231207T175842Z
UID:4259-1723766400-1724025599@support.prl.ab.ca
SUMMARY:When Worlds Collide Readers and Writers Festival
DESCRIPTION:
URL:https://support.prl.ab.ca/index.php/event/when-worlds-collide-readers-and-writers-festival/
CATEGORIES:Event
END:VEVENT
BEGIN:VEVENT
DTSTART;VALUE=DATE:20240805
DTEND;VALUE=DATE:20240806
DTSTAMP:20260420T210357
CREATED:20240110T160328Z
LAST-MODIFIED:20240110T163129Z
UID:4316-1722816000-1722902399@support.prl.ab.ca
SUMMARY:Civic Holiday - Parkland Closed
DESCRIPTION:
URL:https://support.prl.ab.ca/index.php/event/civic-holiday-parkland-closed/
CATEGORIES:Event,Holiday Closure,Notable Dates
END:VEVENT
BEGIN:VEVENT
DTSTART;VALUE=DATE:20240701
DTEND;VALUE=DATE:20240901
DTSTAMP:20260420T210357
CREATED:20231207T175755Z
LAST-MODIFIED:20231207T175755Z
UID:4257-1719792000-1725148799@support.prl.ab.ca
SUMMARY:TD Summer Reading Club
DESCRIPTION:
URL:https://support.prl.ab.ca/index.php/event/td-summer-reading-club/
CATEGORIES:Summer Reading Club
END:VEVENT
BEGIN:VEVENT
DTSTART;VALUE=DATE:20240701
DTEND;VALUE=DATE:20240702
DTSTAMP:20260420T210357
CREATED:20240110T160235Z
LAST-MODIFIED:20240110T160235Z
UID:4314-1719792000-1719878399@support.prl.ab.ca
SUMMARY:Canada Day - Parkland Closed
DESCRIPTION:
URL:https://support.prl.ab.ca/index.php/event/canada-day-parkland-closed/
END:VEVENT
BEGIN:VEVENT
DTSTART;VALUE=DATE:20240621
DTEND;VALUE=DATE:20240622
DTSTAMP:20260420T210357
CREATED:20231207T175701Z
LAST-MODIFIED:20231207T175711Z
UID:4255-1718928000-1719014399@support.prl.ab.ca
SUMMARY:National Indigenous People's Day
DESCRIPTION:
URL:https://support.prl.ab.ca/index.php/event/national-indigenous-peoples-day/
CATEGORIES:Notable Dates
END:VEVENT
BEGIN:VEVENT
DTSTART;VALUE=DATE:20240615
DTEND;VALUE=DATE:20240616
DTSTAMP:20260420T210357
CREATED:20231207T175606Z
LAST-MODIFIED:20231207T175606Z
UID:4253-1718409600-1718495999@support.prl.ab.ca
SUMMARY:Operating Grant Application and Budget Due to PLSB
DESCRIPTION:
URL:https://support.prl.ab.ca/index.php/event/operating-grant-application-and-budget-due-to-plsb/
CATEGORIES:Deadline,Grants
END:VEVENT
BEGIN:VEVENT
DTSTART;VALUE=DATE:20240605
DTEND;VALUE=DATE:20240606
DTSTAMP:20260420T210357
CREATED:20231207T175356Z
LAST-MODIFIED:20231207T175356Z
UID:4247-1717545600-1717631999@support.prl.ab.ca
SUMMARY:Rocky Mountain Book Award Announced
DESCRIPTION:
URL:https://support.prl.ab.ca/index.php/event/rocky-mountain-book-award-announced/
CATEGORIES:Notable Dates
END:VEVENT
BEGIN:VEVENT
DTSTART;VALUE=DATE:20240605
DTEND;VALUE=DATE:20240606
DTSTAMP:20260420T210357
CREATED:20231207T175310Z
LAST-MODIFIED:20231207T175310Z
UID:4245-1717545600-1717631999@support.prl.ab.ca
SUMMARY:Alberta Literary Awards Announced
DESCRIPTION:
URL:https://support.prl.ab.ca/index.php/event/alberta-literary-awards-announced/
CATEGORIES:Notable Dates
END:VEVENT
BEGIN:VEVENT
DTSTART;VALUE=DATE:20240601
DTEND;VALUE=DATE:20240701
DTSTAMP:20260420T210357
CREATED:20231207T175414Z
LAST-MODIFIED:20231207T175414Z
UID:4249-1717200000-1719791999@support.prl.ab.ca
SUMMARY:Pride Month
DESCRIPTION:
URL:https://support.prl.ab.ca/index.php/event/pride-month/
END:VEVENT
BEGIN:VEVENT
DTSTART;VALUE=DATE:20240601
DTEND;VALUE=DATE:20240701
DTSTAMP:20260420T210357
CREATED:20231207T175049Z
LAST-MODIFIED:20231207T175049Z
UID:4243-1717200000-1719791999@support.prl.ab.ca
SUMMARY:National Indigenous History Month
DESCRIPTION:
URL:https://support.prl.ab.ca/index.php/event/national-indigenous-history-month/
CATEGORIES:Notable Dates
END:VEVENT
END:VCALENDAR