BEGIN:VCALENDAR
VERSION:2.0
PRODID:-//PRLS Support Site - ECPv6.15.17.1//NONSGML v1.0//EN
CALSCALE:GREGORIAN
METHOD:PUBLISH
X-ORIGINAL-URL:https://support.prl.ab.ca
X-WR-CALDESC:Events for PRLS Support Site
REFRESH-INTERVAL;VALUE=DURATION:PT1H
X-Robots-Tag:noindex
X-PUBLISHED-TTL:PT1H
BEGIN:VTIMEZONE
TZID:America/Edmonton
BEGIN:DAYLIGHT
TZOFFSETFROM:-0700
TZOFFSETTO:-0600
TZNAME:MDT
DTSTART:20250309T090000
END:DAYLIGHT
BEGIN:STANDARD
TZOFFSETFROM:-0600
TZOFFSETTO:-0700
TZNAME:MST
DTSTART:20251102T080000
END:STANDARD
BEGIN:DAYLIGHT
TZOFFSETFROM:-0700
TZOFFSETTO:-0600
TZNAME:MDT
DTSTART:20260308T090000
END:DAYLIGHT
BEGIN:STANDARD
TZOFFSETFROM:-0600
TZOFFSETTO:-0700
TZNAME:MST
DTSTART:20261101T080000
END:STANDARD
BEGIN:DAYLIGHT
TZOFFSETFROM:-0700
TZOFFSETTO:-0600
TZNAME:MDT
DTSTART:20270314T090000
END:DAYLIGHT
BEGIN:STANDARD
TZOFFSETFROM:-0600
TZOFFSETTO:-0700
TZNAME:MST
DTSTART:20271107T080000
END:STANDARD
END:VTIMEZONE
BEGIN:VEVENT
DTSTART;TZID=America/Edmonton:20260309T100000
DTEND;TZID=America/Edmonton:20260309T120000
DTSTAMP:20260419T113316
CREATED:20251120T190132Z
LAST-MODIFIED:20260219T162044Z
UID:5840-1773050400-1773057600@support.prl.ab.ca
SUMMARY:PLC Meeting (Hybrid)
DESCRIPTION:Registration has closed for this event. If you have registered\, you will receive a calendar invite for the PLC meeting and the training if you have indicated you are attending. If you are attending virtually\, you will need to click on the meeting link in the calendar invite on the day of the meeting. If you are attending in person\, please try to arrive 10-15 minutes before the meeting starts at 10 am.\nA meeting package\, including the agenda and background material for each topic\, will be sent out by email at least one week before the meeting. Please read the package to prepare for the meeting. Bring insights and ideas from you and your staff!\nIf you have any questions\, please reach out to libraryservices@prl.ab.ca. Thank you and we hope to see you in March!
URL:https://support.prl.ab.ca/index.php/event/plc-meeting-4/
LOCATION:alberta
CATEGORIES:Notable Dates,PLC,Professional Development
END:VEVENT
BEGIN:VEVENT
DTSTART;TZID=America/Edmonton:20260309T130000
DTEND;TZID=America/Edmonton:20260309T150000
DTSTAMP:20260419T113316
CREATED:20260106T211958Z
LAST-MODIFIED:20260219T162125Z
UID:5957-1773061200-1773068400@support.prl.ab.ca
SUMMARY:Post PLC Training - New Privacy Legislation (Hybrid)
DESCRIPTION:Registration has closed for this event. If you have registered\, you will receive a calendar invite for the training if you have indicated you are attending. If you are attending virtually\, you will need to click on the meeting link in the calendar invite on the day of the meeting. If you are attending in person\, please try to arrive 10-15 minutes before the meeting starts at 10 am.\nIf you have any questions\, please reach out to libraryservices@prl.ab.ca. Thank you and we hope to see you in March!
URL:https://support.prl.ab.ca/index.php/event/post-plc-training-new-privacy-legislation-hybrid/
LOCATION:alberta
CATEGORIES:Professional Development
END:VEVENT
END:VCALENDAR