BEGIN:VCALENDAR
VERSION:2.0
PRODID:-//PRLS Support Site - ECPv6.15.17.1//NONSGML v1.0//EN
CALSCALE:GREGORIAN
METHOD:PUBLISH
X-WR-CALNAME:PRLS Support Site
X-ORIGINAL-URL:https://support.prl.ab.ca
X-WR-CALDESC:Events for PRLS Support Site
REFRESH-INTERVAL;VALUE=DURATION:PT1H
X-Robots-Tag:noindex
X-PUBLISHED-TTL:PT1H
BEGIN:VTIMEZONE
TZID:America/Edmonton
BEGIN:DAYLIGHT
TZOFFSETFROM:-0700
TZOFFSETTO:-0600
TZNAME:MDT
DTSTART:20240310T090000
END:DAYLIGHT
BEGIN:STANDARD
TZOFFSETFROM:-0600
TZOFFSETTO:-0700
TZNAME:MST
DTSTART:20241103T080000
END:STANDARD
BEGIN:DAYLIGHT
TZOFFSETFROM:-0700
TZOFFSETTO:-0600
TZNAME:MDT
DTSTART:20250309T090000
END:DAYLIGHT
BEGIN:STANDARD
TZOFFSETFROM:-0600
TZOFFSETTO:-0700
TZNAME:MST
DTSTART:20251102T080000
END:STANDARD
BEGIN:DAYLIGHT
TZOFFSETFROM:-0700
TZOFFSETTO:-0600
TZNAME:MDT
DTSTART:20260308T090000
END:DAYLIGHT
BEGIN:STANDARD
TZOFFSETFROM:-0600
TZOFFSETTO:-0700
TZNAME:MST
DTSTART:20261101T080000
END:STANDARD
END:VTIMEZONE
BEGIN:VEVENT
DTSTART;TZID=America/Edmonton:20250602T100000
DTEND;TZID=America/Edmonton:20250602T120000
DTSTAMP:20260420T012034
CREATED:20250124T163412Z
LAST-MODIFIED:20250526T194312Z
UID:5231-1748858400-1748865600@support.prl.ab.ca
SUMMARY:Summer PLC Meeting
DESCRIPTION:
URL:https://support.prl.ab.ca/index.php/event/summer-plc-meeting/
LOCATION:alberta
CATEGORIES:Hybrid,Parkland Workshop,PLC,Professional Development
END:VEVENT
BEGIN:VEVENT
DTSTART;TZID=America/Edmonton:20250602T130000
DTEND;TZID=America/Edmonton:20250602T150000
DTSTAMP:20260420T012034
CREATED:20250124T163450Z
LAST-MODIFIED:20250526T194422Z
UID:5233-1748869200-1748876400@support.prl.ab.ca
SUMMARY:Post PLC Training - Communication and Conflict Management
DESCRIPTION:
URL:https://support.prl.ab.ca/index.php/event/post-plc-training-topic-tbd/
LOCATION:alberta
CATEGORIES:Hybrid,Parkland Workshop,Professional Development
END:VEVENT
BEGIN:VEVENT
DTSTART;VALUE=DATE:20250617
DTEND;VALUE=DATE:20250621
DTSTAMP:20260420T012034
CREATED:20241114T211930Z
LAST-MODIFIED:20241114T222139Z
UID:4976-1750118400-1750463999@support.prl.ab.ca
SUMMARY:International Indigenous Librarians' Forum
DESCRIPTION:
URL:https://support.prl.ab.ca/index.php/event/international-indigenous-librarians-forum/
LOCATION:alberta
CATEGORIES:Conferences,Event,Notable Dates,Professional Development
END:VEVENT
BEGIN:VEVENT
DTSTART;TZID=America/Edmonton:20250624T083000
DTEND;TZID=America/Edmonton:20250624T150000
DTSTAMP:20260420T012034
CREATED:20250528T173553Z
LAST-MODIFIED:20250528T173559Z
UID:5438-1750753800-1750777200@support.prl.ab.ca
SUMMARY:Provincial Consultants Meeting @ Parkland HQ
DESCRIPTION:
URL:https://support.prl.ab.ca/index.php/event/provincial-consultants-meeting-parkland-hq/
LOCATION:alberta
CATEGORIES:Other,Professional Development
END:VEVENT
BEGIN:VEVENT
DTSTART;TZID=America/Edmonton:20250626T130000
DTEND;TZID=America/Edmonton:20250626T163000
DTSTAMP:20260420T012034
CREATED:20250124T163523Z
LAST-MODIFIED:20250526T173214Z
UID:5235-1750942800-1750955400@support.prl.ab.ca
SUMMARY:Programming Workshop
DESCRIPTION:
URL:https://support.prl.ab.ca/index.php/event/programming-workshop-2/
LOCATION:alberta
CATEGORIES:Parkland Workshop,Professional Development
END:VEVENT
END:VCALENDAR