BEGIN:VCALENDAR
VERSION:2.0
PRODID:-//PRLS Support Site - ECPv6.15.17.1//NONSGML v1.0//EN
CALSCALE:GREGORIAN
METHOD:PUBLISH
X-WR-CALNAME:PRLS Support Site
X-ORIGINAL-URL:https://support.prl.ab.ca
X-WR-CALDESC:Events for PRLS Support Site
REFRESH-INTERVAL;VALUE=DURATION:PT1H
X-Robots-Tag:noindex
X-PUBLISHED-TTL:PT1H
BEGIN:VTIMEZONE
TZID:America/Edmonton
BEGIN:DAYLIGHT
TZOFFSETFROM:-0700
TZOFFSETTO:-0600
TZNAME:MDT
DTSTART:20250309T090000
END:DAYLIGHT
BEGIN:STANDARD
TZOFFSETFROM:-0600
TZOFFSETTO:-0700
TZNAME:MST
DTSTART:20251102T080000
END:STANDARD
BEGIN:DAYLIGHT
TZOFFSETFROM:-0700
TZOFFSETTO:-0600
TZNAME:MDT
DTSTART:20260308T090000
END:DAYLIGHT
BEGIN:STANDARD
TZOFFSETFROM:-0600
TZOFFSETTO:-0700
TZNAME:MST
DTSTART:20261101T080000
END:STANDARD
BEGIN:DAYLIGHT
TZOFFSETFROM:-0700
TZOFFSETTO:-0600
TZNAME:MDT
DTSTART:20270314T090000
END:DAYLIGHT
BEGIN:STANDARD
TZOFFSETFROM:-0600
TZOFFSETTO:-0700
TZNAME:MST
DTSTART:20271107T080000
END:STANDARD
END:VTIMEZONE
BEGIN:VEVENT
DTSTART;VALUE=DATE:20260401
DTEND;VALUE=DATE:20260501
DTSTAMP:20260419T130723
CREATED:20251120T183059Z
LAST-MODIFIED:20251216T200801Z
UID:5786-1775001600-1777593599@support.prl.ab.ca
SUMMARY:National Poetry Month
DESCRIPTION:
URL:https://support.prl.ab.ca/index.php/event/national-poetry-month-3/
CATEGORIES:Notable Dates
END:VEVENT
BEGIN:VEVENT
DTSTART;VALUE=DATE:20260423
DTEND;VALUE=DATE:20260424
DTSTAMP:20260419T130723
CREATED:20251120T183829Z
LAST-MODIFIED:20251120T183829Z
UID:5800-1776902400-1776988799@support.prl.ab.ca
SUMMARY:Canada Book Day
DESCRIPTION:
URL:https://support.prl.ab.ca/index.php/event/canada-book-day-2/
CATEGORIES:Notable Dates
END:VEVENT
BEGIN:VEVENT
DTSTART;VALUE=DATE:20260426
DTEND;VALUE=DATE:20260503
DTSTAMP:20260419T130723
CREATED:20251120T183906Z
LAST-MODIFIED:20251216T200824Z
UID:5802-1777161600-1777766399@support.prl.ab.ca
SUMMARY:Canadian Children's Book Week
DESCRIPTION:
URL:https://support.prl.ab.ca/index.php/event/canadian-childrens-book-week-2/
CATEGORIES:Notable Dates
END:VEVENT
BEGIN:VEVENT
DTSTART;VALUE=DATE:20260502
DTEND;VALUE=DATE:20260503
DTSTAMP:20260419T130723
CREATED:20251120T183941Z
LAST-MODIFIED:20251216T200831Z
UID:5804-1777680000-1777766399@support.prl.ab.ca
SUMMARY:Free Comic Book Day
DESCRIPTION:
URL:https://support.prl.ab.ca/index.php/event/free-comic-book-day-4/
CATEGORIES:Event,Notable Dates
END:VEVENT
BEGIN:VEVENT
DTSTART;TZID=America/Edmonton:20260511T133000
DTEND;TZID=America/Edmonton:20260511T160000
DTSTAMP:20260419T130723
CREATED:20260106T212827Z
LAST-MODIFIED:20260327T160741Z
UID:5968-1778506200-1778515200@support.prl.ab.ca
SUMMARY:Customer Service Travelling Training Olds (In Person)
DESCRIPTION:Registration is now open for Parkland’s Travelling Customer Service Training. This training will be an opportunity to learn about the foundational principles of customer service\, observe demonstrations where those principles are put into practice\, and implement the customer service techniques you’ve learned within specific scenarios.\n\nWe encourage library managers\, staff\, and volunteers to attend this training!\n\nThe training dates and location options are listed below. When you are registering\, please pick one since they will all be the same training. If multiple people from your library will be attending\, please fill out one registration form per person.\n\nMonday\, May 4th from 1:30-4pm at Parkland HQ\nMonday\, May 11th from 1:30-4pm at Olds Municipal Library\nTuesday\, May 19th from 9:30am-12pm at Sedgewick & District Municipal Library\n\nOutlook calendar invites will be sent to you after registration closes on April 24th. \n \nPlease feel free to reach out with any questions you may have about the training or the registration process. Once again\, here is the link to register: https://parklandab.wufoo.com/forms/zzu52i1pycfo8/
URL:https://support.prl.ab.ca/index.php/event/customer-service-travelling-training-olds-in-person/
LOCATION:Olds and District Municipal Library\, 5217 - 52 Street\, Olds\, Alberta\, T4H 1H7\, Canada
CATEGORIES:Notable Dates,Parkland Workshop,Professional Development
END:VEVENT
BEGIN:VEVENT
DTSTART;TZID=America/Edmonton:20260513T080000
DTEND;TZID=America/Edmonton:20260513T170000
DTSTAMP:20260419T130723
CREATED:20251120T184135Z
LAST-MODIFIED:20251120T184135Z
UID:5806-1778659200-1778691600@support.prl.ab.ca
SUMMARY:Marigold Library System Conference
DESCRIPTION:
URL:https://support.prl.ab.ca/index.php/event/marigold-library-system-conference-2/
CATEGORIES:Conferences,Event,Notable Dates,Professional Development
END:VEVENT
BEGIN:VEVENT
DTSTART;VALUE=DATE:20260601
DTEND;VALUE=DATE:20260701
DTSTAMP:20260419T130723
CREATED:20251120T184343Z
LAST-MODIFIED:20251216T200851Z
UID:5810-1780272000-1782863999@support.prl.ab.ca
SUMMARY:Rainbow Book Month
DESCRIPTION:
URL:https://support.prl.ab.ca/index.php/event/rainbow-book-month-3/
CATEGORIES:Notable Dates
END:VEVENT
BEGIN:VEVENT
DTSTART;TZID=America/Edmonton:20260601T100000
DTEND;TZID=America/Edmonton:20260601T120000
DTSTAMP:20260419T130723
CREATED:20251120T190959Z
LAST-MODIFIED:20260106T213023Z
UID:5850-1780308000-1780315200@support.prl.ab.ca
SUMMARY:PLC Meeting (Hybrid)
DESCRIPTION:Parkland Libraries Council Meeting\, where member Library Managers meet to discuss and make decisions on important issues.
URL:https://support.prl.ab.ca/index.php/event/plc-meeting-5/
LOCATION:Parkland Regional Library\, 4565 46th\, Lacombe\, alberta\, T4L 0K2\, Canada
CATEGORIES:Event,Notable Dates,PLC
END:VEVENT
BEGIN:VEVENT
DTSTART;TZID=America/Edmonton:20260601T130000
DTEND;TZID=America/Edmonton:20260601T150000
DTSTAMP:20260419T130723
CREATED:20260106T213126Z
LAST-MODIFIED:20260106T213426Z
UID:5973-1780318800-1780326000@support.prl.ab.ca
SUMMARY:Post PLC Training - Best Practices in Library Leadership (Hybrid)
DESCRIPTION:Outlook calendar invites with more details will be sent 6 weeks prior to event.
URL:https://support.prl.ab.ca/index.php/event/post-plc-training-best-practices-in-library-leadership-hybrid/
CATEGORIES:Notable Dates,PLC,Professional Development
END:VEVENT
BEGIN:VEVENT
DTSTART;TZID=America/Edmonton:20260604T080000
DTEND;TZID=America/Edmonton:20260604T170000
DTSTAMP:20260419T130723
CREATED:20260106T213710Z
LAST-MODIFIED:20260106T213721Z
UID:5976-1780560000-1780592400@support.prl.ab.ca
SUMMARY:Train the Trainer - Indigenous Beading Workshop (In-Person)
DESCRIPTION:Outlook calendar invites with more details will be sent 6 weeks prior to event.
URL:https://support.prl.ab.ca/index.php/event/train-the-trainer-indigenous-beading-workshop/
LOCATION:Maskwacis Library Service\, Howard Buffalo Memorial Centre 52A AB-611\, Maskwacis\, AB T4J 1R1\, Maskwacis
CATEGORIES:Event,Notable Dates,Professional Development
END:VEVENT
BEGIN:VEVENT
DTSTART;TZID=America/Edmonton:20260618T130000
DTEND;TZID=America/Edmonton:20260618T163000
DTSTAMP:20260419T130723
CREATED:20260106T213847Z
LAST-MODIFIED:20260106T213847Z
UID:5979-1781787600-1781800200@support.prl.ab.ca
SUMMARY:Summer Reading Club Programming Workshop (In Person)
DESCRIPTION:Outlook calendar invites with more details will be sent 6 weeks prior to event.
URL:https://support.prl.ab.ca/index.php/event/summer-reading-club-programming-workshop-in-person/
LOCATION:Parkland Regional Library\, 4565 46th\, Lacombe\, alberta\, T4L 0K2\, Canada
CATEGORIES:Event,Notable Dates,Parkland Workshop
END:VEVENT
BEGIN:VEVENT
DTSTART;VALUE=DATE:20260701
DTEND;VALUE=DATE:20260702
DTSTAMP:20260419T130723
CREATED:20251120T184934Z
LAST-MODIFIED:20251216T200925Z
UID:5814-1782864000-1782950399@support.prl.ab.ca
SUMMARY:Canada Day - Parkland Closed
DESCRIPTION:
URL:https://support.prl.ab.ca/index.php/event/canada-day-parkland-closed-3/
CATEGORIES:Event,Holiday Closure,Notable Dates
END:VEVENT
BEGIN:VEVENT
DTSTART;VALUE=DATE:20260701
DTEND;VALUE=DATE:20260901
DTSTAMP:20260419T130723
CREATED:20251120T184717Z
LAST-MODIFIED:20251216T200947Z
UID:5812-1782864000-1788220799@support.prl.ab.ca
SUMMARY:TD Summer Reading Club
DESCRIPTION:
URL:https://support.prl.ab.ca/index.php/event/td-summer-reading-club-3/
CATEGORIES:Event,Notable Dates
END:VEVENT
BEGIN:VEVENT
DTSTART;VALUE=DATE:20260809
DTEND;VALUE=DATE:20260810
DTSTAMP:20260419T130723
CREATED:20251120T185028Z
LAST-MODIFIED:20251216T201000Z
UID:5818-1786233600-1786319999@support.prl.ab.ca
SUMMARY:National Book Lovers Day
DESCRIPTION:
URL:https://support.prl.ab.ca/index.php/event/national-book-lovers-day-2/
CATEGORIES:Notable Dates
END:VEVENT
BEGIN:VEVENT
DTSTART;TZID=America/Edmonton:20260814T080000
DTEND;TZID=America/Edmonton:20260816T170000
DTSTAMP:20260419T130723
CREATED:20251120T185116Z
LAST-MODIFIED:20251120T185116Z
UID:5820-1786694400-1786899600@support.prl.ab.ca
SUMMARY:When Worlds Collide Writers Festival
DESCRIPTION:
URL:https://support.prl.ab.ca/index.php/event/when-worlds-collide-writers-festival/
CATEGORIES:Notable Dates
END:VEVENT
BEGIN:VEVENT
DTSTART;VALUE=DATE:20260906
DTEND;VALUE=DATE:20260907
DTSTAMP:20260419T130723
CREATED:20251120T185335Z
LAST-MODIFIED:20251120T185335Z
UID:5822-1788652800-1788739199@support.prl.ab.ca
SUMMARY:Read a Book Day
DESCRIPTION:
URL:https://support.prl.ab.ca/index.php/event/read-a-book-day-2/
CATEGORIES:Notable Dates
END:VEVENT
BEGIN:VEVENT
DTSTART;VALUE=DATE:20260908
DTEND;VALUE=DATE:20260909
DTSTAMP:20260419T130723
CREATED:20251120T185440Z
LAST-MODIFIED:20251216T201008Z
UID:5826-1788825600-1788911999@support.prl.ab.ca
SUMMARY:International Literacy Day
DESCRIPTION:
URL:https://support.prl.ab.ca/index.php/event/international-literacy-day-5/
CATEGORIES:Notable Dates
END:VEVENT
BEGIN:VEVENT
DTSTART;TZID=America/Edmonton:20260921T090000
DTEND;TZID=America/Edmonton:20260921T160000
DTSTAMP:20260419T130723
CREATED:20251120T191352Z
LAST-MODIFIED:20251216T201024Z
UID:5858-1789981200-1790006400@support.prl.ab.ca
SUMMARY:Parkland Conference
DESCRIPTION:
URL:https://support.prl.ab.ca/index.php/event/parkland-conference-2/
CATEGORIES:Conferences,Event,Notable Dates,Professional Development
END:VEVENT
BEGIN:VEVENT
DTSTART;VALUE=DATE:20260930
DTEND;VALUE=DATE:20261001
DTSTAMP:20260419T130723
CREATED:20251120T185641Z
LAST-MODIFIED:20251216T201029Z
UID:5828-1790726400-1790812799@support.prl.ab.ca
SUMMARY:National Day for Truth and Reconcilliation
DESCRIPTION:
URL:https://support.prl.ab.ca/index.php/event/national-day-for-truth-and-reconcilliation/
CATEGORIES:Notable Dates
END:VEVENT
BEGIN:VEVENT
DTSTART;VALUE=DATE:20261001
DTEND;VALUE=DATE:20261101
DTSTAMP:20260419T130723
CREATED:20251120T185721Z
LAST-MODIFIED:20251216T201034Z
UID:5830-1790812800-1793491199@support.prl.ab.ca
SUMMARY:Canadian Library Month
DESCRIPTION:
URL:https://support.prl.ab.ca/index.php/event/canadian-library-month-4/
CATEGORIES:Event,Notable Dates
END:VEVENT
BEGIN:VEVENT
DTSTART;TZID=America/Edmonton:20261002T100000
DTEND;TZID=America/Edmonton:20261002T150000
DTSTAMP:20260419T130723
CREATED:20260106T220359Z
LAST-MODIFIED:20260106T220548Z
UID:5981-1790935200-1790953200@support.prl.ab.ca
SUMMARY:Indigenous Sharing Circle Gathering (In Person)
DESCRIPTION:Outlook calendar invites with more details will be sent 6 weeks prior to event.
URL:https://support.prl.ab.ca/index.php/event/indigenous-sharing-circle-gathering-in-person-2/
LOCATION:Maskwacis Library Service\, Howard Buffalo Memorial Centre 52A AB-611\, Maskwacis\, AB T4J 1R1\, Maskwacis
CATEGORIES:Event,Notable Dates,Professional Development
END:VEVENT
BEGIN:VEVENT
DTSTART;VALUE=DATE:20261012
DTEND;VALUE=DATE:20261013
DTSTAMP:20260419T130723
CREATED:20251120T185836Z
LAST-MODIFIED:20251216T201039Z
UID:5832-1791763200-1791849599@support.prl.ab.ca
SUMMARY:Thanksgiving Day - Parkland Closed
DESCRIPTION:
URL:https://support.prl.ab.ca/index.php/event/thanksgiving-day-parkland-closed/
CATEGORIES:Holiday Closure,Notable Dates
END:VEVENT
BEGIN:VEVENT
DTSTART;TZID=America/Edmonton:20261102T130000
DTEND;TZID=America/Edmonton:20261102T150000
DTSTAMP:20260419T130723
CREATED:20260106T220909Z
LAST-MODIFIED:20260122T190738Z
UID:5985-1793624400-1793631600@support.prl.ab.ca
SUMMARY:Post PLC Training Emergency Preparedness Training (Virtual)
DESCRIPTION:Amanda Haugen from Camrose Public Library will be doing a virtual training on emergency preparedness. \nOutlook calendar invites with more details will be sent 6 weeks prior to event.
URL:https://support.prl.ab.ca/index.php/event/post-plc-training-virtual-topic-tbd/
CATEGORIES:Event,Notable Dates,PLC,Professional Development
END:VEVENT
BEGIN:VEVENT
DTSTART;TZID=America/Edmonton:20261106T130000
DTEND;TZID=America/Edmonton:20261106T150000
DTSTAMP:20260419T130723
CREATED:20260106T221058Z
LAST-MODIFIED:20260106T221058Z
UID:5987-1793970000-1793977200@support.prl.ab.ca
SUMMARY:Polaris Training (Virtual)
DESCRIPTION:Outlook calendar invites with further details will be sent 6 weeks prior to the event.
URL:https://support.prl.ab.ca/index.php/event/polaris-training-virtual-2/
CATEGORIES:Event,Notable Dates,Parkland Workshop
END:VEVENT
BEGIN:VEVENT
DTSTART;VALUE=DATE:20261111
DTEND;VALUE=DATE:20261112
DTSTAMP:20260419T130723
CREATED:20251120T192152Z
LAST-MODIFIED:20251216T201101Z
UID:5878-1794355200-1794441599@support.prl.ab.ca
SUMMARY:Remembrance Day - Parkland Closed
DESCRIPTION:
URL:https://support.prl.ab.ca/index.php/event/remembrance-day-parkland-closed-3/
CATEGORIES:Holiday Closure,Notable Dates
END:VEVENT
BEGIN:VEVENT
DTSTART;VALUE=DATE:20261226
DTEND;VALUE=DATE:20261227
DTSTAMP:20260419T130723
CREATED:20251120T191831Z
LAST-MODIFIED:20251120T191831Z
UID:5873-1798243200-1798329599@support.prl.ab.ca
SUMMARY:Boxing Day
DESCRIPTION:
URL:https://support.prl.ab.ca/index.php/event/boxing-day/
CATEGORIES:Notable Dates
END:VEVENT
END:VCALENDAR