BEGIN:VCALENDAR
VERSION:2.0
PRODID:-//PRLS Support Site - ECPv6.15.17.1//NONSGML v1.0//EN
CALSCALE:GREGORIAN
METHOD:PUBLISH
X-WR-CALNAME:PRLS Support Site
X-ORIGINAL-URL:https://support.prl.ab.ca
X-WR-CALDESC:Events for PRLS Support Site
REFRESH-INTERVAL;VALUE=DURATION:PT1H
X-Robots-Tag:noindex
X-PUBLISHED-TTL:PT1H
BEGIN:VTIMEZONE
TZID:America/Edmonton
BEGIN:DAYLIGHT
TZOFFSETFROM:-0700
TZOFFSETTO:-0600
TZNAME:MDT
DTSTART:20250309T090000
END:DAYLIGHT
BEGIN:STANDARD
TZOFFSETFROM:-0600
TZOFFSETTO:-0700
TZNAME:MST
DTSTART:20251102T080000
END:STANDARD
BEGIN:DAYLIGHT
TZOFFSETFROM:-0700
TZOFFSETTO:-0600
TZNAME:MDT
DTSTART:20260308T090000
END:DAYLIGHT
BEGIN:STANDARD
TZOFFSETFROM:-0600
TZOFFSETTO:-0700
TZNAME:MST
DTSTART:20261101T080000
END:STANDARD
BEGIN:DAYLIGHT
TZOFFSETFROM:-0700
TZOFFSETTO:-0600
TZNAME:MDT
DTSTART:20270314T090000
END:DAYLIGHT
BEGIN:STANDARD
TZOFFSETFROM:-0600
TZOFFSETTO:-0700
TZNAME:MST
DTSTART:20271107T080000
END:STANDARD
END:VTIMEZONE
BEGIN:VEVENT
DTSTART;VALUE=DATE:20260701
DTEND;VALUE=DATE:20260901
DTSTAMP:20260419T173329
CREATED:20251120T184717Z
LAST-MODIFIED:20251216T200947Z
UID:5812-1782864000-1788220799@support.prl.ab.ca
SUMMARY:TD Summer Reading Club
DESCRIPTION:
URL:https://support.prl.ab.ca/index.php/event/td-summer-reading-club-3/
CATEGORIES:Event,Notable Dates
END:VEVENT
BEGIN:VEVENT
DTSTART;VALUE=DATE:20260809
DTEND;VALUE=DATE:20260810
DTSTAMP:20260419T173329
CREATED:20251120T185028Z
LAST-MODIFIED:20251216T201000Z
UID:5818-1786233600-1786319999@support.prl.ab.ca
SUMMARY:National Book Lovers Day
DESCRIPTION:
URL:https://support.prl.ab.ca/index.php/event/national-book-lovers-day-2/
CATEGORIES:Notable Dates
END:VEVENT
BEGIN:VEVENT
DTSTART;TZID=America/Edmonton:20260814T080000
DTEND;TZID=America/Edmonton:20260816T170000
DTSTAMP:20260419T173329
CREATED:20251120T185116Z
LAST-MODIFIED:20251120T185116Z
UID:5820-1786694400-1786899600@support.prl.ab.ca
SUMMARY:When Worlds Collide Writers Festival
DESCRIPTION:
URL:https://support.prl.ab.ca/index.php/event/when-worlds-collide-writers-festival/
CATEGORIES:Notable Dates
END:VEVENT
END:VCALENDAR