BEGIN:VCALENDAR
VERSION:2.0
PRODID:-//PRLS Support Site - ECPv6.15.17.1//NONSGML v1.0//EN
CALSCALE:GREGORIAN
METHOD:PUBLISH
X-ORIGINAL-URL:https://support.prl.ab.ca
X-WR-CALDESC:Events for PRLS Support Site
REFRESH-INTERVAL;VALUE=DURATION:PT1H
X-Robots-Tag:noindex
X-PUBLISHED-TTL:PT1H
BEGIN:VTIMEZONE
TZID:America/Edmonton
BEGIN:DAYLIGHT
TZOFFSETFROM:-0700
TZOFFSETTO:-0600
TZNAME:MDT
DTSTART:20250309T090000
END:DAYLIGHT
BEGIN:STANDARD
TZOFFSETFROM:-0600
TZOFFSETTO:-0700
TZNAME:MST
DTSTART:20251102T080000
END:STANDARD
BEGIN:DAYLIGHT
TZOFFSETFROM:-0700
TZOFFSETTO:-0600
TZNAME:MDT
DTSTART:20260308T090000
END:DAYLIGHT
BEGIN:STANDARD
TZOFFSETFROM:-0600
TZOFFSETTO:-0700
TZNAME:MST
DTSTART:20261101T080000
END:STANDARD
BEGIN:DAYLIGHT
TZOFFSETFROM:-0700
TZOFFSETTO:-0600
TZNAME:MDT
DTSTART:20270314T090000
END:DAYLIGHT
BEGIN:STANDARD
TZOFFSETFROM:-0600
TZOFFSETTO:-0700
TZNAME:MST
DTSTART:20271107T080000
END:STANDARD
END:VTIMEZONE
BEGIN:VEVENT
DTSTART;VALUE=DATE:20260601
DTEND;VALUE=DATE:20260701
DTSTAMP:20260419T144241
CREATED:20251120T184343Z
LAST-MODIFIED:20251216T200851Z
UID:5810-1780272000-1782863999@support.prl.ab.ca
SUMMARY:Rainbow Book Month
DESCRIPTION:
URL:https://support.prl.ab.ca/index.php/event/rainbow-book-month-3/
CATEGORIES:Notable Dates
END:VEVENT
BEGIN:VEVENT
DTSTART;TZID=America/Edmonton:20260601T100000
DTEND;TZID=America/Edmonton:20260601T120000
DTSTAMP:20260419T144241
CREATED:20251120T190959Z
LAST-MODIFIED:20260106T213023Z
UID:5850-1780308000-1780315200@support.prl.ab.ca
SUMMARY:PLC Meeting (Hybrid)
DESCRIPTION:Parkland Libraries Council Meeting\, where member Library Managers meet to discuss and make decisions on important issues.
URL:https://support.prl.ab.ca/index.php/event/plc-meeting-5/
LOCATION:Parkland Regional Library\, 4565 46th\, Lacombe\, alberta\, T4L 0K2\, Canada
CATEGORIES:Event,Notable Dates,PLC
END:VEVENT
BEGIN:VEVENT
DTSTART;TZID=America/Edmonton:20260601T130000
DTEND;TZID=America/Edmonton:20260601T150000
DTSTAMP:20260419T144241
CREATED:20260106T213126Z
LAST-MODIFIED:20260106T213426Z
UID:5973-1780318800-1780326000@support.prl.ab.ca
SUMMARY:Post PLC Training - Best Practices in Library Leadership (Hybrid)
DESCRIPTION:Outlook calendar invites with more details will be sent 6 weeks prior to event.
URL:https://support.prl.ab.ca/index.php/event/post-plc-training-best-practices-in-library-leadership-hybrid/
CATEGORIES:Notable Dates,PLC,Professional Development
END:VEVENT
BEGIN:VEVENT
DTSTART;TZID=America/Edmonton:20260604T080000
DTEND;TZID=America/Edmonton:20260604T170000
DTSTAMP:20260419T144241
CREATED:20260106T213710Z
LAST-MODIFIED:20260106T213721Z
UID:5976-1780560000-1780592400@support.prl.ab.ca
SUMMARY:Train the Trainer - Indigenous Beading Workshop (In-Person)
DESCRIPTION:Outlook calendar invites with more details will be sent 6 weeks prior to event.
URL:https://support.prl.ab.ca/index.php/event/train-the-trainer-indigenous-beading-workshop/
LOCATION:Maskwacis Library Service\, Howard Buffalo Memorial Centre 52A AB-611\, Maskwacis\, AB T4J 1R1\, Maskwacis
CATEGORIES:Event,Notable Dates,Professional Development
END:VEVENT
BEGIN:VEVENT
DTSTART;TZID=America/Edmonton:20260618T130000
DTEND;TZID=America/Edmonton:20260618T163000
DTSTAMP:20260419T144241
CREATED:20260106T213847Z
LAST-MODIFIED:20260106T213847Z
UID:5979-1781787600-1781800200@support.prl.ab.ca
SUMMARY:Summer Reading Club Programming Workshop (In Person)
DESCRIPTION:Outlook calendar invites with more details will be sent 6 weeks prior to event.
URL:https://support.prl.ab.ca/index.php/event/summer-reading-club-programming-workshop-in-person/
LOCATION:Parkland Regional Library\, 4565 46th\, Lacombe\, alberta\, T4L 0K2\, Canada
CATEGORIES:Event,Notable Dates,Parkland Workshop
END:VEVENT
END:VCALENDAR