BEGIN:VCALENDAR
VERSION:2.0
PRODID:-//PRLS Support Site - ECPv6.15.17.1//NONSGML v1.0//EN
CALSCALE:GREGORIAN
METHOD:PUBLISH
X-ORIGINAL-URL:https://support.prl.ab.ca
X-WR-CALDESC:Events for PRLS Support Site
REFRESH-INTERVAL;VALUE=DURATION:PT1H
X-Robots-Tag:noindex
X-PUBLISHED-TTL:PT1H
BEGIN:VTIMEZONE
TZID:America/Edmonton
BEGIN:DAYLIGHT
TZOFFSETFROM:-0700
TZOFFSETTO:-0600
TZNAME:MDT
DTSTART:20250309T090000
END:DAYLIGHT
BEGIN:STANDARD
TZOFFSETFROM:-0600
TZOFFSETTO:-0700
TZNAME:MST
DTSTART:20251102T080000
END:STANDARD
BEGIN:DAYLIGHT
TZOFFSETFROM:-0700
TZOFFSETTO:-0600
TZNAME:MDT
DTSTART:20260308T090000
END:DAYLIGHT
BEGIN:STANDARD
TZOFFSETFROM:-0600
TZOFFSETTO:-0700
TZNAME:MST
DTSTART:20261101T080000
END:STANDARD
BEGIN:DAYLIGHT
TZOFFSETFROM:-0700
TZOFFSETTO:-0600
TZNAME:MDT
DTSTART:20270314T090000
END:DAYLIGHT
BEGIN:STANDARD
TZOFFSETFROM:-0600
TZOFFSETTO:-0700
TZNAME:MST
DTSTART:20271107T080000
END:STANDARD
END:VTIMEZONE
BEGIN:VEVENT
DTSTART;VALUE=DATE:20260204
DTEND;VALUE=DATE:20260205
DTSTAMP:20260419T144241
CREATED:20251120T181853Z
LAST-MODIFIED:20260123T203432Z
UID:5764-1770163200-1770249599@support.prl.ab.ca
SUMMARY:World Read Aloud Day
DESCRIPTION:Reading aloud is a key that unlocks a lifetime of connection\, happiness\, and success for children. Research shows reading aloud builds powerful neural pathways that contribute to both emotional wellbeing and academic success. When a child is read to\, they are transported to a world of possibility\, joy\, and magic\, and learn to form deep connections to themselves and the people around them. By celebrating the read aloud\, we celebrate and share all that it is to be human.
URL:https://support.prl.ab.ca/index.php/event/world-read-aloud-day-3/
CATEGORIES:Notable Dates
END:VEVENT
BEGIN:VEVENT
DTSTART;VALUE=DATE:20260214
DTEND;VALUE=DATE:20260215
DTSTAMP:20260419T144241
CREATED:20251120T181927Z
LAST-MODIFIED:20260123T203502Z
UID:5766-1771027200-1771113599@support.prl.ab.ca
SUMMARY:Library Lovers Day
DESCRIPTION:Today is a day that celebrates love\, yes\, but it’s also Library Lover’s Day on February 14\, dedicated to book lovers across the globe. The day honors libraries and the amazing life-changing books they hold within them.
URL:https://support.prl.ab.ca/index.php/event/library-lovers-day-3/
CATEGORIES:Notable Dates
END:VEVENT
BEGIN:VEVENT
DTSTART;TZID=America/Edmonton:20260217T133000
DTEND;TZID=America/Edmonton:20260217T141000
DTSTAMP:20260419T144241
CREATED:20260120T185801Z
LAST-MODIFIED:20260203T170814Z
UID:6012-1771335000-1771337400@support.prl.ab.ca
SUMMARY:Spring Marketing Campaign Brainstorming
DESCRIPTION:Over the years\, Parkland has undertaken several regional marketing initiatives. The Golden Ticket Contest in October and Library Card Sign-Up Month in September have had great participation and feedback from member libraries. Having another contest or campaign earlier in the year would add some consistency to the marketing efforts of libraries. We’re looking for your feedback to determine if this is something libraries would be interested in\, and what and how to run a campaign that will make the biggest impact for our member libraries. \nAnyone in charge of their library’s marketing efforts or interested in marketing should join us for this brief feedback and brainstorming meeting. \nJoin the meeting now\nMeeting ID: 292 427 786 009 15\nPasscode: LN2Hr7Fn
URL:https://support.prl.ab.ca/index.php/event/spring-marketing-campaign-brainstorming/
CATEGORIES:Notable Dates
END:VEVENT
BEGIN:VEVENT
DTSTART;VALUE=DATE:20260219
DTEND;VALUE=DATE:20260221
DTSTAMP:20260419T144241
CREATED:20260106T221411Z
LAST-MODIFIED:20260106T221411Z
UID:5989-1771459200-1771631999@support.prl.ab.ca
SUMMARY:Central Alberta Teachers Convention
DESCRIPTION:
URL:https://support.prl.ab.ca/index.php/event/central-alberta-teachers-convention/
LOCATION:Red Deer Polytechnic\, 100 Donald Blvd Red Deer\, AB T4R 0V5 Canada
CATEGORIES:Conferences,Event,Notable Dates
END:VEVENT
BEGIN:VEVENT
DTSTART;TZID=America/Edmonton:20260222T080000
DTEND;TZID=America/Edmonton:20260228T170000
DTSTAMP:20260419T144241
CREATED:20251120T182212Z
LAST-MODIFIED:20251216T201202Z
UID:5770-1771747200-1772298000@support.prl.ab.ca
SUMMARY:Freedom to Read Week
DESCRIPTION:
URL:https://support.prl.ab.ca/index.php/event/freedom-to-read-week-4/
CATEGORIES:Notable Dates
END:VEVENT
END:VCALENDAR