BEGIN:VCALENDAR
VERSION:2.0
PRODID:-//PRLS Support Site - ECPv6.15.17.1//NONSGML v1.0//EN
CALSCALE:GREGORIAN
METHOD:PUBLISH
X-WR-CALNAME:PRLS Support Site
X-ORIGINAL-URL:https://support.prl.ab.ca
X-WR-CALDESC:Events for PRLS Support Site
REFRESH-INTERVAL;VALUE=DURATION:PT1H
X-Robots-Tag:noindex
X-PUBLISHED-TTL:PT1H
BEGIN:VTIMEZONE
TZID:America/Edmonton
BEGIN:DAYLIGHT
TZOFFSETFROM:-0700
TZOFFSETTO:-0600
TZNAME:MDT
DTSTART:20250309T090000
END:DAYLIGHT
BEGIN:STANDARD
TZOFFSETFROM:-0600
TZOFFSETTO:-0700
TZNAME:MST
DTSTART:20251102T080000
END:STANDARD
BEGIN:DAYLIGHT
TZOFFSETFROM:-0700
TZOFFSETTO:-0600
TZNAME:MDT
DTSTART:20260308T090000
END:DAYLIGHT
BEGIN:STANDARD
TZOFFSETFROM:-0600
TZOFFSETTO:-0700
TZNAME:MST
DTSTART:20261101T080000
END:STANDARD
BEGIN:DAYLIGHT
TZOFFSETFROM:-0700
TZOFFSETTO:-0600
TZNAME:MDT
DTSTART:20270314T090000
END:DAYLIGHT
BEGIN:STANDARD
TZOFFSETFROM:-0600
TZOFFSETTO:-0700
TZNAME:MST
DTSTART:20271107T080000
END:STANDARD
END:VTIMEZONE
BEGIN:VEVENT
DTSTART;VALUE=DATE:20260101
DTEND;VALUE=DATE:20260102
DTSTAMP:20260419T160857
CREATED:20251120T181543Z
LAST-MODIFIED:20251210T175642Z
UID:5754-1767225600-1767311999@support.prl.ab.ca
SUMMARY:New Years Day - Parkland Closed
DESCRIPTION:
URL:https://support.prl.ab.ca/index.php/event/new-years-day-parkland-closed-2/
CATEGORIES:Holiday Closure,Notable Dates
END:VEVENT
BEGIN:VEVENT
DTSTART;VALUE=DATE:20260102
DTEND;VALUE=DATE:20260103
DTSTAMP:20260419T160857
CREATED:20251120T181705Z
LAST-MODIFIED:20251120T181705Z
UID:5758-1767312000-1767398399@support.prl.ab.ca
SUMMARY:Science Fiction Day
DESCRIPTION:
URL:https://support.prl.ab.ca/index.php/event/science-fiction-day-2/
CATEGORIES:Notable Dates
END:VEVENT
BEGIN:VEVENT
DTSTART;VALUE=DATE:20260104
DTEND;VALUE=DATE:20260105
DTSTAMP:20260419T160857
CREATED:20251120T181637Z
LAST-MODIFIED:20251120T181637Z
UID:5756-1767484800-1767571199@support.prl.ab.ca
SUMMARY:World Braille Day
DESCRIPTION:
URL:https://support.prl.ab.ca/index.php/event/world-braille-day-2/
CATEGORIES:Notable Dates
END:VEVENT
BEGIN:VEVENT
DTSTART;VALUE=DATE:20260124
DTEND;VALUE=DATE:20260125
DTSTAMP:20260419T160857
CREATED:20251120T181741Z
LAST-MODIFIED:20251120T181741Z
UID:5760-1769212800-1769299199@support.prl.ab.ca
SUMMARY:International Day of Education
DESCRIPTION:
URL:https://support.prl.ab.ca/index.php/event/international-day-of-education-2/
CATEGORIES:Notable Dates
END:VEVENT
BEGIN:VEVENT
DTSTART;VALUE=DATE:20260127
DTEND;VALUE=DATE:20260128
DTSTAMP:20260419T160857
CREATED:20251120T181813Z
LAST-MODIFIED:20251216T201147Z
UID:5762-1769472000-1769558399@support.prl.ab.ca
SUMMARY:Family Literacy Day
DESCRIPTION:
URL:https://support.prl.ab.ca/index.php/event/family-literacy-day-4/
CATEGORIES:Notable Dates
END:VEVENT
END:VCALENDAR