BEGIN:VCALENDAR
VERSION:2.0
PRODID:-//PRLS Support Site - ECPv6.15.17.1//NONSGML v1.0//EN
CALSCALE:GREGORIAN
METHOD:PUBLISH
X-WR-CALNAME:PRLS Support Site
X-ORIGINAL-URL:https://support.prl.ab.ca
X-WR-CALDESC:Events for PRLS Support Site
REFRESH-INTERVAL;VALUE=DURATION:PT1H
X-Robots-Tag:noindex
X-PUBLISHED-TTL:PT1H
BEGIN:VTIMEZONE
TZID:America/Edmonton
BEGIN:DAYLIGHT
TZOFFSETFROM:-0700
TZOFFSETTO:-0600
TZNAME:MDT
DTSTART:20240310T090000
END:DAYLIGHT
BEGIN:STANDARD
TZOFFSETFROM:-0600
TZOFFSETTO:-0700
TZNAME:MST
DTSTART:20241103T080000
END:STANDARD
BEGIN:DAYLIGHT
TZOFFSETFROM:-0700
TZOFFSETTO:-0600
TZNAME:MDT
DTSTART:20250309T090000
END:DAYLIGHT
BEGIN:STANDARD
TZOFFSETFROM:-0600
TZOFFSETTO:-0700
TZNAME:MST
DTSTART:20251102T080000
END:STANDARD
BEGIN:DAYLIGHT
TZOFFSETFROM:-0700
TZOFFSETTO:-0600
TZNAME:MDT
DTSTART:20260308T090000
END:DAYLIGHT
BEGIN:STANDARD
TZOFFSETFROM:-0600
TZOFFSETTO:-0700
TZNAME:MST
DTSTART:20261101T080000
END:STANDARD
END:VTIMEZONE
BEGIN:VEVENT
DTSTART;VALUE=DATE:20251001
DTEND;VALUE=DATE:20251101
DTSTAMP:20260419T201634
CREATED:20250812T154826Z
LAST-MODIFIED:20250812T154954Z
UID:5601-1759276800-1761955199@support.prl.ab.ca
SUMMARY:Canadian Library Month Golden Ticket Contest
DESCRIPTION:The 2025 Golden Ticket Contest to celebrate Canadian Library Month is back! Each library will be provided with one golden ticket. Library staff will be responsible for hiding the golden ticket once per day. The tickets can only be found once per day by a patron. Once they are found\, the winner can submit an entry into the prize draw. They can scan the QR code to enter online (fast and easy) or fill out a paper ballot.\n\nFor social media resources and digital copies of the full instructions\, visit Q:\Marketing\Contests and Events\Golden Ticket Contest. Contact hhalberg@prl.ab.ca if you have any questions.
URL:https://support.prl.ab.ca/index.php/event/canadian-library-month-golden-ticket-contest/
CATEGORIES:Notable Dates
END:VEVENT
BEGIN:VEVENT
DTSTART;VALUE=DATE:20251001
DTEND;VALUE=DATE:20251002
DTSTAMP:20260419T201634
CREATED:20241114T213251Z
LAST-MODIFIED:20250526T160245Z
UID:4998-1759276800-1759363199@support.prl.ab.ca
SUMMARY:Latin American Heritage Month
DESCRIPTION:
URL:https://support.prl.ab.ca/index.php/event/latin-american-heritage-month/
CATEGORIES:Event,Notable Dates
END:VEVENT
BEGIN:VEVENT
DTSTART;VALUE=DATE:20251001
DTEND;VALUE=DATE:20251002
DTSTAMP:20260419T201634
CREATED:20241114T213328Z
LAST-MODIFIED:20250526T160254Z
UID:5000-1759276800-1759363199@support.prl.ab.ca
SUMMARY:Women's History Month (Canada)
DESCRIPTION:
URL:https://support.prl.ab.ca/index.php/event/womens-history-month-canada/
CATEGORIES:Event,Notable Dates
END:VEVENT
BEGIN:VEVENT
DTSTART;VALUE=DATE:20251007
DTEND;VALUE=DATE:20251008
DTSTAMP:20260419T201634
CREATED:20250722T190551Z
LAST-MODIFIED:20250722T190551Z
UID:5548-1759795200-1759881599@support.prl.ab.ca
SUMMARY:Indigenous Liaison Meeting
DESCRIPTION:Held at Yellowhead Regional Library HQ
URL:https://support.prl.ab.ca/index.php/event/indigenous-liaison-meeting/
CATEGORIES:Event,Notable Dates,Professional Development
END:VEVENT
BEGIN:VEVENT
DTSTART;VALUE=DATE:20251013
DTEND;VALUE=DATE:20251014
DTSTAMP:20260419T201634
CREATED:20241115T160854Z
LAST-MODIFIED:20241115T161016Z
UID:5030-1760313600-1760399999@support.prl.ab.ca
SUMMARY:Thanksgiving - Parkland Closed
DESCRIPTION:
URL:https://support.prl.ab.ca/index.php/event/thanksgiving/
CATEGORIES:Event,Holiday Closure,Notable Dates
END:VEVENT
BEGIN:VEVENT
DTSTART;VALUE=DATE:20251016
DTEND;VALUE=DATE:20251017
DTSTAMP:20260419T201634
CREATED:20241115T162620Z
LAST-MODIFIED:20241115T162620Z
UID:5065-1760572800-1760659199@support.prl.ab.ca
SUMMARY:Executive Committee Meeting
DESCRIPTION:
URL:https://support.prl.ab.ca/index.php/event/executive-committee-meeting-6/
CATEGORIES:Event,Notable Dates,PRL Board
END:VEVENT
BEGIN:VEVENT
DTSTART;VALUE=DATE:20251027
DTEND;VALUE=DATE:20251101
DTSTAMP:20260419T201634
CREATED:20241114T213449Z
LAST-MODIFIED:20241114T222229Z
UID:5004-1761523200-1761955199@support.prl.ab.ca
SUMMARY:Media Literacy Week
DESCRIPTION:
URL:https://support.prl.ab.ca/index.php/event/media-literacy-week-3/
CATEGORIES:Event,Notable Dates
END:VEVENT
END:VCALENDAR