BEGIN:VCALENDAR
VERSION:2.0
PRODID:-//PRLS Support Site - ECPv6.15.17.1//NONSGML v1.0//EN
CALSCALE:GREGORIAN
METHOD:PUBLISH
X-ORIGINAL-URL:https://support.prl.ab.ca
X-WR-CALDESC:Events for PRLS Support Site
REFRESH-INTERVAL;VALUE=DURATION:PT1H
X-Robots-Tag:noindex
X-PUBLISHED-TTL:PT1H
BEGIN:VTIMEZONE
TZID:America/Edmonton
BEGIN:DAYLIGHT
TZOFFSETFROM:-0700
TZOFFSETTO:-0600
TZNAME:MDT
DTSTART:20240310T090000
END:DAYLIGHT
BEGIN:STANDARD
TZOFFSETFROM:-0600
TZOFFSETTO:-0700
TZNAME:MST
DTSTART:20241103T080000
END:STANDARD
BEGIN:DAYLIGHT
TZOFFSETFROM:-0700
TZOFFSETTO:-0600
TZNAME:MDT
DTSTART:20250309T090000
END:DAYLIGHT
BEGIN:STANDARD
TZOFFSETFROM:-0600
TZOFFSETTO:-0700
TZNAME:MST
DTSTART:20251102T080000
END:STANDARD
BEGIN:DAYLIGHT
TZOFFSETFROM:-0700
TZOFFSETTO:-0600
TZNAME:MDT
DTSTART:20260308T090000
END:DAYLIGHT
BEGIN:STANDARD
TZOFFSETFROM:-0600
TZOFFSETTO:-0700
TZNAME:MST
DTSTART:20261101T080000
END:STANDARD
END:VTIMEZONE
BEGIN:VEVENT
DTSTART;VALUE=DATE:20250601
DTEND;VALUE=DATE:20250602
DTSTAMP:20260420T020308
CREATED:20241114T211726Z
LAST-MODIFIED:20250526T160200Z
UID:4970-1748736000-1748822399@support.prl.ab.ca
SUMMARY:Pride Month
DESCRIPTION:
URL:https://support.prl.ab.ca/index.php/event/pride-month-2/
CATEGORIES:Event,Notable Dates
END:VEVENT
BEGIN:VEVENT
DTSTART;VALUE=DATE:20250601
DTEND;VALUE=DATE:20250602
DTSTAMP:20260420T020308
CREATED:20241114T211759Z
LAST-MODIFIED:20250526T160147Z
UID:4972-1748736000-1748822399@support.prl.ab.ca
SUMMARY:Rainbow Book Month
DESCRIPTION:
URL:https://support.prl.ab.ca/index.php/event/rainbow-book-month-2/
CATEGORIES:Event,Notable Dates
END:VEVENT
BEGIN:VEVENT
DTSTART;VALUE=DATE:20250601
DTEND;VALUE=DATE:20250602
DTSTAMP:20260420T020308
CREATED:20241114T211840Z
LAST-MODIFIED:20250526T160138Z
UID:4974-1748736000-1748822399@support.prl.ab.ca
SUMMARY:Indigenous History Month
DESCRIPTION:
URL:https://support.prl.ab.ca/index.php/event/indigenous-history-month/
CATEGORIES:Event,Notable Dates
END:VEVENT
BEGIN:VEVENT
DTSTART;VALUE=DATE:20250617
DTEND;VALUE=DATE:20250621
DTSTAMP:20260420T020308
CREATED:20241114T211930Z
LAST-MODIFIED:20241114T222139Z
UID:4976-1750118400-1750463999@support.prl.ab.ca
SUMMARY:International Indigenous Librarians' Forum
DESCRIPTION:
URL:https://support.prl.ab.ca/index.php/event/international-indigenous-librarians-forum/
CATEGORIES:Conferences,Event,Notable Dates,Professional Development
END:VEVENT
BEGIN:VEVENT
DTSTART;VALUE=DATE:20250619
DTEND;VALUE=DATE:20250620
DTSTAMP:20260420T020308
CREATED:20241115T162529Z
LAST-MODIFIED:20241115T162529Z
UID:5061-1750291200-1750377599@support.prl.ab.ca
SUMMARY:Executive Committee Meeting
DESCRIPTION:
URL:https://support.prl.ab.ca/index.php/event/executive-committee-meeting-4/
CATEGORIES:Event,Notable Dates,PRL Board
END:VEVENT
BEGIN:VEVENT
DTSTART;VALUE=DATE:20250621
DTEND;VALUE=DATE:20250622
DTSTAMP:20260420T020308
CREATED:20241114T212001Z
LAST-MODIFIED:20241114T222143Z
UID:4978-1750464000-1750550399@support.prl.ab.ca
SUMMARY:National Indigenous Peoples Day
DESCRIPTION:
URL:https://support.prl.ab.ca/index.php/event/national-indigenous-peoples-day-2/
CATEGORIES:Event,Notable Dates
END:VEVENT
END:VCALENDAR