BEGIN:VCALENDAR
VERSION:2.0
PRODID:-//PRLS Support Site - ECPv6.15.17.1//NONSGML v1.0//EN
CALSCALE:GREGORIAN
METHOD:PUBLISH
X-ORIGINAL-URL:https://support.prl.ab.ca
X-WR-CALDESC:Events for PRLS Support Site
REFRESH-INTERVAL;VALUE=DURATION:PT1H
X-Robots-Tag:noindex
X-PUBLISHED-TTL:PT1H
BEGIN:VTIMEZONE
TZID:America/Edmonton
BEGIN:DAYLIGHT
TZOFFSETFROM:-0700
TZOFFSETTO:-0600
TZNAME:MDT
DTSTART:20230312T090000
END:DAYLIGHT
BEGIN:STANDARD
TZOFFSETFROM:-0600
TZOFFSETTO:-0700
TZNAME:MST
DTSTART:20231105T080000
END:STANDARD
BEGIN:DAYLIGHT
TZOFFSETFROM:-0700
TZOFFSETTO:-0600
TZNAME:MDT
DTSTART:20240310T090000
END:DAYLIGHT
BEGIN:STANDARD
TZOFFSETFROM:-0600
TZOFFSETTO:-0700
TZNAME:MST
DTSTART:20241103T080000
END:STANDARD
BEGIN:DAYLIGHT
TZOFFSETFROM:-0700
TZOFFSETTO:-0600
TZNAME:MDT
DTSTART:20250309T090000
END:DAYLIGHT
BEGIN:STANDARD
TZOFFSETFROM:-0600
TZOFFSETTO:-0700
TZNAME:MST
DTSTART:20251102T080000
END:STANDARD
END:VTIMEZONE
BEGIN:VEVENT
DTSTART;VALUE=DATE:20241225
DTEND;VALUE=DATE:20241226
DTSTAMP:20260420T090458
CREATED:20240110T161238Z
LAST-MODIFIED:20240110T161238Z
UID:4326-1735084800-1735171199@support.prl.ab.ca
SUMMARY:Christmas Day - Parkland Closed
DESCRIPTION:
URL:https://support.prl.ab.ca/index.php/event/christmas-day-parkland-closed/
CATEGORIES:Event,Holiday Closure,Notable Dates
END:VEVENT
BEGIN:VEVENT
DTSTART;VALUE=DATE:20241226
DTEND;VALUE=DATE:20241227
DTSTAMP:20260420T090458
CREATED:20240110T161304Z
LAST-MODIFIED:20240110T161304Z
UID:4328-1735171200-1735257599@support.prl.ab.ca
SUMMARY:Boxing Day - Parkland Closed
DESCRIPTION:
URL:https://support.prl.ab.ca/index.php/event/boxing-day-parkland-closed/
CATEGORIES:Event,Holiday Closure,Notable Dates
END:VEVENT
BEGIN:VEVENT
DTSTART;VALUE=DATE:20241227
DTEND;VALUE=DATE:20250101
DTSTAMP:20260420T090458
CREATED:20240110T161350Z
LAST-MODIFIED:20240110T161350Z
UID:4330-1735257600-1735689599@support.prl.ab.ca
SUMMARY:Parkland Holiday Closure
DESCRIPTION:
URL:https://support.prl.ab.ca/index.php/event/parkland-holiday-closure/
CATEGORIES:Event,Holiday Closure,Notable Dates
END:VEVENT
END:VCALENDAR