BEGIN:VCALENDAR
VERSION:2.0
PRODID:-//PRLS Support Site - ECPv6.15.17.1//NONSGML v1.0//EN
CALSCALE:GREGORIAN
METHOD:PUBLISH
X-ORIGINAL-URL:https://support.prl.ab.ca
X-WR-CALDESC:Events for PRLS Support Site
REFRESH-INTERVAL;VALUE=DURATION:PT1H
X-Robots-Tag:noindex
X-PUBLISHED-TTL:PT1H
BEGIN:VTIMEZONE
TZID:America/Edmonton
BEGIN:DAYLIGHT
TZOFFSETFROM:-0700
TZOFFSETTO:-0600
TZNAME:MDT
DTSTART:20230312T090000
END:DAYLIGHT
BEGIN:STANDARD
TZOFFSETFROM:-0600
TZOFFSETTO:-0700
TZNAME:MST
DTSTART:20231105T080000
END:STANDARD
BEGIN:DAYLIGHT
TZOFFSETFROM:-0700
TZOFFSETTO:-0600
TZNAME:MDT
DTSTART:20240310T090000
END:DAYLIGHT
BEGIN:STANDARD
TZOFFSETFROM:-0600
TZOFFSETTO:-0700
TZNAME:MST
DTSTART:20241103T080000
END:STANDARD
BEGIN:DAYLIGHT
TZOFFSETFROM:-0700
TZOFFSETTO:-0600
TZNAME:MDT
DTSTART:20250309T090000
END:DAYLIGHT
BEGIN:STANDARD
TZOFFSETFROM:-0600
TZOFFSETTO:-0700
TZNAME:MST
DTSTART:20251102T080000
END:STANDARD
END:VTIMEZONE
BEGIN:VEVENT
DTSTART;VALUE=DATE:20240601
DTEND;VALUE=DATE:20240701
DTSTAMP:20260420T154058
CREATED:20231207T175010Z
LAST-MODIFIED:20240110T163056Z
UID:4241-1717200000-1719791999@support.prl.ab.ca
SUMMARY:Rainbow Book Month
DESCRIPTION:
URL:https://support.prl.ab.ca/index.php/event/rainbow-book-month/
CATEGORIES:Event,Notable Dates
END:VEVENT
BEGIN:VEVENT
DTSTART;VALUE=DATE:20240601
DTEND;VALUE=DATE:20240701
DTSTAMP:20260420T154058
CREATED:20231207T175049Z
LAST-MODIFIED:20231207T175049Z
UID:4243-1717200000-1719791999@support.prl.ab.ca
SUMMARY:National Indigenous History Month
DESCRIPTION:
URL:https://support.prl.ab.ca/index.php/event/national-indigenous-history-month/
CATEGORIES:Notable Dates
END:VEVENT
BEGIN:VEVENT
DTSTART;VALUE=DATE:20240605
DTEND;VALUE=DATE:20240606
DTSTAMP:20260420T154058
CREATED:20231207T175310Z
LAST-MODIFIED:20231207T175310Z
UID:4245-1717545600-1717631999@support.prl.ab.ca
SUMMARY:Alberta Literary Awards Announced
DESCRIPTION:
URL:https://support.prl.ab.ca/index.php/event/alberta-literary-awards-announced/
CATEGORIES:Notable Dates
END:VEVENT
BEGIN:VEVENT
DTSTART;VALUE=DATE:20240605
DTEND;VALUE=DATE:20240606
DTSTAMP:20260420T154058
CREATED:20231207T175356Z
LAST-MODIFIED:20231207T175356Z
UID:4247-1717545600-1717631999@support.prl.ab.ca
SUMMARY:Rocky Mountain Book Award Announced
DESCRIPTION:
URL:https://support.prl.ab.ca/index.php/event/rocky-mountain-book-award-announced/
CATEGORIES:Notable Dates
END:VEVENT
BEGIN:VEVENT
DTSTART;VALUE=DATE:20240621
DTEND;VALUE=DATE:20240622
DTSTAMP:20260420T154058
CREATED:20231207T175701Z
LAST-MODIFIED:20231207T175711Z
UID:4255-1718928000-1719014399@support.prl.ab.ca
SUMMARY:National Indigenous People's Day
DESCRIPTION:
URL:https://support.prl.ab.ca/index.php/event/national-indigenous-peoples-day/
CATEGORIES:Notable Dates
END:VEVENT
END:VCALENDAR