BEGIN:VCALENDAR
VERSION:2.0
PRODID:-//PRLS Support Site - ECPv6.15.17.1//NONSGML v1.0//EN
CALSCALE:GREGORIAN
METHOD:PUBLISH
X-WR-CALNAME:PRLS Support Site
X-ORIGINAL-URL:https://support.prl.ab.ca
X-WR-CALDESC:Events for PRLS Support Site
REFRESH-INTERVAL;VALUE=DURATION:PT1H
X-Robots-Tag:noindex
X-PUBLISHED-TTL:PT1H
BEGIN:VTIMEZONE
TZID:America/Edmonton
BEGIN:DAYLIGHT
TZOFFSETFROM:-0700
TZOFFSETTO:-0600
TZNAME:MDT
DTSTART:20210314T090000
END:DAYLIGHT
BEGIN:STANDARD
TZOFFSETFROM:-0600
TZOFFSETTO:-0700
TZNAME:MST
DTSTART:20211107T080000
END:STANDARD
BEGIN:DAYLIGHT
TZOFFSETFROM:-0700
TZOFFSETTO:-0600
TZNAME:MDT
DTSTART:20220313T090000
END:DAYLIGHT
BEGIN:STANDARD
TZOFFSETFROM:-0600
TZOFFSETTO:-0700
TZNAME:MST
DTSTART:20221106T080000
END:STANDARD
BEGIN:DAYLIGHT
TZOFFSETFROM:-0700
TZOFFSETTO:-0600
TZNAME:MDT
DTSTART:20230312T090000
END:DAYLIGHT
BEGIN:STANDARD
TZOFFSETFROM:-0600
TZOFFSETTO:-0700
TZNAME:MST
DTSTART:20231105T080000
END:STANDARD
BEGIN:DAYLIGHT
TZOFFSETFROM:-0700
TZOFFSETTO:-0600
TZNAME:MDT
DTSTART:20240310T090000
END:DAYLIGHT
BEGIN:STANDARD
TZOFFSETFROM:-0600
TZOFFSETTO:-0700
TZNAME:MST
DTSTART:20241103T080000
END:STANDARD
BEGIN:DAYLIGHT
TZOFFSETFROM:-0700
TZOFFSETTO:-0600
TZNAME:MDT
DTSTART:20250309T090000
END:DAYLIGHT
BEGIN:STANDARD
TZOFFSETFROM:-0600
TZOFFSETTO:-0700
TZNAME:MST
DTSTART:20251102T080000
END:STANDARD
BEGIN:DAYLIGHT
TZOFFSETFROM:-0700
TZOFFSETTO:-0600
TZNAME:MDT
DTSTART:20260308T090000
END:DAYLIGHT
BEGIN:STANDARD
TZOFFSETFROM:-0600
TZOFFSETTO:-0700
TZNAME:MST
DTSTART:20261101T080000
END:STANDARD
BEGIN:DAYLIGHT
TZOFFSETFROM:-0700
TZOFFSETTO:-0600
TZNAME:MDT
DTSTART:20270314T090000
END:DAYLIGHT
BEGIN:STANDARD
TZOFFSETFROM:-0600
TZOFFSETTO:-0700
TZNAME:MST
DTSTART:20271107T080000
END:STANDARD
END:VTIMEZONE
BEGIN:VEVENT
DTSTART;VALUE=DATE:20260406
DTEND;VALUE=DATE:20260407
DTSTAMP:20260419T161542
CREATED:20251120T183517Z
LAST-MODIFIED:20251120T183517Z
UID:5794-1775433600-1775519999@support.prl.ab.ca
SUMMARY:Easter Monday - Parkland Closed
DESCRIPTION:
URL:https://support.prl.ab.ca/index.php/event/easter-monday-parkland-closed-3/
CATEGORIES:Holiday Closure
END:VEVENT
BEGIN:VEVENT
DTSTART;VALUE=DATE:20260403
DTEND;VALUE=DATE:20260404
DTSTAMP:20260419T161542
CREATED:20251120T200259Z
LAST-MODIFIED:20251216T200814Z
UID:5882-1775174400-1775260799@support.prl.ab.ca
SUMMARY:No Van Run - Trips 4 and 8
DESCRIPTION: Trips 4 and 8 will not receive a van delivery on Friday\, April 3
URL:https://support.prl.ab.ca/index.php/event/no-van-run-trips-4-and-8-2/
CATEGORIES:Holiday Closure
END:VEVENT
BEGIN:VEVENT
DTSTART;VALUE=DATE:20260403
DTEND;VALUE=DATE:20260404
DTSTAMP:20260419T161542
CREATED:20251120T183454Z
LAST-MODIFIED:20251216T200808Z
UID:5792-1775174400-1775260799@support.prl.ab.ca
SUMMARY:Good Friday - Parkland Closed
DESCRIPTION:
URL:https://support.prl.ab.ca/index.php/event/good-friday-parkland-closed-3/
CATEGORIES:Holiday Closure
END:VEVENT
BEGIN:VEVENT
DTSTART;VALUE=DATE:20260216
DTEND;VALUE=DATE:20260217
DTSTAMP:20260419T161542
CREATED:20251120T182134Z
LAST-MODIFIED:20251216T201157Z
UID:5768-1771200000-1771286399@support.prl.ab.ca
SUMMARY:Family Day - Parkland Closed
DESCRIPTION:
URL:https://support.prl.ab.ca/index.php/event/family-day-parkland-closed-2/
CATEGORIES:Holiday Closure
END:VEVENT
BEGIN:VEVENT
DTSTART;VALUE=DATE:20260101
DTEND;VALUE=DATE:20260102
DTSTAMP:20260419T161542
CREATED:20251120T181543Z
LAST-MODIFIED:20251210T175642Z
UID:5754-1767225600-1767311999@support.prl.ab.ca
SUMMARY:New Years Day - Parkland Closed
DESCRIPTION:
URL:https://support.prl.ab.ca/index.php/event/new-years-day-parkland-closed-2/
CATEGORIES:Holiday Closure,Notable Dates
END:VEVENT
BEGIN:VEVENT
DTSTART;VALUE=DATE:20251227
DTEND;VALUE=DATE:20260101
DTSTAMP:20260419T161542
CREATED:20241115T161258Z
LAST-MODIFIED:20251210T175800Z
UID:5039-1766793600-1767225599@support.prl.ab.ca
SUMMARY:Parkland Holiday Closure
DESCRIPTION:
URL:https://support.prl.ab.ca/index.php/event/parkland-holiday-closure-2/
CATEGORIES:Event,Holiday Closure,Notable Dates
END:VEVENT
BEGIN:VEVENT
DTSTART;VALUE=DATE:20251226
DTEND;VALUE=DATE:20251227
DTSTAMP:20260419T161542
CREATED:20241115T161215Z
LAST-MODIFIED:20251210T175823Z
UID:5037-1766707200-1766793599@support.prl.ab.ca
SUMMARY:Boxing Day - Parkland Closed
DESCRIPTION:
URL:https://support.prl.ab.ca/index.php/event/boxing-day-parkland-closed-2/
CATEGORIES:Event,Holiday Closure,Notable Dates
END:VEVENT
BEGIN:VEVENT
DTSTART;VALUE=DATE:20251225
DTEND;VALUE=DATE:20251226
DTSTAMP:20260419T161542
CREATED:20241115T161154Z
LAST-MODIFIED:20251210T175846Z
UID:5035-1766620800-1766707199@support.prl.ab.ca
SUMMARY:Christmas - Parkland Closed
DESCRIPTION:
URL:https://support.prl.ab.ca/index.php/event/christmas-parkland-closed/
CATEGORIES:Event,Holiday Closure,Notable Dates
END:VEVENT
BEGIN:VEVENT
DTSTART;VALUE=DATE:20251111
DTEND;VALUE=DATE:20251112
DTSTAMP:20260419T161542
CREATED:20241218T202441Z
LAST-MODIFIED:20241218T202441Z
UID:5183-1762819200-1762905599@support.prl.ab.ca
SUMMARY:No Van Run
DESCRIPTION:
URL:https://support.prl.ab.ca/index.php/event/no-van-run-3/
CATEGORIES:Holiday Closure
END:VEVENT
BEGIN:VEVENT
DTSTART;VALUE=DATE:20251111
DTEND;VALUE=DATE:20251112
DTSTAMP:20260419T161542
CREATED:20241115T160949Z
LAST-MODIFIED:20241115T160949Z
UID:5032-1762819200-1762905599@support.prl.ab.ca
SUMMARY:Remembrance Day - Parkland Closed
DESCRIPTION:
URL:https://support.prl.ab.ca/index.php/event/remembrance-day-parkland-closed-2/
CATEGORIES:Event,Holiday Closure,Notable Dates
END:VEVENT
BEGIN:VEVENT
DTSTART;VALUE=DATE:20251013
DTEND;VALUE=DATE:20251014
DTSTAMP:20260419T161542
CREATED:20241115T160854Z
LAST-MODIFIED:20241115T161016Z
UID:5030-1760313600-1760399999@support.prl.ab.ca
SUMMARY:Thanksgiving - Parkland Closed
DESCRIPTION:
URL:https://support.prl.ab.ca/index.php/event/thanksgiving/
CATEGORIES:Event,Holiday Closure,Notable Dates
END:VEVENT
BEGIN:VEVENT
DTSTART;VALUE=DATE:20250901
DTEND;VALUE=DATE:20250902
DTSTAMP:20260419T161542
CREATED:20241115T160449Z
LAST-MODIFIED:20241115T160449Z
UID:5028-1756684800-1756771199@support.prl.ab.ca
SUMMARY:Labour Day - Parkland Closed
DESCRIPTION:
URL:https://support.prl.ab.ca/index.php/event/labour-day-parkland-closed-2/
CATEGORIES:Event,Holiday Closure,Notable Dates
END:VEVENT
BEGIN:VEVENT
DTSTART;VALUE=DATE:20250804
DTEND;VALUE=DATE:20250805
DTSTAMP:20260419T161542
CREATED:20241115T160350Z
LAST-MODIFIED:20241115T160350Z
UID:5026-1754265600-1754351999@support.prl.ab.ca
SUMMARY:Civic Holiday - Parkland Closed
DESCRIPTION:
URL:https://support.prl.ab.ca/index.php/event/civic-holiday-parkland-closed-2/
CATEGORIES:Event,Holiday Closure,Notable Dates
END:VEVENT
BEGIN:VEVENT
DTSTART;VALUE=DATE:20250701
DTEND;VALUE=DATE:20250702
DTSTAMP:20260419T161542
CREATED:20250112T202401Z
LAST-MODIFIED:20250113T184241Z
UID:5181-1751328000-1751414399@support.prl.ab.ca
SUMMARY:No Van Run
DESCRIPTION:
URL:https://support.prl.ab.ca/index.php/event/no-van-run-2/
CATEGORIES:Holiday Closure
END:VEVENT
BEGIN:VEVENT
DTSTART;VALUE=DATE:20250701
DTEND;VALUE=DATE:20250702
DTSTAMP:20260419T161542
CREATED:20241115T160318Z
LAST-MODIFIED:20241115T160318Z
UID:5024-1751328000-1751414399@support.prl.ab.ca
SUMMARY:Canada Day - Parkland Closed
DESCRIPTION:
URL:https://support.prl.ab.ca/index.php/event/canada-day-parkland-closed-2/
CATEGORIES:Event,Holiday Closure,Notable Dates
END:VEVENT
BEGIN:VEVENT
DTSTART;VALUE=DATE:20250519
DTEND;VALUE=DATE:20250520
DTSTAMP:20260419T161542
CREATED:20241115T160249Z
LAST-MODIFIED:20241115T160249Z
UID:5022-1747612800-1747699199@support.prl.ab.ca
SUMMARY:Victoria Day - Parkland Closed
DESCRIPTION:
URL:https://support.prl.ab.ca/index.php/event/victoria-day-parkland-closed-2/
CATEGORIES:Event,Holiday Closure,Notable Dates
END:VEVENT
BEGIN:VEVENT
DTSTART;VALUE=DATE:20250421
DTEND;VALUE=DATE:20250422
DTSTAMP:20260419T161542
CREATED:20241115T160218Z
LAST-MODIFIED:20241115T160218Z
UID:5020-1745193600-1745279999@support.prl.ab.ca
SUMMARY:Easter Monday - Parkland Closed
DESCRIPTION:
URL:https://support.prl.ab.ca/index.php/event/easter-monday-parkland-closed-2/
CATEGORIES:Event,Holiday Closure,Notable Dates
END:VEVENT
BEGIN:VEVENT
DTSTART;VALUE=DATE:20250418
DTEND;VALUE=DATE:20250419
DTSTAMP:20260419T161542
CREATED:20241115T160135Z
LAST-MODIFIED:20241115T160135Z
UID:5018-1744934400-1745020799@support.prl.ab.ca
SUMMARY:Good Friday - Parkland Closed
DESCRIPTION:
URL:https://support.prl.ab.ca/index.php/event/good-friday-parkland-closed-2/
CATEGORIES:Event,Holiday Closure,Notable Dates
END:VEVENT
BEGIN:VEVENT
DTSTART;VALUE=DATE:20250217
DTEND;VALUE=DATE:20250218
DTSTAMP:20260419T161542
CREATED:20241114T202740Z
LAST-MODIFIED:20241115T155947Z
UID:4915-1739750400-1739836799@support.prl.ab.ca
SUMMARY:Alberta Family Day - Parkland Closed
DESCRIPTION:
URL:https://support.prl.ab.ca/index.php/event/alberta-family-day/
CATEGORIES:Event,Holiday Closure,Notable Dates
END:VEVENT
BEGIN:VEVENT
DTSTART;VALUE=DATE:20250101
DTEND;VALUE=DATE:20250102
DTSTAMP:20260419T161542
CREATED:20241115T160019Z
LAST-MODIFIED:20241115T160149Z
UID:5016-1735689600-1735775999@support.prl.ab.ca
SUMMARY:New Years Day - Parkland Closed
DESCRIPTION:
URL:https://support.prl.ab.ca/index.php/event/new-years-day-parkland-closed/
CATEGORIES:Event,Holiday Closure,Notable Dates
END:VEVENT
BEGIN:VEVENT
DTSTART;VALUE=DATE:20241227
DTEND;VALUE=DATE:20250101
DTSTAMP:20260419T161542
CREATED:20240110T161350Z
LAST-MODIFIED:20240110T161350Z
UID:4330-1735257600-1735689599@support.prl.ab.ca
SUMMARY:Parkland Holiday Closure
DESCRIPTION:
URL:https://support.prl.ab.ca/index.php/event/parkland-holiday-closure/
CATEGORIES:Event,Holiday Closure,Notable Dates
END:VEVENT
BEGIN:VEVENT
DTSTART;VALUE=DATE:20241226
DTEND;VALUE=DATE:20241227
DTSTAMP:20260419T161542
CREATED:20240110T161304Z
LAST-MODIFIED:20240110T161304Z
UID:4328-1735171200-1735257599@support.prl.ab.ca
SUMMARY:Boxing Day - Parkland Closed
DESCRIPTION:
URL:https://support.prl.ab.ca/index.php/event/boxing-day-parkland-closed/
CATEGORIES:Event,Holiday Closure,Notable Dates
END:VEVENT
BEGIN:VEVENT
DTSTART;VALUE=DATE:20241225
DTEND;VALUE=DATE:20241226
DTSTAMP:20260419T161542
CREATED:20240110T161238Z
LAST-MODIFIED:20240110T161238Z
UID:4326-1735084800-1735171199@support.prl.ab.ca
SUMMARY:Christmas Day - Parkland Closed
DESCRIPTION:
URL:https://support.prl.ab.ca/index.php/event/christmas-day-parkland-closed/
CATEGORIES:Event,Holiday Closure,Notable Dates
END:VEVENT
BEGIN:VEVENT
DTSTART;VALUE=DATE:20241111
DTEND;VALUE=DATE:20241112
DTSTAMP:20260419T161542
CREATED:20240110T161116Z
LAST-MODIFIED:20240110T161116Z
UID:4324-1731283200-1731369599@support.prl.ab.ca
SUMMARY:Remembrance Day - Parkland Closed
DESCRIPTION:
URL:https://support.prl.ab.ca/index.php/event/remembrance-day-parkland-closed/
CATEGORIES:Event,Holiday Closure,Notable Dates
END:VEVENT
BEGIN:VEVENT
DTSTART;VALUE=DATE:20241014
DTEND;VALUE=DATE:20241015
DTSTAMP:20260419T161542
CREATED:20240110T160920Z
LAST-MODIFIED:20240110T160920Z
UID:4322-1728864000-1728950399@support.prl.ab.ca
SUMMARY:Thanksgiving - Parkland Closed
DESCRIPTION:
URL:https://support.prl.ab.ca/index.php/event/thanksgiving-parkland-closed/
CATEGORIES:Holiday Closure
END:VEVENT
BEGIN:VEVENT
DTSTART;VALUE=DATE:20240902
DTEND;VALUE=DATE:20240903
DTSTAMP:20260419T161542
CREATED:20240110T160404Z
LAST-MODIFIED:20240110T160404Z
UID:4318-1725235200-1725321599@support.prl.ab.ca
SUMMARY:Labour Day - Parkland Closed
DESCRIPTION:
URL:https://support.prl.ab.ca/index.php/event/labour-day-parkland-closed/
CATEGORIES:Holiday Closure
END:VEVENT
BEGIN:VEVENT
DTSTART;VALUE=DATE:20240805
DTEND;VALUE=DATE:20240806
DTSTAMP:20260419T161542
CREATED:20240110T160328Z
LAST-MODIFIED:20240110T163129Z
UID:4316-1722816000-1722902399@support.prl.ab.ca
SUMMARY:Civic Holiday - Parkland Closed
DESCRIPTION:
URL:https://support.prl.ab.ca/index.php/event/civic-holiday-parkland-closed/
CATEGORIES:Event,Holiday Closure,Notable Dates
END:VEVENT
BEGIN:VEVENT
DTSTART;VALUE=DATE:20240520
DTEND;VALUE=DATE:20240521
DTSTAMP:20260419T161542
CREATED:20240110T160138Z
LAST-MODIFIED:20240110T163042Z
UID:4312-1716163200-1716249599@support.prl.ab.ca
SUMMARY:Victoria Day - Parkland Closed
DESCRIPTION:
URL:https://support.prl.ab.ca/index.php/event/victoria-day-parkland-closed/
CATEGORIES:Event,Holiday Closure,Notable Dates
END:VEVENT
BEGIN:VEVENT
DTSTART;VALUE=DATE:20240329
DTEND;VALUE=DATE:20240330
DTSTAMP:20260419T161542
CREATED:20240110T155948Z
LAST-MODIFIED:20240110T162333Z
UID:4308-1711670400-1711756799@support.prl.ab.ca
SUMMARY:Good Friday - Parkland Closed
DESCRIPTION:
URL:https://support.prl.ab.ca/index.php/event/good-friday-parkland-closed/
CATEGORIES:Event,Holiday Closure,Notable Dates
END:VEVENT
BEGIN:VEVENT
DTSTART;TZID=America/Edmonton:20221111T083000
DTEND;TZID=America/Edmonton:20221111T163000
DTSTAMP:20260419T161542
CREATED:20210203T160501Z
LAST-MODIFIED:20220217T174830Z
UID:2928-1668155400-1668184200@support.prl.ab.ca
SUMMARY:PRLS Headquarters Closed
DESCRIPTION:We will be closed on Friday\, November 11\, 2022 for Remembrance Day.
URL:https://support.prl.ab.ca/index.php/event/prl-headquarters-closed-8/
CATEGORIES:Holiday Closure
END:VEVENT
END:VCALENDAR