BEGIN:VCALENDAR
VERSION:2.0
PRODID:-//PRLS Support Site - ECPv6.15.17.1//NONSGML v1.0//EN
CALSCALE:GREGORIAN
METHOD:PUBLISH
X-ORIGINAL-URL:https://support.prl.ab.ca
X-WR-CALDESC:Events for PRLS Support Site
REFRESH-INTERVAL;VALUE=DURATION:PT1H
X-Robots-Tag:noindex
X-PUBLISHED-TTL:PT1H
BEGIN:VTIMEZONE
TZID:America/Edmonton
BEGIN:DAYLIGHT
TZOFFSETFROM:-0700
TZOFFSETTO:-0600
TZNAME:MDT
DTSTART:20240310T090000
END:DAYLIGHT
BEGIN:STANDARD
TZOFFSETFROM:-0600
TZOFFSETTO:-0700
TZNAME:MST
DTSTART:20241103T080000
END:STANDARD
BEGIN:DAYLIGHT
TZOFFSETFROM:-0700
TZOFFSETTO:-0600
TZNAME:MDT
DTSTART:20250309T090000
END:DAYLIGHT
BEGIN:STANDARD
TZOFFSETFROM:-0600
TZOFFSETTO:-0700
TZNAME:MST
DTSTART:20251102T080000
END:STANDARD
BEGIN:DAYLIGHT
TZOFFSETFROM:-0700
TZOFFSETTO:-0600
TZNAME:MDT
DTSTART:20260308T090000
END:DAYLIGHT
BEGIN:STANDARD
TZOFFSETFROM:-0600
TZOFFSETTO:-0700
TZNAME:MST
DTSTART:20261101T080000
END:STANDARD
END:VTIMEZONE
BEGIN:VEVENT
DTSTART;VALUE=DATE:20251103
DTEND;VALUE=DATE:20251104
DTSTAMP:20260419T185925
CREATED:20241114T213523Z
LAST-MODIFIED:20241114T222233Z
UID:5006-1762128000-1762214399@support.prl.ab.ca
SUMMARY:Manga Day
DESCRIPTION:
URL:https://support.prl.ab.ca/index.php/event/manga-day/
CATEGORIES:Event,Notable Dates
END:VEVENT
BEGIN:VEVENT
DTSTART;VALUE=DATE:20251108
DTEND;VALUE=DATE:20251109
DTSTAMP:20260419T185925
CREATED:20241114T213555Z
LAST-MODIFIED:20241114T222237Z
UID:5008-1762560000-1762646399@support.prl.ab.ca
SUMMARY:Indigenous Veterans Day
DESCRIPTION:
URL:https://support.prl.ab.ca/index.php/event/indigenous-veterans-day-3/
CATEGORIES:Event,Notable Dates
END:VEVENT
BEGIN:VEVENT
DTSTART;VALUE=DATE:20251111
DTEND;VALUE=DATE:20251112
DTSTAMP:20260419T185925
CREATED:20241115T160949Z
LAST-MODIFIED:20241115T160949Z
UID:5032-1762819200-1762905599@support.prl.ab.ca
SUMMARY:Remembrance Day - Parkland Closed
DESCRIPTION:
URL:https://support.prl.ab.ca/index.php/event/remembrance-day-parkland-closed-2/
CATEGORIES:Event,Holiday Closure,Notable Dates
END:VEVENT
BEGIN:VEVENT
DTSTART;VALUE=DATE:20251112
DTEND;VALUE=DATE:20251115
DTSTAMP:20260419T185925
CREATED:20241115T162336Z
LAST-MODIFIED:20241115T162336Z
UID:5053-1762905600-1763164799@support.prl.ab.ca
SUMMARY:Alberta Municipalities Convention & Trade Show
DESCRIPTION:
URL:https://support.prl.ab.ca/index.php/event/alberta-municipalities-convention-trade-show/
CATEGORIES:Conferences,Event,Notable Dates,Professional Development
END:VEVENT
BEGIN:VEVENT
DTSTART;VALUE=DATE:20251117
DTEND;VALUE=DATE:20251121
DTSTAMP:20260419T185925
CREATED:20241114T213655Z
LAST-MODIFIED:20241114T222240Z
UID:5010-1763337600-1763683199@support.prl.ab.ca
SUMMARY:Rural Municipalities of Alberta Fall Convention
DESCRIPTION:
URL:https://support.prl.ab.ca/index.php/event/rural-municipalities-of-alberta-fall-convention/
CATEGORIES:Conferences,Event,Notable Dates,Professional Development
END:VEVENT
BEGIN:VEVENT
DTSTART;TZID=America/Edmonton:20251118T103000
DTEND;TZID=America/Edmonton:20251118T113000
DTSTAMP:20260419T185925
CREATED:20251014T162228Z
LAST-MODIFIED:20251030T205930Z
UID:5687-1763461800-1763465400@support.prl.ab.ca
SUMMARY:Library Managers Meeting: Options in Polaris for Going Fine Free
DESCRIPTION:Meeting Topic: Overdue Fines & Waiving in Polaris \nParkland is hosting a short virtual discussion about overdue fines\, how\nthey are accrued\, and options for waiving them in Polaris at the branch or\nsystem-wide levels. Making adjustments to existing Polaris settings for\nmember libraries can help to reduce staff time spent manually waiving fines\n(for those who are already fine-free). PRLS IT Manager\, Tim Spark\, will be\nin attendance to talk about the available options and answer questions. \nIf you plan to attend\, please accept the calendar invite in your email\, then on the\ndate\, double-click the event in your calendar and click ‘Join’ or click the ‘Join the meeting now’ link below. \nThis is an important issue that affects all member libraries. To keep the meeting\nfocused and efficient\, please reach out to your consultant in advance with any\nquestions. \nThank you\, and we look forward to seeing you then!
URL:https://support.prl.ab.ca/index.php/event/library-managers-meeting-options-in-polaris-for-going-fine-free/
LOCATION:Online\, Lacombe\, alberta\, Canada
CATEGORIES:Event
END:VEVENT
BEGIN:VEVENT
DTSTART;VALUE=DATE:20251127
DTEND;VALUE=DATE:20251128
DTSTAMP:20260419T185925
CREATED:20241115T162101Z
LAST-MODIFIED:20241115T162101Z
UID:5051-1764201600-1764287999@support.prl.ab.ca
SUMMARY:Parkland Organizational Board Meeting
DESCRIPTION:
URL:https://support.prl.ab.ca/index.php/event/parkland-organizational-board-meeting/
CATEGORIES:Event,Notable Dates,PRL Board
END:VEVENT
END:VCALENDAR