BEGIN:VCALENDAR
VERSION:2.0
PRODID:-//PRLS Support Site - ECPv6.15.17.1//NONSGML v1.0//EN
CALSCALE:GREGORIAN
METHOD:PUBLISH
X-ORIGINAL-URL:https://support.prl.ab.ca
X-WR-CALDESC:Events for PRLS Support Site
REFRESH-INTERVAL;VALUE=DURATION:PT1H
X-Robots-Tag:noindex
X-PUBLISHED-TTL:PT1H
BEGIN:VTIMEZONE
TZID:America/Edmonton
BEGIN:DAYLIGHT
TZOFFSETFROM:-0700
TZOFFSETTO:-0600
TZNAME:MDT
DTSTART:20240310T090000
END:DAYLIGHT
BEGIN:STANDARD
TZOFFSETFROM:-0600
TZOFFSETTO:-0700
TZNAME:MST
DTSTART:20241103T080000
END:STANDARD
BEGIN:DAYLIGHT
TZOFFSETFROM:-0700
TZOFFSETTO:-0600
TZNAME:MDT
DTSTART:20250309T090000
END:DAYLIGHT
BEGIN:STANDARD
TZOFFSETFROM:-0600
TZOFFSETTO:-0700
TZNAME:MST
DTSTART:20251102T080000
END:STANDARD
BEGIN:DAYLIGHT
TZOFFSETFROM:-0700
TZOFFSETTO:-0600
TZNAME:MDT
DTSTART:20260308T090000
END:DAYLIGHT
BEGIN:STANDARD
TZOFFSETFROM:-0600
TZOFFSETTO:-0700
TZNAME:MST
DTSTART:20261101T080000
END:STANDARD
END:VTIMEZONE
BEGIN:VEVENT
DTSTART;VALUE=DATE:20250901
DTEND;VALUE=DATE:20250902
DTSTAMP:20260419T220027
CREATED:20241114T212934Z
LAST-MODIFIED:20250526T173451Z
UID:4988-1756684800-1756771199@support.prl.ab.ca
SUMMARY:Alberta Culture Days
DESCRIPTION:
URL:https://support.prl.ab.ca/index.php/event/alberta-culture-days-4/
CATEGORIES:Event,Notable Dates
END:VEVENT
BEGIN:VEVENT
DTSTART;VALUE=DATE:20250901
DTEND;VALUE=DATE:20250902
DTSTAMP:20260419T220027
CREATED:20241115T160449Z
LAST-MODIFIED:20241115T160449Z
UID:5028-1756684800-1756771199@support.prl.ab.ca
SUMMARY:Labour Day - Parkland Closed
DESCRIPTION:
URL:https://support.prl.ab.ca/index.php/event/labour-day-parkland-closed-2/
CATEGORIES:Event,Holiday Closure,Notable Dates
END:VEVENT
BEGIN:VEVENT
DTSTART;VALUE=DATE:20250901
DTEND;VALUE=DATE:20251001
DTSTAMP:20260419T220027
CREATED:20250812T154604Z
LAST-MODIFIED:20250812T155028Z
UID:5599-1756684800-1759276799@support.prl.ab.ca
SUMMARY:Library Card Sign Up Month
DESCRIPTION:Parkland Regional Library System member libraries are encouraged to participate in our region-wide Library Card Sign-Up Month initiative. Library users that sign up for a membership during the month of September will be entered to win a prize package. Additionally\, the member libraries that get the most new memberships per capita will win a prize for their libraries. Full contest details are available in the Q Drive at Q:\Marketing\Contests and Events\Library Card Sign Up Season. Contact hhalberg@prl.ab.ca if you have any questions.
URL:https://support.prl.ab.ca/index.php/event/library-card-sign-up-month/
CATEGORIES:Event,Notable Dates
END:VEVENT
BEGIN:VEVENT
DTSTART;VALUE=DATE:20250906
DTEND;VALUE=DATE:20250907
DTSTAMP:20260419T220027
CREATED:20241114T213019Z
LAST-MODIFIED:20241114T222203Z
UID:4990-1757116800-1757203199@support.prl.ab.ca
SUMMARY:Read a Book Day
DESCRIPTION:
URL:https://support.prl.ab.ca/index.php/event/read-a-book-day/
CATEGORIES:Event,Notable Dates
END:VEVENT
BEGIN:VEVENT
DTSTART;VALUE=DATE:20250908
DTEND;VALUE=DATE:20250909
DTSTAMP:20260419T220027
CREATED:20241114T213047Z
LAST-MODIFIED:20241114T222206Z
UID:4992-1757289600-1757375999@support.prl.ab.ca
SUMMARY:International Literacy Day
DESCRIPTION:
URL:https://support.prl.ab.ca/index.php/event/international-literacy-day-4/
CATEGORIES:Event,Notable Dates
END:VEVENT
BEGIN:VEVENT
DTSTART;VALUE=DATE:20250911
DTEND;VALUE=DATE:20250912
DTSTAMP:20260419T220027
CREATED:20241115T161959Z
LAST-MODIFIED:20241115T161959Z
UID:5047-1757548800-1757635199@support.prl.ab.ca
SUMMARY:Parkland Board Meeting
DESCRIPTION:
URL:https://support.prl.ab.ca/index.php/event/parkland-board-meeting-3/
CATEGORIES:Event,Notable Dates,PRL Board
END:VEVENT
BEGIN:VEVENT
DTSTART;VALUE=DATE:20250930
DTEND;VALUE=DATE:20251001
DTSTAMP:20260419T220027
CREATED:20241114T213119Z
LAST-MODIFIED:20241114T222215Z
UID:4994-1759190400-1759276799@support.prl.ab.ca
SUMMARY:Day for Truth and Reconciliation
DESCRIPTION:
URL:https://support.prl.ab.ca/index.php/event/day-for-truth-and-reconciliation/
CATEGORIES:Event,Notable Dates
END:VEVENT
END:VCALENDAR