BEGIN:VCALENDAR
VERSION:2.0
PRODID:-//PRLS Support Site - ECPv6.15.17.1//NONSGML v1.0//EN
CALSCALE:GREGORIAN
METHOD:PUBLISH
X-WR-CALNAME:PRLS Support Site
X-ORIGINAL-URL:https://support.prl.ab.ca
X-WR-CALDESC:Events for PRLS Support Site
REFRESH-INTERVAL;VALUE=DURATION:PT1H
X-Robots-Tag:noindex
X-PUBLISHED-TTL:PT1H
BEGIN:VTIMEZONE
TZID:America/Edmonton
BEGIN:DAYLIGHT
TZOFFSETFROM:-0700
TZOFFSETTO:-0600
TZNAME:MDT
DTSTART:20240310T090000
END:DAYLIGHT
BEGIN:STANDARD
TZOFFSETFROM:-0600
TZOFFSETTO:-0700
TZNAME:MST
DTSTART:20241103T080000
END:STANDARD
BEGIN:DAYLIGHT
TZOFFSETFROM:-0700
TZOFFSETTO:-0600
TZNAME:MDT
DTSTART:20250309T090000
END:DAYLIGHT
BEGIN:STANDARD
TZOFFSETFROM:-0600
TZOFFSETTO:-0700
TZNAME:MST
DTSTART:20251102T080000
END:STANDARD
BEGIN:DAYLIGHT
TZOFFSETFROM:-0700
TZOFFSETTO:-0600
TZNAME:MDT
DTSTART:20260308T090000
END:DAYLIGHT
BEGIN:STANDARD
TZOFFSETFROM:-0600
TZOFFSETTO:-0700
TZNAME:MST
DTSTART:20261101T080000
END:STANDARD
END:VTIMEZONE
BEGIN:VEVENT
DTSTART;VALUE=DATE:20250223
DTEND;VALUE=DATE:20250302
DTSTAMP:20260420T053235
CREATED:20241114T202840Z
LAST-MODIFIED:20241114T221932Z
UID:4917-1740268800-1740873599@support.prl.ab.ca
SUMMARY:Freedom to Read Week
DESCRIPTION:
URL:https://support.prl.ab.ca/index.php/event/freedom-to-read-week-3/
CATEGORIES:Event,Notable Dates
END:VEVENT
BEGIN:VEVENT
DTSTART;VALUE=DATE:20250301
DTEND;VALUE=DATE:20250401
DTSTAMP:20260420T053235
CREATED:20241114T203049Z
LAST-MODIFIED:20241114T221944Z
UID:4923-1740787200-1743465599@support.prl.ab.ca
SUMMARY:Women's History Month (US)
DESCRIPTION:
URL:https://support.prl.ab.ca/index.php/event/womens-history-month-us/
CATEGORIES:Event,Notable Dates
END:VEVENT
BEGIN:VEVENT
DTSTART;VALUE=DATE:20250301
DTEND;VALUE=DATE:20250401
DTSTAMP:20260420T053235
CREATED:20241114T203203Z
LAST-MODIFIED:20241114T221948Z
UID:4925-1740787200-1743465599@support.prl.ab.ca
SUMMARY:Canada Reads Debates on CBC
DESCRIPTION:
URL:https://support.prl.ab.ca/index.php/event/canada-reads-debates-on-cbc/
CATEGORIES:Event,Notable Dates
END:VEVENT
BEGIN:VEVENT
DTSTART;VALUE=DATE:20250306
DTEND;VALUE=DATE:20250307
DTSTAMP:20260420T053235
CREATED:20241114T203355Z
LAST-MODIFIED:20241114T221951Z
UID:4927-1741219200-1741305599@support.prl.ab.ca
SUMMARY:World Book Day
DESCRIPTION:
URL:https://support.prl.ab.ca/index.php/event/world-book-day/
CATEGORIES:Event,Notable Dates
END:VEVENT
BEGIN:VEVENT
DTSTART;VALUE=DATE:20250308
DTEND;VALUE=DATE:20250309
DTSTAMP:20260420T053235
CREATED:20241114T203438Z
LAST-MODIFIED:20241114T221955Z
UID:4929-1741392000-1741478399@support.prl.ab.ca
SUMMARY:International Women's Day
DESCRIPTION:
URL:https://support.prl.ab.ca/index.php/event/international-womens-day/
CATEGORIES:Event,Notable Dates
END:VEVENT
BEGIN:VEVENT
DTSTART;VALUE=DATE:20250310
DTEND;VALUE=DATE:20250311
DTSTAMP:20260420T053235
CREATED:20241115T161825Z
LAST-MODIFIED:20250213T150711Z
UID:5043-1741564800-1741651199@support.prl.ab.ca
SUMMARY:PLC Meeting
DESCRIPTION:
URL:https://support.prl.ab.ca/index.php/event/plc-meeting-3/
CATEGORIES:Event,Notable Dates,PLC,Professional Development
END:VEVENT
BEGIN:VEVENT
DTSTART;VALUE=DATE:20250317
DTEND;VALUE=DATE:20250320
DTSTAMP:20260420T053235
CREATED:20241114T203609Z
LAST-MODIFIED:20241114T221959Z
UID:4931-1742169600-1742428799@support.prl.ab.ca
SUMMARY:Rural Municipalities of Alberta Spring Convention
DESCRIPTION:
URL:https://support.prl.ab.ca/index.php/event/rural-municipalities-of-alberta-spring-convention/
CATEGORIES:Conferences,Event,Notable Dates
END:VEVENT
BEGIN:VEVENT
DTSTART;VALUE=DATE:20250319
DTEND;VALUE=DATE:20250320
DTSTAMP:20260420T053235
CREATED:20241114T203656Z
LAST-MODIFIED:20241114T222010Z
UID:4933-1742342400-1742428799@support.prl.ab.ca
SUMMARY:International Read To Me Day
DESCRIPTION:
URL:https://support.prl.ab.ca/index.php/event/international-read-to-me-day/
CATEGORIES:Event,Notable Dates
END:VEVENT
BEGIN:VEVENT
DTSTART;VALUE=DATE:20250320
DTEND;VALUE=DATE:20250321
DTSTAMP:20260420T053235
CREATED:20241114T204046Z
LAST-MODIFIED:20241114T222014Z
UID:4935-1742428800-1742515199@support.prl.ab.ca
SUMMARY:World Storytelling Day
DESCRIPTION:
URL:https://support.prl.ab.ca/index.php/event/world-storytelling-day-2/
CATEGORIES:Event,Notable Dates
END:VEVENT
BEGIN:VEVENT
DTSTART;VALUE=DATE:20250321
DTEND;VALUE=DATE:20250322
DTSTAMP:20260420T053235
CREATED:20241114T204305Z
LAST-MODIFIED:20241114T222017Z
UID:4938-1742515200-1742601599@support.prl.ab.ca
SUMMARY:World Poetry Day
DESCRIPTION:
URL:https://support.prl.ab.ca/index.php/event/world-poetry-day-2/
CATEGORIES:Event,Notable Dates
END:VEVENT
BEGIN:VEVENT
DTSTART;VALUE=DATE:20250327
DTEND;VALUE=DATE:20250328
DTSTAMP:20260420T053235
CREATED:20241115T162446Z
LAST-MODIFIED:20260123T202326Z
UID:5057-1743033600-1743119999@support.prl.ab.ca
SUMMARY:Executive Committee Meeting
DESCRIPTION:Parkland Regional Library System Board selects an Executive Committee to conduct business in between board meetings. It is composed of 10 members of the Parkland Board\, and they meet 6 times per year.
URL:https://support.prl.ab.ca/index.php/event/executive-committee-meeting-2/
CATEGORIES:Event,Notable Dates,PRL Board
END:VEVENT
END:VCALENDAR