BEGIN:VCALENDAR
VERSION:2.0
PRODID:-//PRLS Support Site - ECPv6.15.17.1//NONSGML v1.0//EN
CALSCALE:GREGORIAN
METHOD:PUBLISH
X-ORIGINAL-URL:https://support.prl.ab.ca
X-WR-CALDESC:Events for PRLS Support Site
REFRESH-INTERVAL;VALUE=DURATION:PT1H
X-Robots-Tag:noindex
X-PUBLISHED-TTL:PT1H
BEGIN:VTIMEZONE
TZID:America/Edmonton
BEGIN:DAYLIGHT
TZOFFSETFROM:-0700
TZOFFSETTO:-0600
TZNAME:MDT
DTSTART:20200308T090000
END:DAYLIGHT
BEGIN:STANDARD
TZOFFSETFROM:-0600
TZOFFSETTO:-0700
TZNAME:MST
DTSTART:20201101T080000
END:STANDARD
BEGIN:DAYLIGHT
TZOFFSETFROM:-0700
TZOFFSETTO:-0600
TZNAME:MDT
DTSTART:20210314T090000
END:DAYLIGHT
BEGIN:STANDARD
TZOFFSETFROM:-0600
TZOFFSETTO:-0700
TZNAME:MST
DTSTART:20211107T080000
END:STANDARD
BEGIN:DAYLIGHT
TZOFFSETFROM:-0700
TZOFFSETTO:-0600
TZNAME:MDT
DTSTART:20220313T090000
END:DAYLIGHT
BEGIN:STANDARD
TZOFFSETFROM:-0600
TZOFFSETTO:-0700
TZNAME:MST
DTSTART:20221106T080000
END:STANDARD
END:VTIMEZONE
BEGIN:VEVENT
DTSTART;TZID=America/Edmonton:20210614T080000
DTEND;TZID=America/Edmonton:20210831T170000
DTSTAMP:20260425T050326
CREATED:20210608T191005Z
LAST-MODIFIED:20210809T155250Z
UID:3180-1623657600-1630429200@support.prl.ab.ca
SUMMARY:Walk Across the Region Challenge
DESCRIPTION:Parkland library staff are invited to participate in a region wide walking challenge. Our goal is to walk from Lacombe to all 48 libraries in the region for a total of 1600km. \n \n-map updated on Agust 9th\, 2021 \nOnce a week staff will receive an email asking them to submit their kilometers and we will feature a few adventure pictures from across the region. \n\nFill out my online form.\n\n  Fill out my Wufoo form! \nHere are some pictures from our Walk Across the Region journey!\n \n \n \n \n 
URL:https://support.prl.ab.ca/index.php/event/walk-across-the-region-challenge/
CATEGORIES:Event
END:VEVENT
BEGIN:VEVENT
DTSTART;TZID=America/Edmonton:20210717T110000
DTEND;TZID=America/Edmonton:20210717T140000
DTSTAMP:20260425T050326
CREATED:20210715T215445Z
LAST-MODIFIED:20210715T215530Z
UID:3305-1626519600-1626530400@support.prl.ab.ca
SUMMARY:PRLS Open House Event
DESCRIPTION:You’re invited! Please join us at our new building\, on Saturday\, July 17th from 11 am to 2 pm for a complimentary BBQ\, building tours and fun activities! \nOur address is:\n4565 46th Street\nLacombe\, AB \nMore details can be found on our website event page: PRLS Grand Opening BBQ! – Parkland Regional Library System \n 
URL:https://support.prl.ab.ca/index.php/event/prls-open-house-event/
CATEGORIES:Event
END:VEVENT
END:VCALENDAR