BEGIN:VCALENDAR
VERSION:2.0
PRODID:-//PRLS Support Site - ECPv6.15.17.1//NONSGML v1.0//EN
CALSCALE:GREGORIAN
METHOD:PUBLISH
X-WR-CALNAME:PRLS Support Site
X-ORIGINAL-URL:https://support.prl.ab.ca
X-WR-CALDESC:Events for PRLS Support Site
REFRESH-INTERVAL;VALUE=DURATION:PT1H
X-Robots-Tag:noindex
X-PUBLISHED-TTL:PT1H
BEGIN:VTIMEZONE
TZID:America/Edmonton
BEGIN:DAYLIGHT
TZOFFSETFROM:-0700
TZOFFSETTO:-0600
TZNAME:MDT
DTSTART:20250309T090000
END:DAYLIGHT
BEGIN:STANDARD
TZOFFSETFROM:-0600
TZOFFSETTO:-0700
TZNAME:MST
DTSTART:20251102T080000
END:STANDARD
BEGIN:DAYLIGHT
TZOFFSETFROM:-0700
TZOFFSETTO:-0600
TZNAME:MDT
DTSTART:20260308T090000
END:DAYLIGHT
BEGIN:STANDARD
TZOFFSETFROM:-0600
TZOFFSETTO:-0700
TZNAME:MST
DTSTART:20261101T080000
END:STANDARD
BEGIN:DAYLIGHT
TZOFFSETFROM:-0700
TZOFFSETTO:-0600
TZNAME:MDT
DTSTART:20270314T090000
END:DAYLIGHT
BEGIN:STANDARD
TZOFFSETFROM:-0600
TZOFFSETTO:-0700
TZNAME:MST
DTSTART:20271107T080000
END:STANDARD
END:VTIMEZONE
BEGIN:VEVENT
DTSTART;VALUE=DATE:20260515
DTEND;VALUE=DATE:20260516
DTSTAMP:20260419T161506
CREATED:20251120T180848Z
LAST-MODIFIED:20251216T200836Z
UID:5740-1778803200-1778889599@support.prl.ab.ca
SUMMARY:CIP Grant Application Due
DESCRIPTION:
URL:https://support.prl.ab.ca/index.php/event/cip-grant-application-due/
CATEGORIES:Deadline
END:VEVENT
BEGIN:VEVENT
DTSTART;VALUE=DATE:20260615
DTEND;VALUE=DATE:20260616
DTSTAMP:20260419T161506
CREATED:20251120T180403Z
LAST-MODIFIED:20251216T200909Z
UID:5730-1781481600-1781567999@support.prl.ab.ca
SUMMARY:Application for Financial Assistance Due
DESCRIPTION:Libraries must complete the application for financial assistance to receive their public library operating grant from the province.
URL:https://support.prl.ab.ca/index.php/event/application-for-financial-assistance-due/
CATEGORIES:Deadline
END:VEVENT
BEGIN:VEVENT
DTSTART;VALUE=DATE:20260615
DTEND;VALUE=DATE:20260616
DTSTAMP:20260419T161506
CREATED:20251120T180529Z
LAST-MODIFIED:20251216T200915Z
UID:5732-1781481600-1781567999@support.prl.ab.ca
SUMMARY:Last Years Statement of Receipts and Disbursements Due
DESCRIPTION:Libraries must submit their statement of receipts and disbursements for the previous year in order to receive their operating grant.
URL:https://support.prl.ab.ca/index.php/event/last-years-statement-of-receipts-and-disbursements-due/
CATEGORIES:Deadline
END:VEVENT
BEGIN:VEVENT
DTSTART;VALUE=DATE:20260615
DTEND;VALUE=DATE:20260616
DTSTAMP:20260419T161506
CREATED:20251120T175655Z
LAST-MODIFIED:20251216T200904Z
UID:5720-1781481600-1781567999@support.prl.ab.ca
SUMMARY:Plan of Service Due to PLSB
DESCRIPTION:Library staff can find more resources here: Q:\Plan of Service
URL:https://support.prl.ab.ca/index.php/event/plan-of-service-due/
CATEGORIES:Deadline
END:VEVENT
BEGIN:VEVENT
DTSTART;VALUE=DATE:20260615
DTEND;VALUE=DATE:20260616
DTSTAMP:20260419T161506
CREATED:20251120T180609Z
LAST-MODIFIED:20251216T200920Z
UID:5734-1781481600-1781567999@support.prl.ab.ca
SUMMARY:2025 Budget Due
DESCRIPTION:Libraries must submit their 2025 budget in order to receive their provincial operating grant.
URL:https://support.prl.ab.ca/index.php/event/2025-budget-due/
CATEGORIES:Deadline
END:VEVENT
BEGIN:VEVENT
DTSTART;VALUE=DATE:20260815
DTEND;VALUE=DATE:20260816
DTSTAMP:20260419T161506
CREATED:20251120T181307Z
LAST-MODIFIED:20251120T181307Z
UID:5750-1786752000-1786838399@support.prl.ab.ca
SUMMARY:Research in Librarianship Grant Due
DESCRIPTION:
URL:https://support.prl.ab.ca/index.php/event/research-in-librarianship-grant-due/
CATEGORIES:Deadline
END:VEVENT
BEGIN:VEVENT
DTSTART;VALUE=DATE:20260915
DTEND;VALUE=DATE:20260916
DTSTAMP:20260419T161506
CREATED:20251120T180927Z
LAST-MODIFIED:20251216T201014Z
UID:5743-1789430400-1789516799@support.prl.ab.ca
SUMMARY:CIP Grant Application Due
DESCRIPTION:
URL:https://support.prl.ab.ca/index.php/event/cip-grant-application-due-2/
CATEGORIES:Deadline
END:VEVENT
BEGIN:VEVENT
DTSTART;VALUE=DATE:20261130
DTEND;VALUE=DATE:20261201
DTSTAMP:20260419T161506
CREATED:20251120T180036Z
LAST-MODIFIED:20251216T201118Z
UID:5726-1795996800-1796083199@support.prl.ab.ca
SUMMARY:Allotment Ordering Deadline
DESCRIPTION:Libraries must ensure their materials allotment is spent by this date. \nLibrary staff can see other resources here: Q:\Collections
URL:https://support.prl.ab.ca/index.php/event/allotment-ordering-deadline/
CATEGORIES:Deadline
END:VEVENT
END:VCALENDAR