BEGIN:VCALENDAR
VERSION:2.0
PRODID:-//PRLS Support Site - ECPv6.15.17.1//NONSGML v1.0//EN
CALSCALE:GREGORIAN
METHOD:PUBLISH
X-WR-CALNAME:PRLS Support Site
X-ORIGINAL-URL:https://support.prl.ab.ca
X-WR-CALDESC:Events for PRLS Support Site
REFRESH-INTERVAL;VALUE=DURATION:PT1H
X-Robots-Tag:noindex
X-PUBLISHED-TTL:PT1H
BEGIN:VTIMEZONE
TZID:America/Edmonton
BEGIN:DAYLIGHT
TZOFFSETFROM:-0700
TZOFFSETTO:-0600
TZNAME:MDT
DTSTART:20200308T090000
END:DAYLIGHT
BEGIN:STANDARD
TZOFFSETFROM:-0600
TZOFFSETTO:-0700
TZNAME:MST
DTSTART:20201101T080000
END:STANDARD
BEGIN:DAYLIGHT
TZOFFSETFROM:-0700
TZOFFSETTO:-0600
TZNAME:MDT
DTSTART:20210314T090000
END:DAYLIGHT
BEGIN:STANDARD
TZOFFSETFROM:-0600
TZOFFSETTO:-0700
TZNAME:MST
DTSTART:20211107T080000
END:STANDARD
BEGIN:DAYLIGHT
TZOFFSETFROM:-0700
TZOFFSETTO:-0600
TZNAME:MDT
DTSTART:20220313T090000
END:DAYLIGHT
BEGIN:STANDARD
TZOFFSETFROM:-0600
TZOFFSETTO:-0700
TZNAME:MST
DTSTART:20221106T080000
END:STANDARD
BEGIN:DAYLIGHT
TZOFFSETFROM:-0700
TZOFFSETTO:-0600
TZNAME:MDT
DTSTART:20230312T090000
END:DAYLIGHT
BEGIN:STANDARD
TZOFFSETFROM:-0600
TZOFFSETTO:-0700
TZNAME:MST
DTSTART:20231105T080000
END:STANDARD
BEGIN:DAYLIGHT
TZOFFSETFROM:-0700
TZOFFSETTO:-0600
TZNAME:MDT
DTSTART:20240310T090000
END:DAYLIGHT
BEGIN:STANDARD
TZOFFSETFROM:-0600
TZOFFSETTO:-0700
TZNAME:MST
DTSTART:20241103T080000
END:STANDARD
BEGIN:DAYLIGHT
TZOFFSETFROM:-0700
TZOFFSETTO:-0600
TZNAME:MDT
DTSTART:20250309T090000
END:DAYLIGHT
BEGIN:STANDARD
TZOFFSETFROM:-0600
TZOFFSETTO:-0700
TZNAME:MST
DTSTART:20251102T080000
END:STANDARD
BEGIN:DAYLIGHT
TZOFFSETFROM:-0700
TZOFFSETTO:-0600
TZNAME:MDT
DTSTART:20260308T090000
END:DAYLIGHT
BEGIN:STANDARD
TZOFFSETFROM:-0600
TZOFFSETTO:-0700
TZNAME:MST
DTSTART:20261101T080000
END:STANDARD
BEGIN:DAYLIGHT
TZOFFSETFROM:-0700
TZOFFSETTO:-0600
TZNAME:MDT
DTSTART:20270314T090000
END:DAYLIGHT
BEGIN:STANDARD
TZOFFSETFROM:-0600
TZOFFSETTO:-0700
TZNAME:MST
DTSTART:20271107T080000
END:STANDARD
END:VTIMEZONE
BEGIN:VEVENT
DTSTART;VALUE=DATE:20260228
DTEND;VALUE=DATE:20260301
DTSTAMP:20260419T175040
CREATED:20251120T175748Z
LAST-MODIFIED:20251216T201218Z
UID:5722-1772236800-1772323199@support.prl.ab.ca
SUMMARY:Annual Report Due to PLSB
DESCRIPTION:Library Staff can find more information here: Q:\Annual Reports
URL:https://support.prl.ab.ca/index.php/event/annual-report-due-to-plsb/
CATEGORIES:Deadline
END:VEVENT
BEGIN:VEVENT
DTSTART;VALUE=DATE:20260227
DTEND;VALUE=DATE:20260228
DTSTAMP:20260419T175040
CREATED:20251120T181204Z
LAST-MODIFIED:20251216T201213Z
UID:5748-1772150400-1772236799@support.prl.ab.ca
SUMMARY:Community Foundation Grant Application Due
DESCRIPTION:
URL:https://support.prl.ab.ca/index.php/event/community-foundation-grant-application-due/
CATEGORIES:Deadline
END:VEVENT
BEGIN:VEVENT
DTSTART;VALUE=DATE:20260117
DTEND;VALUE=DATE:20260118
DTSTAMP:20260419T175040
CREATED:20251120T181006Z
LAST-MODIFIED:20251216T201142Z
UID:5745-1768608000-1768694399@support.prl.ab.ca
SUMMARY:Young Canada Works Grant Application Due
DESCRIPTION:
URL:https://support.prl.ab.ca/index.php/event/young-canada-works-grant-application-due/
CATEGORIES:Deadline
END:VEVENT
BEGIN:VEVENT
DTSTART;VALUE=DATE:20260115
DTEND;VALUE=DATE:20260116
DTSTAMP:20260419T175040
CREATED:20251120T180824Z
LAST-MODIFIED:20251216T200504Z
UID:5738-1768435200-1768521599@support.prl.ab.ca
SUMMARY:CIP Grant Application Due
DESCRIPTION:
URL:https://support.prl.ab.ca/index.php/event/cip-grants-due/
CATEGORIES:Deadline
END:VEVENT
BEGIN:VEVENT
DTSTART;VALUE=DATE:20251211
DTEND;VALUE=DATE:20251212
DTSTAMP:20260419T175040
CREATED:20251120T180737Z
LAST-MODIFIED:20251120T180737Z
UID:5736-1765411200-1765497599@support.prl.ab.ca
SUMMARY:Canada Summer Jobs Applications Due
DESCRIPTION:
URL:https://support.prl.ab.ca/index.php/event/canada-summer-jobs-applications-due/
CATEGORIES:Deadline
END:VEVENT
BEGIN:VEVENT
DTSTART;VALUE=DATE:20240615
DTEND;VALUE=DATE:20240616
DTSTAMP:20260419T175040
CREATED:20231207T175606Z
LAST-MODIFIED:20231207T175606Z
UID:4253-1718409600-1718495999@support.prl.ab.ca
SUMMARY:Operating Grant Application and Budget Due to PLSB
DESCRIPTION:
URL:https://support.prl.ab.ca/index.php/event/operating-grant-application-and-budget-due-to-plsb/
CATEGORIES:Deadline,Grants
END:VEVENT
BEGIN:VEVENT
DTSTART;VALUE=DATE:20240228
DTEND;VALUE=DATE:20240229
DTSTAMP:20260419T175040
CREATED:20231207T154139Z
LAST-MODIFIED:20240110T162135Z
UID:4209-1709078400-1709164799@support.prl.ab.ca
SUMMARY:2023 Annual Report and 2024 Survey due to PLSB
DESCRIPTION:
URL:https://support.prl.ab.ca/index.php/event/2023-annual-report-and-2024-survey-due-to-plsb/
CATEGORIES:Deadline,Notable Dates
END:VEVENT
BEGIN:VEVENT
DTSTART;VALUE=DATE:20240119
DTEND;VALUE=DATE:20240120
DTSTAMP:20260419T175040
CREATED:20231204T155429Z
LAST-MODIFIED:20240110T161557Z
UID:4186-1705622400-1705708799@support.prl.ab.ca
SUMMARY:Canada Summer Jobs Grant Application Due
DESCRIPTION:
URL:https://support.prl.ab.ca/index.php/event/canada-summer-jobs-application-due/
CATEGORIES:Deadline,Grants,Notable Dates
END:VEVENT
BEGIN:VEVENT
DTSTART;VALUE=DATE:20220228
DTEND;VALUE=DATE:20220301
DTSTAMP:20260419T175040
CREATED:20191127T163153Z
LAST-MODIFIED:20220217T175212Z
UID:1959-1646006400-1646092799@support.prl.ab.ca
SUMMARY:Annual Report & Survey
DESCRIPTION:Annual Report & Survey is due to Municipal Affairs by February 28th\, 2022. \n 
URL:https://support.prl.ab.ca/index.php/event/annual-report-survey/
CATEGORIES:Deadline,PLSB
END:VEVENT
BEGIN:VEVENT
DTSTART;VALUE=DATE:20210615
DTEND;VALUE=DATE:20210616
DTSTAMP:20260419T175040
CREATED:20210406T155422Z
LAST-MODIFIED:20210406T155422Z
UID:3060-1623715200-1623801599@support.prl.ab.ca
SUMMARY:Deadline: Public Library Board Operating Grants
DESCRIPTION:Public Library Board Operating Grants due on June 15th and then add a link to this page https://www.alberta.ca/public-library-board-operating-grants.aspx
URL:https://support.prl.ab.ca/index.php/event/deadline-public-library-board-operating-grants/
CATEGORIES:Deadline
END:VEVENT
END:VCALENDAR