BEGIN:VCALENDAR
VERSION:2.0
PRODID:-//PRLS Support Site - ECPv6.15.17.1//NONSGML v1.0//EN
CALSCALE:GREGORIAN
METHOD:PUBLISH
X-WR-CALNAME:PRLS Support Site
X-ORIGINAL-URL:https://support.prl.ab.ca
X-WR-CALDESC:Events for PRLS Support Site
REFRESH-INTERVAL;VALUE=DURATION:PT1H
X-Robots-Tag:noindex
X-PUBLISHED-TTL:PT1H
BEGIN:VTIMEZONE
TZID:America/Edmonton
BEGIN:DAYLIGHT
TZOFFSETFROM:-0700
TZOFFSETTO:-0600
TZNAME:MDT
DTSTART:20190310T090000
END:DAYLIGHT
BEGIN:STANDARD
TZOFFSETFROM:-0600
TZOFFSETTO:-0700
TZNAME:MST
DTSTART:20191103T080000
END:STANDARD
BEGIN:DAYLIGHT
TZOFFSETFROM:-0700
TZOFFSETTO:-0600
TZNAME:MDT
DTSTART:20200308T090000
END:DAYLIGHT
BEGIN:STANDARD
TZOFFSETFROM:-0600
TZOFFSETTO:-0700
TZNAME:MST
DTSTART:20201101T080000
END:STANDARD
BEGIN:DAYLIGHT
TZOFFSETFROM:-0700
TZOFFSETTO:-0600
TZNAME:MDT
DTSTART:20210314T090000
END:DAYLIGHT
BEGIN:STANDARD
TZOFFSETFROM:-0600
TZOFFSETTO:-0700
TZNAME:MST
DTSTART:20211107T080000
END:STANDARD
END:VTIMEZONE
BEGIN:VEVENT
DTSTART;TZID=America/Edmonton:20201001T080000
DTEND;TZID=America/Edmonton:20201002T170000
DTSTAMP:20260425T063251
CREATED:20200610T154038Z
LAST-MODIFIED:20200811T170449Z
UID:2460-1601539200-1601658000@support.prl.ab.ca
SUMMARY:Stronger Together: Virtual Conference
DESCRIPTION:Unprecedented times call for unprecedented approaches to collaboration and connection. \n\n\n\n\n\n\nA joint effort of The Alberta Library\, Parkland Regional Library System\, Peace Library System and Yellowhead Regional Library\, Stronger Together is a virtual conference that you can attend without leaving your home or office. \nFeaturing 4 keynote speakers\, 24 session options and opportunities to engage and interact\, Stronger Together is designed for libraries and library trustees to connect and learn at a time when meeting in person isn’t possible. \nDate: October 1st & 2nd\, 2020 \nRegistration is now open. Register: https://strongertogether.heysummit.com/ 
URL:https://support.prl.ab.ca/index.php/event/stronger-together-virtual-conference/
CATEGORIES:Conferences
END:VEVENT
END:VCALENDAR